Workbook

Sheet Дашборд
B1: PLANT PERFORMANCE · plantperformance.ru
B2: Входной контроль: сводка
B3: ="Данные на "&TEXT(TODAY(),"DD.MM.YYYY")&" · обновляется из журнала"
B5: Партий проверено | D5: Забраковано | F5: % брака на входе | H5: На карантине | J5: Поставщиков «C» | L5: Дней до решения
B6: =COUNT(Журнал!B6:B505) | D6: =COUNTIF(Журнал!L6:L505,"Забраковано") | F6: =IFERROR(D6/B6,0) | H6: =COUNTIF(Журнал!L6:L505,"Карантин") | J6: =COUNTIF('Рейтинг поставщиков'!G6:G35,"C") | L6: =IFERROR(AVERAGE(Журнал!P6:P505),0)
B7: с начала учёта | D7: партий | F7: по числу партий | H7: ждут решения | J7: нужна претензия | L7: в среднем
B27: Как пользоваться
B28: 1. «Справочники»: материалы с категорией и тем, что проверять, и список поставщиков.
B29: 2. «Журнал»: каждая поступившая партия — строка. Подсказка «что проверить» подставится сама; выберите решение.
B30: 3. «Рейтинг поставщиков» и этот дашборд считаются автоматически. Красное — повод для претензии.
B31: 4. Для печати — лист «Бланк журнала», при браке — «Акт о браке». Полная система качества завода: plantperformance.ru
B33: Данные для диаграмм
B34: Месяц | C34: Партий | D34: Забраковано | E34: % брака
B35: Янв | C35: =COUNTIFS(Журнал!$B$6:$B$505,">="&DATE(YEAR(TODAY()),1,1),Журнал!$B$6:$B$505,"<="&EOMONTH(DATE(YEAR(TODAY()),1,1),0)) | D35: =COUNTIFS(Журнал!$B$6:$B$505,">="&DATE(YEAR(TODAY()),1,1),Журнал!$B$6:$B$505,"<="&EOMONTH(DATE(YEAR(TODAY()),1,1),0),Журнал!$L$6:$L$505,"Забраковано") | E35: =IF(C35=0,NA(),D35/C35)
B36: Фев | C36: =COUNTIFS(Журнал!$B$6:$B$505,">="&DATE(YEAR(TODAY()),2,1),Журнал!$B$6:$B$505,"<="&EOMONTH(DATE(YEAR(TODAY()),2,1),0)) | D36: =COUNTIFS(Журнал!$B$6:$B$505,">="&DATE(YEAR(TODAY()),2,1),Журнал!$B$6:$B$505,"<="&EOMONTH(DATE(YEAR(TODAY()),2,1),0),Журнал!$L$6:$L$505,"Забраковано") | E36: =IF(C36=0,NA(),D36/C36)
B37: Мар | C37: =COUNTIFS(Журнал!$B$6:$B$505,">="&DATE(YEAR(TODAY()),3,1),Журнал!$B$6:$B$505,"<="&EOMONTH(DATE(YEAR(TODAY()),3,1),0)) | D37: =COUNTIFS(Журнал!$B$6:$B$505,">="&DATE(YEAR(TODAY()),3,1),Журнал!$B$6:$B$505,"<="&EOMONTH(DATE(YEAR(TODAY()),3,1),0),Журнал!$L$6:$L$505,"Забраковано") | E37: =IF(C37=0,NA(),D37/C37)
B38: Апр | C38: =COUNTIFS(Журнал!$B$6:$B$505,">="&DATE(YEAR(TODAY()),4,1),Журнал!$B$6:$B$505,"<="&EOMONTH(DATE(YEAR(TODAY()),4,1),0)) | D38: =COUNTIFS(Журнал!$B$6:$B$505,">="&DATE(YEAR(TODAY()),4,1),Журнал!$B$6:$B$505,"<="&EOMONTH(DATE(YEAR(TODAY()),4,1),0),Журнал!$L$6:$L$505,"Забраковано") | E38: =IF(C38=0,NA(),D38/C38)
B39: Май | C39: =COUNTIFS(Журнал!$B$6:$B$505,">="&DATE(YEAR(TODAY()),5,1),Журнал!$B$6:$B$505,"<="&EOMONTH(DATE(YEAR(TODAY()),5,1),0)) | D39: =COUNTIFS(Журнал!$B$6:$B$505,">="&DATE(YEAR(TODAY()),5,1),Журнал!$B$6:$B$505,"<="&EOMONTH(DATE(YEAR(TODAY()),5,1),0),Журнал!$L$6:$L$505,"Забраковано") | E39: =IF(C39=0,NA(),D39/C39)
B40: Июн | C40: =COUNTIFS(Журнал!$B$6:$B$505,">="&DATE(YEAR(TODAY()),6,1),Журнал!$B$6:$B$505,"<="&EOMONTH(DATE(YEAR(TODAY()),6,1),0)) | D40: =COUNTIFS(Журнал!$B$6:$B$505,">="&DATE(YEAR(TODAY()),6,1),Журнал!$B$6:$B$505,"<="&EOMONTH(DATE(YEAR(TODAY()),6,1),0),Журнал!$L$6:$L$505,"Забраковано") | E40: =IF(C40=0,NA(),D40/C40)
B41: Июл | C41: =COUNTIFS(Журнал!$B$6:$B$505,">="&DATE(YEAR(TODAY()),7,1),Журнал!$B$6:$B$505,"<="&EOMONTH(DATE(YEAR(TODAY()),7,1),0)) | D41: =COUNTIFS(Журнал!$B$6:$B$505,">="&DATE(YEAR(TODAY()),7,1),Журнал!$B$6:$B$505,"<="&EOMONTH(DATE(YEAR(TODAY()),7,1),0),Журнал!$L$6:$L$505,"Забраковано") | E41: =IF(C41=0,NA(),D41/C41)
B42: Авг | C42: =COUNTIFS(Журнал!$B$6:$B$505,">="&DATE(YEAR(TODAY()),8,1),Журнал!$B$6:$B$505,"<="&EOMONTH(DATE(YEAR(TODAY()),8,1),0)) | D42: =COUNTIFS(Журнал!$B$6:$B$505,">="&DATE(YEAR(TODAY()),8,1),Журнал!$B$6:$B$505,"<="&EOMONTH(DATE(YEAR(TODAY()),8,1),0),Журнал!$L$6:$L$505,"Забраковано") | E42: =IF(C42=0,NA(),D42/C42)
B43: Сен | C43: =COUNTIFS(Журнал!$B$6:$B$505,">="&DATE(YEAR(TODAY()),9,1),Журнал!$B$6:$B$505,"<="&EOMONTH(DATE(YEAR(TODAY()),9,1),0)) | D43: =COUNTIFS(Журнал!$B$6:$B$505,">="&DATE(YEAR(TODAY()),9,1),Журнал!$B$6:$B$505,"<="&EOMONTH(DATE(YEAR(TODAY()),9,1),0),Журнал!$L$6:$L$505,"Забраковано") | E43: =IF(C43=0,NA(),D43/C43)
B44: Окт | C44: =COUNTIFS(Журнал!$B$6:$B$505,">="&DATE(YEAR(TODAY()),10,1),Журнал!$B$6:$B$505,"<="&EOMONTH(DATE(YEAR(TODAY()),10,1),0)) | D44: =COUNTIFS(Журнал!$B$6:$B$505,">="&DATE(YEAR(TODAY()),10,1),Журнал!$B$6:$B$505,"<="&EOMONTH(DATE(YEAR(TODAY()),10,1),0),Журнал!$L$6:$L$505,"Забраковано") | E44: =IF(C44=0,NA(),D44/C44)
B45: Ноя | C45: =COUNTIFS(Журнал!$B$6:$B$505,">="&DATE(YEAR(TODAY()),11,1),Журнал!$B$6:$B$505,"<="&EOMONTH(DATE(YEAR(TODAY()),11,1),0)) | D45: =COUNTIFS(Журнал!$B$6:$B$505,">="&DATE(YEAR(TODAY()),11,1),Журнал!$B$6:$B$505,"<="&EOMONTH(DATE(YEAR(TODAY()),11,1),0),Журнал!$L$6:$L$505,"Забраковано") | E45: =IF(C45=0,NA(),D45/C45)
B46: Дек | C46: =COUNTIFS(Журнал!$B$6:$B$505,">="&DATE(YEAR(TODAY()),12,1),Журнал!$B$6:$B$505,"<="&EOMONTH(DATE(YEAR(TODAY()),12,1),0)) | D46: =COUNTIFS(Журнал!$B$6:$B$505,">="&DATE(YEAR(TODAY()),12,1),Журнал!$B$6:$B$505,"<="&EOMONTH(DATE(YEAR(TODAY()),12,1),0),Журнал!$L$6:$L$505,"Забраковано") | E46: =IF(C46=0,NA(),D46/C46)

Sheet Журнал
A1: PLANT PERFORMANCE · plantperformance.ru
A2: Журнал входного контроля материалов
A3: Одна строка — одна партия. Ввод в жёлтые ячейки, остальное заполнится само. Форма по ГОСТ 24297-2013 «Верификация закупленной продукции».
A5: № | B5: Дата поступления | C5: Код | D5: Материал / изделие | E5: Поставщик | F5: Документ о качестве (№, дата) | G5: № партии | H5: Кол-во | I5: Ед. | J5: Что проверить | K5: Результат проверки (факт) | L5: Решение | M5: Дата решения | N5: Контролёр | O5: Акт / примечание | P5: Дней до решения | Q5: Кат.
A6: =IF(B6="","",ROW()-5) | B6: 46031 | C6: М-06 | D6: =IF(C6="","",IFERROR(INDEX(Справочники!$B$6:$B$45,MATCH(C6,Справочники!$A$6:$A$45,0)),"нет в справочнике")) | E6: ООО «ЭлектроМаш» | F6: С-5039 от 09.01 | G6: П489 | H6: 50 | I6: =IF(C6="","",IFERROR(INDEX(Справочники!$C$6:$C$45,MATCH(C6,Справочники!$A$6:$A$45,0)),"")) | J6: =IF(C6="","",IFERROR(INDEX(Справочники!$E$6:$E$45,MATCH(C6,Справочники!$A$6:$A$45,0)),"")) | K6: Соответствует | L6: Принято | M6: 46031 | N6: Орлова Т. | P6: =IF(B6="","",IF(M6="",IF(L6="Карантин",INT(TODAY())-B6,""),M6-B6)) | Q6: =IF(C6="","",IFERROR(INDEX(Справочники!$D$6:$D$45,MATCH(C6,Справочники!$A$6:$A$45,0)),""))
A7: =IF(B7="","",ROW()-5) | B7: 46032 | C7: М-01 | D7: =IF(C7="","",IFERROR(INDEX(Справочники!$B$6:$B$45,MATCH(C7,Справочники!$A$6:$A$45,0)),"нет в справочнике")) | E7: ООО «Металл-Сервис» | F7: С-8288 от 10.01 | G7: П229 | H7: 18.5 | I7: =IF(C7="","",IFERROR(INDEX(Справочники!$C$6:$C$45,MATCH(C7,Справочники!$A$6:$A$45,0)),"")) | J7: =IF(C7="","",IFERROR(INDEX(Справочники!$E$6:$E$45,MATCH(C7,Справочники!$A$6:$A$45,0)),"")) | K7: Соответствует | L7: Принято | M7: 46032 | N7: Иванова Е. | P7: =IF(B7="","",IF(M7="",IF(L7="Карантин",INT(TODAY())-B7,""),M7-B7)) | Q7: =IF(C7="","",IFERROR(INDEX(Справочники!$D$6:$D$45,MATCH(C7,Справочники!$A$6:$A$45,0)),""))
A8: =IF(B8="","",ROW()-5) | B8: 46034 | C8: М-03 | D8: =IF(C8="","",IFERROR(INDEX(Справочники!$B$6:$B$45,MATCH(C8,Справочники!$A$6:$A$45,0)),"нет в справочнике")) | E8: ООО «СварТехСнаб» | F8: С-7278 от 12.01 | G8: П405 | H8: 1000 | I8: =IF(C8="","",IFERROR(INDEX(Справочники!$C$6:$C$45,MATCH(C8,Справочники!$A$6:$A$45,0)),"")) | J8: =IF(C8="","",IFERROR(INDEX(Справочники!$E$6:$E$45,MATCH(C8,Справочники!$A$6:$A$45,0)),"")) | K8: Соответствует | L8: Принято | M8: 46034 | N8: Иванова Е. | P8: =IF(B8="","",IF(M8="",IF(L8="Карантин",INT(TODAY())-B8,""),M8-B8)) | Q8: =IF(C8="","",IFERROR(INDEX(Справочники!$D$6:$D$45,MATCH(C8,Справочники!$A$6:$A$45,0)),""))
A9: =IF(B9="","",ROW()-5) | B9: 46036 | C9: М-03 | D9: =IF(C9="","",IFERROR(INDEX(Справочники!$B$6:$B$45,MATCH(C9,Справочники!$A$6:$A$45,0)),"нет в справочнике")) | E9: ООО «СварТехСнаб» | F9: С-2081 от 14.01 | G9: П417 | H9: 1000 | I9: =IF(C9="","",IFERROR(INDEX(Справочники!$C$6:$C$45,MATCH(C9,Справочники!$A$6:$A$45,0)),"")) | J9: =IF(C9="","",IFERROR(INDEX(Справочники!$E$6:$E$45,MATCH(C9,Справочники!$A$6:$A$45,0)),"")) | K9: Соответствует | L9: Принято | M9: 46037 | N9: Смирнов К. | P9: =IF(B9="","",IF(M9="",IF(L9="Карантин",INT(TODAY())-B9,""),M9-B9)) | Q9: =IF(C9="","",IFERROR(INDEX(Справочники!$D$6:$D$45,MATCH(C9,Справочники!$A$6:$A$45,0)),""))
A10: =IF(B10="","",ROW()-5) | B10: 46036 | C10: М-05 | D10: =IF(C10="","",IFERROR(INDEX(Справочники!$B$6:$B$45,MATCH(C10,Справочники!$A$6:$A$45,0)),"нет в справочнике")) | E10: ООО «Крепёж-Опт» | F10: С-1374 от 14.01 | G10: П867 | H10: 100 | I10: =IF(C10="","",IFERROR(INDEX(Справочники!$C$6:$C$45,MATCH(C10,Справочники!$A$6:$A$45,0)),"")) | J10: =IF(C10="","",IFERROR(INDEX(Справочники!$E$6:$E$45,MATCH(C10,Справочники!$A$6:$A$45,0)),"")) | K10: Соответствует | L10: Принято | M10: 46036 | N10: Смирнов К. | P10: =IF(B10="","",IF(M10="",IF(L10="Карантин",INT(TODAY())-B10,""),M10-B10)) | Q10: =IF(C10="","",IFERROR(INDEX(Справочники!$D$6:$D$45,MATCH(C10,Справочники!$A$6:$A$45,0)),""))
A11: =IF(B11="","",ROW()-5) | B11: 46041 | C11: М-06 | D11: =IF(C11="","",IFERROR(INDEX(Справочники!$B$6:$B$45,MATCH(C11,Справочники!$A$6:$A$45,0)),"нет в справочнике")) | E11: ООО «ЭлектроМаш» | F11: С-2950 от 19.01 | G11: П873 | H11: 100 | I11: =IF(C11="","",IFERROR(INDEX(Справочники!$C$6:$C$45,MATCH(C11,Справочники!$A$6:$A$45,0)),"")) | J11: =IF(C11="","",IFERROR(INDEX(Справочники!$E$6:$E$45,MATCH(C11,Справочники!$A$6:$A$45,0)),"")) | K11: Соответствует | L11: Принято | M11: 46041 | N11: Иванова Е. | P11: =IF(B11="","",IF(M11="",IF(L11="Карантин",INT(TODAY())-B11,""),M11-B11)) | Q11: =IF(C11="","",IFERROR(INDEX(Справочники!$D$6:$D$45,MATCH(C11,Справочники!$A$6:$A$45,0)),""))
A12: =IF(B12="","",ROW()-5) | B12: 46041 | C12: М-08 | D12: =IF(C12="","",IFERROR(INDEX(Справочники!$B$6:$B$45,MATCH(C12,Справочники!$A$6:$A$45,0)),"нет в справочнике")) | E12: ООО «КабельТорг» | F12: С-5847 от 19.01 | G12: П137 | H12: 2000 | I12: =IF(C12="","",IFERROR(INDEX(Справочники!$C$6:$C$45,MATCH(C12,Справочники!$A$6:$A$45,0)),"")) | J12: =IF(C12="","",IFERROR(INDEX(Справочники!$E$6:$E$45,MATCH(C12,Справочники!$A$6:$A$45,0)),"")) | K12: Соответствует | L12: Принято | M12: 46043 | N12: Смирнов К. | P12: =IF(B12="","",IF(M12="",IF(L12="Карантин",INT(TODAY())-B12,""),M12-B12)) | Q12: =IF(C12="","",IFERROR(INDEX(Справочники!$D$6:$D$45,MATCH(C12,Справочники!$A$6:$A$45,0)),""))
A13: =IF(B13="","",ROW()-5) | B13: 46042 | C13: М-06 | D13: =IF(C13="","",IFERROR(INDEX(Справочники!$B$6:$B$45,MATCH(C13,Справочники!$A$6:$A$45,0)),"нет в справочнике")) | E13: ООО «ЭлектроМаш» | F13: С-6016 от 20.01 | G13: П281 | H13: 50 | I13: =IF(C13="","",IFERROR(INDEX(Справочники!$C$6:$C$45,MATCH(C13,Справочники!$A$6:$A$45,0)),"")) | J13: =IF(C13="","",IFERROR(INDEX(Справочники!$E$6:$E$45,MATCH(C13,Справочники!$A$6:$A$45,0)),"")) | K13: Соответствует | L13: Принято | M13: 46043 | N13: Иванова Е. | P13: =IF(B13="","",IF(M13="",IF(L13="Карантин",INT(TODAY())-B13,""),M13-B13)) | Q13: =IF(C13="","",IFERROR(INDEX(Справочники!$D$6:$D$45,MATCH(C13,Справочники!$A$6:$A$45,0)),""))
A14: =IF(B14="","",ROW()-5) | B14: 46045 | C14: М-05 | D14: =IF(C14="","",IFERROR(INDEX(Справочники!$B$6:$B$45,MATCH(C14,Справочники!$A$6:$A$45,0)),"нет в справочнике")) | E14: ООО «Крепёж-Опт» | F14: С-6633 от 23.01 | G14: П946 | H14: 1000 | I14: =IF(C14="","",IFERROR(INDEX(Справочники!$C$6:$C$45,MATCH(C14,Справочники!$A$6:$A$45,0)),"")) | J14: =IF(C14="","",IFERROR(INDEX(Справочники!$E$6:$E$45,MATCH(C14,Справочники!$A$6:$A$45,0)),"")) | K14: Соответствует | L14: Принято | M14: 46045 | N14: Смирнов К. | P14: =IF(B14="","",IF(M14="",IF(L14="Карантин",INT(TODAY())-B14,""),M14-B14)) | Q14: =IF(C14="","",IFERROR(INDEX(Справочники!$D$6:$D$45,MATCH(C14,Справочники!$A$6:$A$45,0)),""))
A15: =IF(B15="","",ROW()-5) | B15: 46047 | C15: М-03 | D15: =IF(C15="","",IFERROR(INDEX(Справочники!$B$6:$B$45,MATCH(C15,Справочники!$A$6:$A$45,0)),"нет в справочнике")) | E15: ООО «СварТехСнаб» | F15: С-7780 от 25.01 | G15: П209 | H15: 500 | I15: =IF(C15="","",IFERROR(INDEX(Справочники!$C$6:$C$45,MATCH(C15,Справочники!$A$6:$A$45,0)),"")) | J15: =IF(C15="","",IFERROR(INDEX(Справочники!$E$6:$E$45,MATCH(C15,Справочники!$A$6:$A$45,0)),"")) | K15: Соответствует | L15: Принято | M15: 46047 | N15: Иванова Е. | P15: =IF(B15="","",IF(M15="",IF(L15="Карантин",INT(TODAY())-B15,""),M15-B15)) | Q15: =IF(C15="","",IFERROR(INDEX(Справочники!$D$6:$D$45,MATCH(C15,Справочники!$A$6:$A$45,0)),""))
A16: =IF(B16="","",ROW()-5) | B16: 46047 | C16: М-07 | D16: =IF(C16="","",IFERROR(INDEX(Справочники!$B$6:$B$45,MATCH(C16,Справочники!$A$6:$A$45,0)),"нет в справочнике")) | E16: ООО «Подшипник-Центр» | F16: С-8997 от 25.01 | G16: П805 | H16: 100 | I16: =IF(C16="","",IFERROR(INDEX(Справочники!$C$6:$C$45,MATCH(C16,Справочники!$A$6:$A$45,0)),"")) | J16: =IF(C16="","",IFERROR(INDEX(Справочники!$E$6:$E$45,MATCH(C16,Справочники!$A$6:$A$45,0)),"")) | K16: Соответствует | L16: Принято | M16: 46048 | N16: Орлова Т. | P16: =IF(B16="","",IF(M16="",IF(L16="Карантин",INT(TODAY())-B16,""),M16-B16)) | Q16: =IF(C16="","",IFERROR(INDEX(Справочники!$D$6:$D$45,MATCH(C16,Справочники!$A$6:$A$45,0)),""))
A17: =IF(B17="","",ROW()-5) | B17: 46049 | C17: М-05 | D17: =IF(C17="","",IFERROR(INDEX(Справочники!$B$6:$B$45,MATCH(C17,Справочники!$A$6:$A$45,0)),"нет в справочнике")) | E17: ООО «Крепёж-Опт» | F17: С-6545 от 27.01 | G17: П284 | H17: 100 | I17: =IF(C17="","",IFERROR(INDEX(Справочники!$C$6:$C$45,MATCH(C17,Справочники!$A$6:$A$45,0)),"")) | J17: =IF(C17="","",IFERROR(INDEX(Справочники!$E$6:$E$45,MATCH(C17,Справочники!$A$6:$A$45,0)),"")) | K17: Соответствует | L17: Принято | M17: 46049 | N17: Иванова Е. | P17: =IF(B17="","",IF(M17="",IF(L17="Карантин",INT(TODAY())-B17,""),M17-B17)) | Q17: =IF(C17="","",IFERROR(INDEX(Справочники!$D$6:$D$45,MATCH(C17,Справочники!$A$6:$A$45,0)),""))
... A37: =IF(B37="","",ROW()-5) | B37: 46090 | C37: М-05 | D37: =IF(C37="","",IFERROR(INDEX(Справочники!$B$6:$B$45,MATCH(C37,Справочники!$A$6:$A$45,0)),"нет в справочнике")) | E37: ООО «Крепёж-Опт» | F37: С-1713 от 09.03 | G37: П668 | H37: 50 | I37: =IF(C37="","",IFERROR(INDEX(Справочники!$C$6:$C$45,MATCH(C37,Справочники!$A$6:$A$45,0)),"")) | J37: =IF(C37="","",IFERROR(INDEX(Справочники!$E$6:$E$45,MATCH(C37,Справочники!$A$6:$A$45,0)),"")) | K37: Соответствует | L37: Принято | M37: 46092 | N37: Иванова Е. | P37: =IF(B37="","",IF(M37="",IF(L37="Карантин",INT(TODAY())-B37,""),M37-B37)) | Q37: =IF(C37="","",IFERROR(INDEX(Справочники!$D$6:$D$45,MATCH(C37,Справочники!$A$6:$A$45,0)),""))
A38: =IF(B38="","",ROW()-5) | B38: 46093 | C38: М-02 | D38: =IF(C38="","",IFERROR(INDEX(Справочники!$B$6:$B$45,MATCH(C38,Справочники!$A$6:$A$45,0)),"нет в справочнике")) | E38: АО «СтальПром» | F38: С-2498 от 12.03 | G38: П422 | H38: 15.4 | I38: =IF(C38="","",IFERROR(INDEX(Справочники!$C$6:$C$45,MATCH(C38,Справочники!$A$6:$A$45,0)),"")) | J38: =IF(C38="","",IFERROR(INDEX(Справочники!$E$6:$E$45,MATCH(C38,Справочники!$A$6:$A$45,0)),"")) | K38: Коррозия на поверхности | L38: Забраковано | M38: 46097 | N38: Орлова Т. | O38: Акт № 33 | P38: =IF(B38="","",IF(M38="",IF(L38="Карантин",INT(TODAY())-B38,""),M38-B38)) | Q38: =IF(C38="","",IFERROR(INDEX(Справочники!$D$6:$D$45,MATCH(C38,Справочники!$A$6:$A$45,0)),""))
A39: =IF(B39="","",ROW()-5) | B39: 46093 | C39: М-10 | D39: =IF(C39="","",IFERROR(INDEX(Справочники!$B$6:$B$45,MATCH(C39,Справочники!$A$6:$A$45,0)),"нет в справочнике")) | E39: ООО «Подшипник-Центр» | F39: С-4614 от 12.03 | G39: П369 | H39: 500 | I39: =IF(C39="","",IFERROR(INDEX(Справочники!$C$6:$C$45,MATCH(C39,Справочники!$A$6:$A$45,0)),"")) | J39: =IF(C39="","",IFERROR(INDEX(Справочники!$E$6:$E$45,MATCH(C39,Справочники!$A$6:$A$45,0)),"")) | K39: Соответствует | L39: Принято | M39: 46094 | N39: Иванова Е. | P39: =IF(B39="","",IF(M39="",IF(L39="Карантин",INT(TODAY())-B39,""),M39-B39)) | Q39: =IF(C39="","",IFERROR(INDEX(Справочники!$D$6:$D$45,MATCH(C39,Справочники!$A$6:$A$45,0)),""))
A40: =IF(B40="","",ROW()-5) | B40: 46096 | C40: М-05 | D40: =IF(C40="","",IFERROR(INDEX(Справочники!$B$6:$B$45,MATCH(C40,Справочники!$A$6:$A$45,0)),"нет в справочнике")) | E40: ООО «Крепёж-Опт» | F40: С-3937 от 15.03 | G40: П234 | H40: 1000 | I40: =IF(C40="","",IFERROR(INDEX(Справочники!$C$6:$C$45,MATCH(C40,Справочники!$A$6:$A$45,0)),"")) | J40: =IF(C40="","",IFERROR(INDEX(Справочники!$E$6:$E$45,MATCH(C40,Справочники!$A$6:$A$45,0)),"")) | K40: Соответствует | L40: Принято | M40: 46096 | N40: Орлова Т. | P40: =IF(B40="","",IF(M40="",IF(L40="Карантин",INT(TODAY())-B40,""),M40-B40)) | Q40: =IF(C40="","",IFERROR(INDEX(Справочники!$D$6:$D$45,MATCH(C40,Справочники!$A$6:$A$45,0)),""))
A41: =IF(B41="","",ROW()-5) | B41: 46097 | C41: М-02 | D41: =IF(C41="","",IFERROR(INDEX(Справочники!$B$6:$B$45,MATCH(C41,Справочники!$A$6:$A$45,0)),"нет в справочнике")) | E41: ООО «Металл-Сервис» | F41: С-8871 от 16.03 | G41: П431 | H41: 11.1 | I41: =IF(C41="","",IFERROR(INDEX(Справочники!$C$6:$C$45,MATCH(C41,Справочники!$A$6:$A$45,0)),"")) | J41: =IF(C41="","",IFERROR(INDEX(Справочники!$E$6:$E$45,MATCH(C41,Справочники!$A$6:$A$45,0)),"")) | K41: Соответствует | L41: Принято | M41: 46097 | N41: Иванова Е. | P41: =IF(B41="","",IF(M41="",IF(L41="Карантин",INT(TODAY())-B41,""),M41-B41)) | Q41: =IF(C41="","",IFERROR(INDEX(Справочники!$D$6:$D$45,MATCH(C41,Справочники!$A$6:$A$45,0)),""))
A42: =IF(B42="","",ROW()-5) | B42: 46103 | C42: М-01 | D42: =IF(C42="","",IFERROR(INDEX(Справочники!$B$6:$B$45,MATCH(C42,Справочники!$A$6:$A$45,0)),"нет в справочнике")) | E42: ООО «Металл-Сервис» | F42: С-4465 от 22.03 | G42: П243 | H42: 14.3 | I42: =IF(C42="","",IFERROR(INDEX(Справочники!$C$6:$C$45,MATCH(C42,Справочники!$A$6:$A$45,0)),"")) | J42: =IF(C42="","",IFERROR(INDEX(Справочники!$E$6:$E$45,MATCH(C42,Справочники!$A$6:$A$45,0)),"")) | K42: Соответствует | L42: Принято | M42: 46104 | N42: Орлова Т. | P42: =IF(B42="","",IF(M42="",IF(L42="Карантин",INT(TODAY())-B42,""),M42-B42)) | Q42: =IF(C42="","",IFERROR(INDEX(Справочники!$D$6:$D$45,MATCH(C42,Справочники!$A$6:$A$45,0)),""))
A43: =IF(B43="","",ROW()-5) | B43: 46103 | C43: М-10 | D43: =IF(C43="","",IFERROR(INDEX(Справочники!$B$6:$B$45,MATCH(C43,Справочники!$A$6:$A$45,0)),"нет в справочнике")) | E43: ООО «Подшипник-Центр» | F43: С-3235 от 22.03 | G43: П840 | H43: 500 | I43: =IF(C43="","",IFERROR(INDEX(Справочники!$C$6:$C$45,MATCH(C43,Справочники!$A$6:$A$45,0)),"")) | J43: =IF(C43="","",IFERROR(INDEX(Справочники!$E$6:$E$45,MATCH(C43,Справочники!$A$6:$A$45,0)),"")) | K43: Соответствует | L43: Принято | M43: 46103 | N43: Смирнов К. | P43: =IF(B43="","",IF(M43="",IF(L43="Карантин",INT(TODAY())-B43,""),M43-B43)) | Q43: =IF(C43="","",IFERROR(INDEX(Справочники!$D$6:$D$45,MATCH(C43,Справочники!$A$6:$A$45,0)),""))
A44: =IF(B44="","",ROW()-5) | B44: 46106 | C44: М-07 | D44: =IF(C44="","",IFERROR(INDEX(Справочники!$B$6:$B$45,MATCH(C44,Справочники!$A$6:$A$45,0)),"нет в справочнике")) | E44: ООО «Подшипник-Центр» | F44: С-2589 от 25.03 | G44: П137 | H44: 100 | I44: =IF(C44="","",IFERROR(INDEX(Справочники!$C$6:$C$45,MATCH(C44,Справочники!$A$6:$A$45,0)),"")) | J44: =IF(C44="","",IFERROR(INDEX(Справочники!$E$6:$E$45,MATCH(C44,Справочники!$A$6:$A$45,0)),"")) | K44: Соответствует | L44: Принято | M44: 46108 | N44: Иванова Е. | P44: =IF(B44="","",IF(M44="",IF(L44="Карантин",INT(TODAY())-B44,""),M44-B44)) | Q44: =IF(C44="","",IFERROR(INDEX(Справочники!$D$6:$D$45,MATCH(C44,Справочники!$A$6:$A$45,0)),""))
A45: =IF(B45="","",ROW()-5) | B45: 46107 | C45: М-04 | D45: =IF(C45="","",IFERROR(INDEX(Справочники!$B$6:$B$45,MATCH(C45,Справочники!$A$6:$A$45,0)),"нет в справочнике")) | E45: ООО «Колор-Покрытия» | F45: С-5924 от 26.03 | G45: П734 | H45: 500 | I45: =IF(C45="","",IFERROR(INDEX(Справочники!$C$6:$C$45,MATCH(C45,Справочники!$A$6:$A$45,0)),"")) | J45: =IF(C45="","",IFERROR(INDEX(Справочники!$E$6:$E$45,MATCH(C45,Справочники!$A$6:$A$45,0)),"")) | K45: Соответствует | L45: Принято | M45: 46108 | N45: Смирнов К. | P45: =IF(B45="","",IF(M45="",IF(L45="Карантин",INT(TODAY())-B45,""),M45-B45)) | Q45: =IF(C45="","",IFERROR(INDEX(Справочники!$D$6:$D$45,MATCH(C45,Справочники!$A$6:$A$45,0)),""))
A46: =IF(B46="","",ROW()-5) | B46: 46109 | C46: М-08 | D46: =IF(C46="","",IFERROR(INDEX(Справочники!$B$6:$B$45,MATCH(C46,Справочники!$A$6:$A$45,0)),"нет в справочнике")) | E46: ООО «КабельТорг» | F46: С-2806 от 28.03 | G46: П384 | H46: 500 | I46: =IF(C46="","",IFERROR(INDEX(Справочники!$C$6:$C$45,MATCH(C46,Справочники!$A$6:$A$45,0)),"")) | J46: =IF(C46="","",IFERROR(INDEX(Справочники!$E$6:$E$45,MATCH(C46,Справочники!$A$6:$A$45,0)),"")) | K46: Соответствует | L46: Принято | M46: 46109 | N46: Иванова Е. | P46: =IF(B46="","",IF(M46="",IF(L46="Карантин",INT(TODAY())-B46,""),M46-B46)) | Q46: =IF(C46="","",IFERROR(INDEX(Справочники!$D$6:$D$45,MATCH(C46,Справочники!$A$6:$A$45,0)),""))
A47: =IF(B47="","",ROW()-5) | B47: 46109 | C47: М-05 | D47: =IF(C47="","",IFERROR(INDEX(Справочники!$B$6:$B$45,MATCH(C47,Справочники!$A$6:$A$45,0)),"нет в справочнике")) | E47: ООО «Крепёж-Опт» | F47: С-8481 от 28.03 | G47: П583 | H47: 500 | I47: =IF(C47="","",IFERROR(INDEX(Справочники!$C$6:$C$45,MATCH(C47,Справочники!$A$6:$A$45,0)),"")) | J47: =IF(C47="","",IFERROR(INDEX(Справочники!$E$6:$E$45,MATCH(C47,Справочники!$A$6:$A$45,0)),"")) | K47: Соответствует | L47: Принято | M47: 46109 | N47: Иванова Е. | P47: =IF(B47="","",IF(M47="",IF(L47="Карантин",INT(TODAY())-B47,""),M47-B47)) | Q47: =IF(C47="","",IFERROR(INDEX(Справочники!$D$6:$D$45,MATCH(C47,Справочники!$A$6:$A$45,0)),""))
A48: =IF(B48="","",ROW()-5) | B48: 46110 | C48: М-05 | D48: =IF(C48="","",IFERROR(INDEX(Справочники!$B$6:$B$45,MATCH(C48,Справочники!$A$6:$A$45,0)),"нет в справочнике")) | E48: ООО «Крепёж-Опт» | F48: С-2281 от 29.03 | G48: П732 | H48: 50 | I48: =IF(C48="","",IFERROR(INDEX(Справочники!$C$6:$C$45,MATCH(C48,Справочники!$A$6:$A$45,0)),"")) | J48: =IF(C48="","",IFERROR(INDEX(Справочники!$E$6:$E$45,MATCH(C48,Справочники!$A$6:$A$45,0)),"")) | K48: Соответствует | L48: Принято | M48: 46110 | N48: Смирнов К. | P48: =IF(B48="","",IF(M48="",IF(L48="Карантин",INT(TODAY())-B48,""),M48-B48)) | Q48: =IF(C48="","",IFERROR(INDEX(Справочники!$D$6:$D$45,MATCH(C48,Справочники!$A$6:$A$45,0)),""))
A49: =IF(B49="","",ROW()-5) | B49: 46113 | C49: М-05 | D49: =IF(C49="","",IFERROR(INDEX(Справочники!$B$6:$B$45,MATCH(C49,Справочники!$A$6:$A$45,0)),"нет в справочнике")) | E49: ООО «Крепёж-Опт» | F49: С-3877 от 01.04 | G49: П788 | H49: 1000 | I49: =IF(C49="","",IFERROR(INDEX(Справочники!$C$6:$C$45,MATCH(C49,Справочники!$A$6:$A$45,0)),"")) | J49: =IF(C49="","",IFERROR(INDEX(Справочники!$E$6:$E$45,MATCH(C49,Справочники!$A$6:$A$45,0)),"")) | K49: Соответствует | L49: Принято | M49: 46114 | N49: Иванова Е. | P49: =IF(B49="","",IF(M49="",IF(L49="Карантин",INT(TODAY())-B49,""),M49-B49)) | Q49: =IF(C49="","",IFERROR(INDEX(Справочники!$D$6:$D$45,MATCH(C49,Справочники!$A$6:$A$45,0)),""))
A50: =IF(B50="","",ROW()-5) | B50: 46114 | C50: М-05 | D50: =IF(C50="","",IFERROR(INDEX(Справочники!$B$6:$B$45,MATCH(C50,Справочники!$A$6:$A$45,0)),"нет в справочнике")) | E50: ООО «Крепёж-Опт» | F50: С-9985 от 02.04 | G50: П955 | H50: 100 | I50: =IF(C50="","",IFERROR(INDEX(Справочники!$C$6:$C$45,MATCH(C50,Справочники!$A$6:$A$45,0)),"")) | J50: =IF(C50="","",IFERROR(INDEX(Справочники!$E$6:$E$45,MATCH(C50,Справочники!$A$6:$A$45,0)),"")) | K50: Соответствует | L50: Принято | M50: 46115 | N50: Орлова Т. | P50: =IF(B50="","",IF(M50="",IF(L50="Карантин",INT(TODAY())-B50,""),M50-B50)) | Q50: =IF(C50="","",IFERROR(INDEX(Справочники!$D$6:$D$45,MATCH(C50,Справочники!$A$6:$A$45,0)),""))
... A77: =IF(B77="","",ROW()-5) | B77: 46162 | C77: М-07 | D77: =IF(C77="","",IFERROR(INDEX(Справочники!$B$6:$B$45,MATCH(C77,Справочники!$A$6:$A$45,0)),"нет в справочнике")) | E77: ООО «Подшипник-Центр» | F77: С-6613 от 20.05 | G77: П860 | H77: 50 | I77: =IF(C77="","",IFERROR(INDEX(Справочники!$C$6:$C$45,MATCH(C77,Справочники!$A$6:$A$45,0)),"")) | J77: =IF(C77="","",IFERROR(INDEX(Справочники!$E$6:$E$45,MATCH(C77,Справочники!$A$6:$A$45,0)),"")) | K77: Соответствует | L77: Принято | M77: 46164 | N77: Иванова Е. | P77: =IF(B77="","",IF(M77="",IF(L77="Карантин",INT(TODAY())-B77,""),M77-B77)) | Q77: =IF(C77="","",IFERROR(INDEX(Справочники!$D$6:$D$45,MATCH(C77,Справочники!$A$6:$A$45,0)),""))
A78: =IF(B78="","",ROW()-5) | B78: 46162 | C78: М-08 | D78: =IF(C78="","",IFERROR(INDEX(Справочники!$B$6:$B$45,MATCH(C78,Справочники!$A$6:$A$45,0)),"нет в справочнике")) | E78: ООО «КабельТорг» | F78: С-5761 от 20.05 | G78: П610 | H78: 1000 | I78: =IF(C78="","",IFERROR(INDEX(Справочники!$C$6:$C$45,MATCH(C78,Справочники!$A$6:$A$45,0)),"")) | J78: =IF(C78="","",IFERROR(INDEX(Справочники!$E$6:$E$45,MATCH(C78,Справочники!$A$6:$A$45,0)),"")) | K78: Нет сертификата на плавку | L78: Забраковано | M78: 46166 | N78: Орлова Т. | O78: Акт № 73 | P78: =IF(B78="","",IF(M78="",IF(L78="Карантин",INT(TODAY())-B78,""),M78-B78)) | Q78: =IF(C78="","",IFERROR(INDEX(Справочники!$D$6:$D$45,MATCH(C78,Справочники!$A$6:$A$45,0)),""))
A79: =IF(B79="","",ROW()-5) | B79: 46170 | C79: М-06 | D79: =IF(C79="","",IFERROR(INDEX(Справочники!$B$6:$B$45,MATCH(C79,Справочники!$A$6:$A$45,0)),"нет в справочнике")) | E79: ООО «ЭлектроМаш» | F79: С-3389 от 28.05 | G79: П377 | H79: 500 | I79: =IF(C79="","",IFERROR(INDEX(Справочники!$C$6:$C$45,MATCH(C79,Справочники!$A$6:$A$45,0)),"")) | J79: =IF(C79="","",IFERROR(INDEX(Справочники!$E$6:$E$45,MATCH(C79,Справочники!$A$6:$A$45,0)),"")) | K79: Соответствует | L79: Принято | M79: 46170 | N79: Иванова Е. | P79: =IF(B79="","",IF(M79="",IF(L79="Карантин",INT(TODAY())-B79,""),M79-B79)) | Q79: =IF(C79="","",IFERROR(INDEX(Справочники!$D$6:$D$45,MATCH(C79,Справочники!$A$6:$A$45,0)),""))
A80: =IF(B80="","",ROW()-5) | B80: 46170 | C80: М-09 | D80: =IF(C80="","",IFERROR(INDEX(Справочники!$B$6:$B$45,MATCH(C80,Справочники!$A$6:$A$45,0)),"нет в справочнике")) | E80: ООО «Крепёж-Опт» | F80: С-6828 от 28.05 | G80: П232 | H80: 100 | I80: =IF(C80="","",IFERROR(INDEX(Справочники!$C$6:$C$45,MATCH(C80,Справочники!$A$6:$A$45,0)),"")) | J80: =IF(C80="","",IFERROR(INDEX(Справочники!$E$6:$E$45,MATCH(C80,Справочники!$A$6:$A$45,0)),"")) | K80: Соответствует | L80: Принято | M80: 46170 | N80: Иванова Е. | P80: =IF(B80="","",IF(M80="",IF(L80="Карантин",INT(TODAY())-B80,""),M80-B80)) | Q80: =IF(C80="","",IFERROR(INDEX(Справочники!$D$6:$D$45,MATCH(C80,Справочники!$A$6:$A$45,0)),""))
A81: =IF(B81="","",ROW()-5) | B81: 46171 | C81: М-06 | D81: =IF(C81="","",IFERROR(INDEX(Справочники!$B$6:$B$45,MATCH(C81,Справочники!$A$6:$A$45,0)),"нет в справочнике")) | E81: ООО «ЭлектроМаш» | F81: С-4175 от 29.05 | G81: П922 | H81: 50 | I81: =IF(C81="","",IFERROR(INDEX(Справочники!$C$6:$C$45,MATCH(C81,Справочники!$A$6:$A$45,0)),"")) | J81: =IF(C81="","",IFERROR(INDEX(Справочники!$E$6:$E$45,MATCH(C81,Справочники!$A$6:$A$45,0)),"")) | K81: Отклонение в пределах допуска заказчика, согласовано | L81: Принято с отступлением | M81: 46176 | N81: Смирнов К. | P81: =IF(B81="","",IF(M81="",IF(L81="Карантин",INT(TODAY())-B81,""),M81-B81)) | Q81: =IF(C81="","",IFERROR(INDEX(Справочники!$D$6:$D$45,MATCH(C81,Справочники!$A$6:$A$45,0)),""))
A82: =IF(B82="","",ROW()-5) | B82: 46172 | C82: М-09 | D82: =IF(C82="","",IFERROR(INDEX(Справочники!$B$6:$B$45,MATCH(C82,Справочники!$A$6:$A$45,0)),"нет в справочнике")) | E82: ООО «Крепёж-Опт» | F82: С-1868 от 30.05 | G82: П263 | H82: 1000 | I82: =IF(C82="","",IFERROR(INDEX(Справочники!$C$6:$C$45,MATCH(C82,Справочники!$A$6:$A$45,0)),"")) | J82: =IF(C82="","",IFERROR(INDEX(Справочники!$E$6:$E$45,MATCH(C82,Справочники!$A$6:$A$45,0)),"")) | K82: Соответствует | L82: Принято | M82: 46174 | N82: Смирнов К. | P82: =IF(B82="","",IF(M82="",IF(L82="Карантин",INT(TODAY())-B82,""),M82-B82)) | Q82: =IF(C82="","",IFERROR(INDEX(Справочники!$D$6:$D$45,MATCH(C82,Справочники!$A$6:$A$45,0)),""))
A83: =IF(B83="","",ROW()-5) | B83: 46172 | C83: М-09 | D83: =IF(C83="","",IFERROR(INDEX(Справочники!$B$6:$B$45,MATCH(C83,Справочники!$A$6:$A$45,0)),"нет в справочнике")) | E83: ООО «Крепёж-Опт» | F83: С-7770 от 30.05 | G83: П931 | H83: 100 | I83: =IF(C83="","",IFERROR(INDEX(Справочники!$C$6:$C$45,MATCH(C83,Справочники!$A$6:$A$45,0)),"")) | J83: =IF(C83="","",IFERROR(INDEX(Справочники!$E$6:$E$45,MATCH(C83,Справочники!$A$6:$A$45,0)),"")) | K83: Соответствует | L83: Принято | M83: 46174 | N83: Смирнов К. | P83: =IF(B83="","",IF(M83="",IF(L83="Карантин",INT(TODAY())-B83,""),M83-B83)) | Q83: =IF(C83="","",IFERROR(INDEX(Справочники!$D$6:$D$45,MATCH(C83,Справочники!$A$6:$A$45,0)),""))
A84: =IF(B84="","",ROW()-5) | B84: 46175 | C84: М-03 | D84: =IF(C84="","",IFERROR(INDEX(Справочники!$B$6:$B$45,MATCH(C84,Справочники!$A$6:$A$45,0)),"нет в справочнике")) | E84: ООО «СварТехСнаб» | F84: С-7904 от 02.06 | G84: П295 | H84: 200 | I84: =IF(C84="","",IFERROR(INDEX(Справочники!$C$6:$C$45,MATCH(C84,Справочники!$A$6:$A$45,0)),"")) | J84: =IF(C84="","",IFERROR(INDEX(Справочники!$E$6:$E$45,MATCH(C84,Справочники!$A$6:$A$45,0)),"")) | K84: Соответствует | L84: Принято | M84: 46176 | N84: Смирнов К. | P84: =IF(B84="","",IF(M84="",IF(L84="Карантин",INT(TODAY())-B84,""),M84-B84)) | Q84: =IF(C84="","",IFERROR(INDEX(Справочники!$D$6:$D$45,MATCH(C84,Справочники!$A$6:$A$45,0)),""))
A85: =IF(B85="","",ROW()-5) | B85: 46176 | C85: М-06 | D85: =IF(C85="","",IFERROR(INDEX(Справочники!$B$6:$B$45,MATCH(C85,Справочники!$A$6:$A$45,0)),"нет в справочнике")) | E85: ООО «ЭлектроМаш» | F85: С-1588 от 03.06 | G85: П519 | H85: 50 | I85: =IF(C85="","",IFERROR(INDEX(Справочники!$C$6:$C$45,MATCH(C85,Справочники!$A$6:$A$45,0)),"")) | J85: =IF(C85="","",IFERROR(INDEX(Справочники!$E$6:$E$45,MATCH(C85,Справочники!$A$6:$A$45,0)),"")) | K85: Коррозия на поверхности | L85: Забраковано | M85: 46178 | N85: Иванова Е. | O85: Акт № 80 | P85: =IF(B85="","",IF(M85="",IF(L85="Карантин",INT(TODAY())-B85,""),M85-B85)) | Q85: =IF(C85="","",IFERROR(INDEX(Справочники!$D$6:$D$45,MATCH(C85,Справочники!$A$6:$A$45,0)),""))
A86: =IF(B86="","",ROW()-5) | B86: 46176 | C86: М-04 | D86: =IF(C86="","",IFERROR(INDEX(Справочники!$B$6:$B$45,MATCH(C86,Справочники!$A$6:$A$45,0)),"нет в справочнике")) | E86: ООО «Колор-Покрытия» | F86: С-4875 от 03.06 | G86: П179 | H86: 1000 | I86: =IF(C86="","",IFERROR(INDEX(Справочники!$C$6:$C$45,MATCH(C86,Справочники!$A$6:$A$45,0)),"")) | J86: =IF(C86="","",IFERROR(INDEX(Справочники!$E$6:$E$45,MATCH(C86,Справочники!$A$6:$A$45,0)),"")) | K86: Соответствует | L86: Принято | M86: 46177 | N86: Смирнов К. | P86: =IF(B86="","",IF(M86="",IF(L86="Карантин",INT(TODAY())-B86,""),M86-B86)) | Q86: =IF(C86="","",IFERROR(INDEX(Справочники!$D$6:$D$45,MATCH(C86,Справочники!$A$6:$A$45,0)),""))
...

Sheet Рейтинг поставщиков
A1: PLANT PERFORMANCE · plantperformance.ru
A2: Рейтинг поставщиков по входному контролю
A3: Считается автоматически из журнала. A — надёжный, B — под наблюдением, C — нужна претензия и план улучшений.
A5: Поставщик | B5: Партий | C5: Забраковано | D5: С отступлением | E5: % брака | F5: Средн. дней до решения | G5: Рейтинг | H5: Что делать
A6: =IF(Справочники!G6="","",Справочники!G6) | B6: =IF(A6="","",COUNTIF(Журнал!$E$6:$E$505,A6)) | C6: =IF(A6="","",COUNTIFS(Журнал!$E$6:$E$505,A6,Журнал!$L$6:$L$505,"Забраковано")) | D6: =IF(A6="","",COUNTIFS(Журнал!$E$6:$E$505,A6,Журнал!$L$6:$L$505,"Принято с отступлением")) | E6: =IF(OR(A6="",N(B6)=0),"",C6/B6) | F6: =IF(OR(A6="",N(B6)=0),"",IFERROR(AVERAGEIFS(Журнал!$P$6:$P$505,Журнал!$E$6:$E$505,A6),"")) | G6: =IF(E6="","",IF(E6>=Справочники!$L$8,"C",IF(E6>=Справочники!$L$7,"B","A"))) | H6: =IF(G6="C","Претензия, 8D от поставщика, усиленный контроль каждой партии",IF(G6="B","Разбор с поставщиком, контроль 100 % в течение 3 мес.",IF(G6="A","Сохранять, можно перевести на контроль по документам","")))
A7: =IF(Справочники!G7="","",Справочники!G7) | B7: =IF(A7="","",COUNTIF(Журнал!$E$6:$E$505,A7)) | C7: =IF(A7="","",COUNTIFS(Журнал!$E$6:$E$505,A7,Журнал!$L$6:$L$505,"Забраковано")) | D7: =IF(A7="","",COUNTIFS(Журнал!$E$6:$E$505,A7,Журнал!$L$6:$L$505,"Принято с отступлением")) | E7: =IF(OR(A7="",N(B7)=0),"",C7/B7) | F7: =IF(OR(A7="",N(B7)=0),"",IFERROR(AVERAGEIFS(Журнал!$P$6:$P$505,Журнал!$E$6:$E$505,A7),"")) | G7: =IF(E7="","",IF(E7>=Справочники!$L$8,"C",IF(E7>=Справочники!$L$7,"B","A"))) | H7: =IF(G7="C","Претензия, 8D от поставщика, усиленный контроль каждой партии",IF(G7="B","Разбор с поставщиком, контроль 100 % в течение 3 мес.",IF(G7="A","Сохранять, можно перевести на контроль по документам","")))
A8: =IF(Справочники!G8="","",Справочники!G8) | B8: =IF(A8="","",COUNTIF(Журнал!$E$6:$E$505,A8)) | C8: =IF(A8="","",COUNTIFS(Журнал!$E$6:$E$505,A8,Журнал!$L$6:$L$505,"Забраковано")) | D8: =IF(A8="","",COUNTIFS(Журнал!$E$6:$E$505,A8,Журнал!$L$6:$L$505,"Принято с отступлением")) | E8: =IF(OR(A8="",N(B8)=0),"",C8/B8) | F8: =IF(OR(A8="",N(B8)=0),"",IFERROR(AVERAGEIFS(Журнал!$P$6:$P$505,Журнал!$E$6:$E$505,A8),"")) | G8: =IF(E8="","",IF(E8>=Справочники!$L$8,"C",IF(E8>=Справочники!$L$7,"B","A"))) | H8: =IF(G8="C","Претензия, 8D от поставщика, усиленный контроль каждой партии",IF(G8="B","Разбор с поставщиком, контроль 100 % в течение 3 мес.",IF(G8="A","Сохранять, можно перевести на контроль по документам","")))
A9: =IF(Справочники!G9="","",Справочники!G9) | B9: =IF(A9="","",COUNTIF(Журнал!$E$6:$E$505,A9)) | C9: =IF(A9="","",COUNTIFS(Журнал!$E$6:$E$505,A9,Журнал!$L$6:$L$505,"Забраковано")) | D9: =IF(A9="","",COUNTIFS(Журнал!$E$6:$E$505,A9,Журнал!$L$6:$L$505,"Принято с отступлением")) | E9: =IF(OR(A9="",N(B9)=0),"",C9/B9) | F9: =IF(OR(A9="",N(B9)=0),"",IFERROR(AVERAGEIFS(Журнал!$P$6:$P$505,Журнал!$E$6:$E$505,A9),"")) | G9: =IF(E9="","",IF(E9>=Справочники!$L$8,"C",IF(E9>=Справочники!$L$7,"B","A"))) | H9: =IF(G9="C","Претензия, 8D от поставщика, усиленный контроль каждой партии",IF(G9="B","Разбор с поставщиком, контроль 100 % в течение 3 мес.",IF(G9="A","Сохранять, можно перевести на контроль по документам","")))
A10: =IF(Справочники!G10="","",Справочники!G10) | B10: =IF(A10="","",COUNTIF(Журнал!$E$6:$E$505,A10)) | C10: =IF(A10="","",COUNTIFS(Журнал!$E$6:$E$505,A10,Журнал!$L$6:$L$505,"Забраковано")) | D10: =IF(A10="","",COUNTIFS(Журнал!$E$6:$E$505,A10,Журнал!$L$6:$L$505,"Принято с отступлением")) | E10: =IF(OR(A10="",N(B10)=0),"",C10/B10) | F10: =IF(OR(A10="",N(B10)=0),"",IFERROR(AVERAGEIFS(Журнал!$P$6:$P$505,Журнал!$E$6:$E$505,A10),"")) | G10: =IF(E10="","",IF(E10>=Справочники!$L$8,"C",IF(E10>=Справочники!$L$7,"B","A"))) | H10: =IF(G10="C","Претензия, 8D от поставщика, усиленный контроль каждой партии",IF(G10="B","Разбор с поставщиком, контроль 100 % в течение 3 мес.",IF(G10="A","Сохранять, можно перевести на контроль по документам","")))
A11: =IF(Справочники!G11="","",Справочники!G11) | B11: =IF(A11="","",COUNTIF(Журнал!$E$6:$E$505,A11)) | C11: =IF(A11="","",COUNTIFS(Журнал!$E$6:$E$505,A11,Журнал!$L$6:$L$505,"Забраковано")) | D11: =IF(A11="","",COUNTIFS(Журнал!$E$6:$E$505,A11,Журнал!$L$6:$L$505,"Принято с отступлением")) | E11: =IF(OR(A11="",N(B11)=0),"",C11/B11) | F11: =IF(OR(A11="",N(B11)=0),"",IFERROR(AVERAGEIFS(Журнал!$P$6:$P$505,Журнал!$E$6:$E$505,A11),"")) | G11: =IF(E11="","",IF(E11>=Справочники!$L$8,"C",IF(E11>=Справочники!$L$7,"B","A"))) | H11: =IF(G11="C","Претензия, 8D от поставщика, усиленный контроль каждой партии",IF(G11="B","Разбор с поставщиком, контроль 100 % в течение 3 мес.",IF(G11="A","Сохранять, можно перевести на контроль по документам","")))
A12: =IF(Справочники!G12="","",Справочники!G12) | B12: =IF(A12="","",COUNTIF(Журнал!$E$6:$E$505,A12)) | C12: =IF(A12="","",COUNTIFS(Журнал!$E$6:$E$505,A12,Журнал!$L$6:$L$505,"Забраковано")) | D12: =IF(A12="","",COUNTIFS(Журнал!$E$6:$E$505,A12,Журнал!$L$6:$L$505,"Принято с отступлением")) | E12: =IF(OR(A12="",N(B12)=0),"",C12/B12) | F12: =IF(OR(A12="",N(B12)=0),"",IFERROR(AVERAGEIFS(Журнал!$P$6:$P$505,Журнал!$E$6:$E$505,A12),"")) | G12: =IF(E12="","",IF(E12>=Справочники!$L$8,"C",IF(E12>=Справочники!$L$7,"B","A"))) | H12: =IF(G12="C","Претензия, 8D от поставщика, усиленный контроль каждой партии",IF(G12="B","Разбор с поставщиком, контроль 100 % в течение 3 мес.",IF(G12="A","Сохранять, можно перевести на контроль по документам","")))
A13: =IF(Справочники!G13="","",Справочники!G13) | B13: =IF(A13="","",COUNTIF(Журнал!$E$6:$E$505,A13)) | C13: =IF(A13="","",COUNTIFS(Журнал!$E$6:$E$505,A13,Журнал!$L$6:$L$505,"Забраковано")) | D13: =IF(A13="","",COUNTIFS(Журнал!$E$6:$E$505,A13,Журнал!$L$6:$L$505,"Принято с отступлением")) | E13: =IF(OR(A13="",N(B13)=0),"",C13/B13) | F13: =IF(OR(A13="",N(B13)=0),"",IFERROR(AVERAGEIFS(Журнал!$P$6:$P$505,Журнал!$E$6:$E$505,A13),"")) | G13: =IF(E13="","",IF(E13>=Справочники!$L$8,"C",IF(E13>=Справочники!$L$7,"B","A"))) | H13: =IF(G13="C","Претензия, 8D от поставщика, усиленный контроль каждой партии",IF(G13="B","Разбор с поставщиком, контроль 100 % в течение 3 мес.",IF(G13="A","Сохранять, можно перевести на контроль по документам","")))
A14: =IF(Справочники!G14="","",Справочники!G14) | B14: =IF(A14="","",COUNTIF(Журнал!$E$6:$E$505,A14)) | C14: =IF(A14="","",COUNTIFS(Журнал!$E$6:$E$505,A14,Журнал!$L$6:$L$505,"Забраковано")) | D14: =IF(A14="","",COUNTIFS(Журнал!$E$6:$E$505,A14,Журнал!$L$6:$L$505,"Принято с отступлением")) | E14: =IF(OR(A14="",N(B14)=0),"",C14/B14) | F14: =IF(OR(A14="",N(B14)=0),"",IFERROR(AVERAGEIFS(Журнал!$P$6:$P$505,Журнал!$E$6:$E$505,A14),"")) | G14: =IF(E14="","",IF(E14>=Справочники!$L$8,"C",IF(E14>=Справочники!$L$7,"B","A"))) | H14: =IF(G14="C","Претензия, 8D от поставщика, усиленный контроль каждой партии",IF(G14="B","Разбор с поставщиком, контроль 100 % в течение 3 мес.",IF(G14="A","Сохранять, можно перевести на контроль по документам","")))
A15: =IF(Справочники!G15="","",Справочники!G15) | B15: =IF(A15="","",COUNTIF(Журнал!$E$6:$E$505,A15)) | C15: =IF(A15="","",COUNTIFS(Журнал!$E$6:$E$505,A15,Журнал!$L$6:$L$505,"Забраковано")) | D15: =IF(A15="","",COUNTIFS(Журнал!$E$6:$E$505,A15,Журнал!$L$6:$L$505,"Принято с отступлением")) | E15: =IF(OR(A15="",N(B15)=0),"",C15/B15) | F15: =IF(OR(A15="",N(B15)=0),"",IFERROR(AVERAGEIFS(Журнал!$P$6:$P$505,Журнал!$E$6:$E$505,A15),"")) | G15: =IF(E15="","",IF(E15>=Справочники!$L$8,"C",IF(E15>=Справочники!$L$7,"B","A"))) | H15: =IF(G15="C","Претензия, 8D от поставщика, усиленный контроль каждой партии",IF(G15="B","Разбор с поставщиком, контроль 100 % в течение 3 мес.",IF(G15="A","Сохранять, можно перевести на контроль по документам","")))
A16: =IF(Справочники!G16="","",Справочники!G16) | B16: =IF(A16="","",COUNTIF(Журнал!$E$6:$E$505,A16)) | C16: =IF(A16="","",COUNTIFS(Журнал!$E$6:$E$505,A16,Журнал!$L$6:$L$505,"Забраковано")) | D16: =IF(A16="","",COUNTIFS(Журнал!$E$6:$E$505,A16,Журнал!$L$6:$L$505,"Принято с отступлением")) | E16: =IF(OR(A16="",N(B16)=0),"",C16/B16) | F16: =IF(OR(A16="",N(B16)=0),"",IFERROR(AVERAGEIFS(Журнал!$P$6:$P$505,Журнал!$E$6:$E$505,A16),"")) | G16: =IF(E16="","",IF(E16>=Справочники!$L$8,"C",IF(E16>=Справочники!$L$7,"B","A"))) | H16: =IF(G16="C","Претензия, 8D от поставщика, усиленный контроль каждой партии",IF(G16="B","Разбор с поставщиком, контроль 100 % в течение 3 мес.",IF(G16="A","Сохранять, можно перевести на контроль по документам","")))
A17: =IF(Справочники!G17="","",Справочники!G17) | B17: =IF(A17="","",COUNTIF(Журнал!$E$6:$E$505,A17)) | C17: =IF(A17="","",COUNTIFS(Журнал!$E$6:$E$505,A17,Журнал!$L$6:$L$505,"Забраковано")) | D17: =IF(A17="","",COUNTIFS(Журнал!$E$6:$E$505,A17,Журнал!$L$6:$L$505,"Принято с отступлением")) | E17: =IF(OR(A17="",N(B17)=0),"",C17/B17) | F17: =IF(OR(A17="",N(B17)=0),"",IFERROR(AVERAGEIFS(Журнал!$P$6:$P$505,Журнал!$E$6:$E$505,A17),"")) | G17: =IF(E17="","",IF(E17>=Справочники!$L$8,"C",IF(E17>=Справочники!$L$7,"B","A"))) | H17: =IF(G17="C","Претензия, 8D от поставщика, усиленный контроль каждой партии",IF(G17="B","Разбор с поставщиком, контроль 100 % в течение 3 мес.",IF(G17="A","Сохранять, можно перевести на контроль по документам","")))
... A35: =IF(Справочники!G35="","",Справочники!G35) | B35: =IF(A35="","",COUNTIF(Журнал!$E$6:$E$505,A35)) | C35: =IF(A35="","",COUNTIFS(Журнал!$E$6:$E$505,A35,Журнал!$L$6:$L$505,"Забраковано")) | D35: =IF(A35="","",COUNTIFS(Журнал!$E$6:$E$505,A35,Журнал!$L$6:$L$505,"Принято с отступлением")) | E35: =IF(OR(A35="",N(B35)=0),"",C35/B35) | F35: =IF(OR(A35="",N(B35)=0),"",IFERROR(AVERAGEIFS(Журнал!$P$6:$P$505,Журнал!$E$6:$E$505,A35),"")) | G35: =IF(E35="","",IF(E35>=Справочники!$L$8,"C",IF(E35>=Справочники!$L$7,"B","A"))) | H35: =IF(G35="C","Претензия, 8D от поставщика, усиленный контроль каждой партии",IF(G35="B","Разбор с поставщиком, контроль 100 % в течение 3 мес.",IF(G35="A","Сохранять, можно перевести на контроль по документам","")))

Sheet Справочники
A1: PLANT PERFORMANCE · plantperformance.ru
A2: Справочники: материалы и поставщики
A3: Заполните один раз. Из них работают выпадающие списки журнала и подсказка «что проверять».
A5: Код | B5: Материал / изделие | C5: Ед. | D5: Категория A/B/C | E5: Что проверять на входном контроле | G5: Поставщик | H5: ИНН | I5: Контакт | K5: Настройка | L5: Значение
A6: М-01 | B6: Листовой прокат, сталь 3 мм | C6: т | D6: A | E6: Сертификат на плавку, толщина в 5 точках, марка стали по сертификату, дефекты поверхности | G6: ООО «Металл-Сервис» | K6: Максимум дней на карантине | L6: 3
A7: М-02 | B7: Труба профильная 40×40 | C7: т | D7: B | E7: Сертификат, геометрия, кривизна, коррозия | G7: АО «СтальПром» | K7: Порог % брака: рейтинг B | L7: 0.02
A8: М-03 | B8: Электроды / проволока сварочная | C8: кг | D8: A | E8: Сертификат, марка, диаметр, упаковка без влаги, срок годности | G8: ООО «СварТехСнаб» | K8: Порог % брака: рейтинг C | L8: 0.05
A9: М-04 | B9: Краска порошковая | C9: кг | D9: B | E9: Паспорт партии, срок годности, цвет по эталону, пробное нанесение | G9: ООО «Колор-Покрытия» | K9: Предприятие | L9: ООО «Ваш завод»
A10: М-05 | B10: Крепёж (болты, гайки) | C10: шт. | D10: C | E10: Маркировка класса прочности, размеры выборочно | G10: ООО «Крепёж-Опт»
A11: М-06 | B11: Электродвигатели | C11: шт. | D11: A | E11: Паспорт, декларация ЕАЭС, сопротивление изоляции, отсутствие повреждений | G11: ООО «ЭлектроМаш»
A12: М-07 | B12: Подшипники | C12: шт. | D12: B | E12: Маркировка, упаковка, люфт выборочно | G12: ООО «Подшипник-Центр»
A13: М-08 | B13: Кабель силовой | C13: м | D13: A | E13: Сертификат, сечение, сопротивление изоляции на образце | G13: ООО «КабельТорг»
A14: М-09 | B14: Упаковка (гофрокороб) | C14: шт. | D14: C | E14: Размеры, марка картона, печать
A15: М-10 | B15: Резинотехнические изделия | C15: шт. | D15: B | E15: Паспорт, твёрдость, размеры, срок хранения
A47: Категория: A — влияет на безопасность и ключевые свойства продукции (каждая партия, испытания); B — выборочно; C — по документам поставщика.

Sheet Бланк журнала
A1: ЖУРНАЛ ВХОДНОГО КОНТРОЛЯ
A2: =Справочники!L9&" · Начат: «___» ________ 20__ г. Окончен: «___» ________ 20__ г."
A4: № п/п | B4: Дата поступления | C4: Наименование материала, изделия | D4: Поставщик | E4: Документ о качестве: №, дата | F4: № партии, кол-во | G4: Контролируемые параметры | H4: Результат контроля | I4: Решение: принято / забраковано | J4: Акт, № | K4: Контролёр: ФИО, подпись | L4: Кладовщик: подпись
A5: 1 | B5: 2 | C5: 3 | D5: 4 | E5: 5 | F5: 6 | G5: 7 | H5: 8 | I5: 9 | J5: 10 | K5: 11 | L5: 12
A27: Форма по ГОСТ 24297-2013 «Верификация закупленной продукции». Источник: Plant Performance · plantperformance.ru

Sheet Акт о браке
A1: АКТ № ____ о несоответствии закупленной продукции
A2: «___» ____________ 20__ г.
A4: Покупатель | B4: =Справочники!L9
A5: Поставщик
A6: Договор поставки №, дата
A7: Материал / изделие
A8: Документ о качестве (№, дата)
A9: № партии, количество поставленное
A10: Количество проверенное
A11: Количество несоответствующее
A12: Требование (ГОСТ, ТУ, спецификация, договор)
A13: Фактически обнаружено
A14: Метод контроля, средство измерений
A15: Решение: возврат / замена / доработка / уценка
A16: Срок ответа поставщика
... A24: Источник: Plant Performance · plantperformance.ru

Sheet Полная версия
A1: PLANT PERFORMANCE · plantperformance.ru
A2: Что есть в полной системе качества
A3: Этот файл — часть системы документов завода Plant Performance
A5: Что | B5: Зачем
A6: Процедура контроля продукции и испытаний | B6: Входной, операционный и выходной контроль, действия при несоответствиях
A7: Инструкции входного контроля по материалам | B7: Что и как проверять по каждой категории, объём выборки
A8: Процедура одобрения материалов и поставщиков | B8: Уровни одобрения, пакет документов, пробная партия
A9: Соглашение о качестве с поставщиком | B9: Требования, ответственность, возмещение затрат на брак
A10: Регламент 8D и реестр рекламаций с CAPA | B10: Разбор причин и действия, которые закрываются в срок
A11: План контроля и FMEA | B11: Что контролировать на каждой операции и почему
A12: Ещё ~110 документов завода | B12: Регламенты, бюджет, себестоимость, ТОиР, охрана труда, план ввода
A14: Подробнее: plantperformance.ru · Telegram: t.me/plantperformance · info@plantperformance.ru
