Workbook

Sheet Дашборд
B1: PLANT PERFORMANCE · plantperformance.ru
B2: Входной контроль: сводка
B3: ="Данные на "&TEXT(TODAY(),"DD.MM.YYYY")&" · обновляется из журнала"
B5: Партий проверено | D5: Забраковано | F5: % брака на входе | H5: На карантине | J5: Поставщиков «C» | L5: Дней до решения
B6: =COUNT(Журнал!B6:B505) | D6: =COUNTIF(Журнал!L6:L505,"Забраковано") | F6: =IFERROR(D6/B6,0) | H6: =COUNTIF(Журнал!L6:L505,"Карантин") | J6: =COUNTIF('Рейтинг поставщиков'!G6:G35,"C") | L6: =IFERROR(AVERAGE(Журнал!P6:P505),0)
B7: с начала учёта | D7: партий | F7: по числу партий | H7: ждут решения | J7: нужна претензия | L7: в среднем
B27: Как пользоваться
B28: 1. «Справочники»: материалы с категорией и тем, что проверять, и список поставщиков.
B29: 2. «Журнал»: каждая поступившая партия — строка. Подсказка «что проверить» подставится сама; выберите решение.
B30: 3. «Рейтинг поставщиков» и этот дашборд считаются автоматически. Красное — повод для претензии.
B31: 4. Для печати — лист «Бланк журнала», при браке — «Акт о браке». Полная система качества завода: plantperformance.ru
B33: Данные для диаграмм
B34: Месяц | C34: Партий | D34: Забраковано | E34: % брака
B35: Янв | C35: =COUNTIFS(Журнал!$B$6:$B$505,">="&DATE(YEAR(TODAY()),1,1),Журнал!$B$6:$B$505,"<="&EOMONTH(DATE(YEAR(TODAY()),1,1),0)) | D35: =COUNTIFS(Журнал!$B$6:$B$505,">="&DATE(YEAR(TODAY()),1,1),Журнал!$B$6:$B$505,"<="&EOMONTH(DATE(YEAR(TODAY()),1,1),0),Журнал!$L$6:$L$505,"Забраковано") | E35: =IF(C35=0,NA(),D35/C35)
B36: Фев | C36: =COUNTIFS(Журнал!$B$6:$B$505,">="&DATE(YEAR(TODAY()),2,1),Журнал!$B$6:$B$505,"<="&EOMONTH(DATE(YEAR(TODAY()),2,1),0)) | D36: =COUNTIFS(Журнал!$B$6:$B$505,">="&DATE(YEAR(TODAY()),2,1),Журнал!$B$6:$B$505,"<="&EOMONTH(DATE(YEAR(TODAY()),2,1),0),Журнал!$L$6:$L$505,"Забраковано") | E36: =IF(C36=0,NA(),D36/C36)
B37: Мар | C37: =COUNTIFS(Журнал!$B$6:$B$505,">="&DATE(YEAR(TODAY()),3,1),Журнал!$B$6:$B$505,"<="&EOMONTH(DATE(YEAR(TODAY()),3,1),0)) | D37: =COUNTIFS(Журнал!$B$6:$B$505,">="&DATE(YEAR(TODAY()),3,1),Журнал!$B$6:$B$505,"<="&EOMONTH(DATE(YEAR(TODAY()),3,1),0),Журнал!$L$6:$L$505,"Забраковано") | E37: =IF(C37=0,NA(),D37/C37)
B38: Апр | C38: =COUNTIFS(Журнал!$B$6:$B$505,">="&DATE(YEAR(TODAY()),4,1),Журнал!$B$6:$B$505,"<="&EOMONTH(DATE(YEAR(TODAY()),4,1),0)) | D38: =COUNTIFS(Журнал!$B$6:$B$505,">="&DATE(YEAR(TODAY()),4,1),Журнал!$B$6:$B$505,"<="&EOMONTH(DATE(YEAR(TODAY()),4,1),0),Журнал!$L$6:$L$505,"Забраковано") | E38: =IF(C38=0,NA(),D38/C38)
B39: Май | C39: =COUNTIFS(Журнал!$B$6:$B$505,">="&DATE(YEAR(TODAY()),5,1),Журнал!$B$6:$B$505,"<="&EOMONTH(DATE(YEAR(TODAY()),5,1),0)) | D39: =COUNTIFS(Журнал!$B$6:$B$505,">="&DATE(YEAR(TODAY()),5,1),Журнал!$B$6:$B$505,"<="&EOMONTH(DATE(YEAR(TODAY()),5,1),0),Журнал!$L$6:$L$505,"Забраковано") | E39: =IF(C39=0,NA(),D39/C39)
B40: Июн | C40: =COUNTIFS(Журнал!$B$6:$B$505,">="&DATE(YEAR(TODAY()),6,1),Журнал!$B$6:$B$505,"<="&EOMONTH(DATE(YEAR(TODAY()),6,1),0)) | D40: =COUNTIFS(Журнал!$B$6:$B$505,">="&DATE(YEAR(TODAY()),6,1),Журнал!$B$6:$B$505,"<="&EOMONTH(DATE(YEAR(TODAY()),6,1),0),Журнал!$L$6:$L$505,"Забраковано") | E40: =IF(C40=0,NA(),D40/C40)
B41: Июл | C41: =COUNTIFS(Журнал!$B$6:$B$505,">="&DATE(YEAR(TODAY()),7,1),Журнал!$B$6:$B$505,"<="&EOMONTH(DATE(YEAR(TODAY()),7,1),0)) | D41: =COUNTIFS(Журнал!$B$6:$B$505,">="&DATE(YEAR(TODAY()),7,1),Журнал!$B$6:$B$505,"<="&EOMONTH(DATE(YEAR(TODAY()),7,1),0),Журнал!$L$6:$L$505,"Забраковано") | E41: =IF(C41=0,NA(),D41/C41)
B42: Авг | C42: =COUNTIFS(Журнал!$B$6:$B$505,">="&DATE(YEAR(TODAY()),8,1),Журнал!$B$6:$B$505,"<="&EOMONTH(DATE(YEAR(TODAY()),8,1),0)) | D42: =COUNTIFS(Журнал!$B$6:$B$505,">="&DATE(YEAR(TODAY()),8,1),Журнал!$B$6:$B$505,"<="&EOMONTH(DATE(YEAR(TODAY()),8,1),0),Журнал!$L$6:$L$505,"Забраковано") | E42: =IF(C42=0,NA(),D42/C42)
B43: Сен | C43: =COUNTIFS(Журнал!$B$6:$B$505,">="&DATE(YEAR(TODAY()),9,1),Журнал!$B$6:$B$505,"<="&EOMONTH(DATE(YEAR(TODAY()),9,1),0)) | D43: =COUNTIFS(Журнал!$B$6:$B$505,">="&DATE(YEAR(TODAY()),9,1),Журнал!$B$6:$B$505,"<="&EOMONTH(DATE(YEAR(TODAY()),9,1),0),Журнал!$L$6:$L$505,"Забраковано") | E43: =IF(C43=0,NA(),D43/C43)
B44: Окт | C44: =COUNTIFS(Журнал!$B$6:$B$505,">="&DATE(YEAR(TODAY()),10,1),Журнал!$B$6:$B$505,"<="&EOMONTH(DATE(YEAR(TODAY()),10,1),0)) | D44: =COUNTIFS(Журнал!$B$6:$B$505,">="&DATE(YEAR(TODAY()),10,1),Журнал!$B$6:$B$505,"<="&EOMONTH(DATE(YEAR(TODAY()),10,1),0),Журнал!$L$6:$L$505,"Забраковано") | E44: =IF(C44=0,NA(),D44/C44)
B45: Ноя | C45: =COUNTIFS(Журнал!$B$6:$B$505,">="&DATE(YEAR(TODAY()),11,1),Журнал!$B$6:$B$505,"<="&EOMONTH(DATE(YEAR(TODAY()),11,1),0)) | D45: =COUNTIFS(Журнал!$B$6:$B$505,">="&DATE(YEAR(TODAY()),11,1),Журнал!$B$6:$B$505,"<="&EOMONTH(DATE(YEAR(TODAY()),11,1),0),Журнал!$L$6:$L$505,"Забраковано") | E45: =IF(C45=0,NA(),D45/C45)
B46: Дек | C46: =COUNTIFS(Журнал!$B$6:$B$505,">="&DATE(YEAR(TODAY()),12,1),Журнал!$B$6:$B$505,"<="&EOMONTH(DATE(YEAR(TODAY()),12,1),0)) | D46: =COUNTIFS(Журнал!$B$6:$B$505,">="&DATE(YEAR(TODAY()),12,1),Журнал!$B$6:$B$505,"<="&EOMONTH(DATE(YEAR(TODAY()),12,1),0),Журнал!$L$6:$L$505,"Забраковано") | E46: =IF(C46=0,NA(),D46/C46)

Sheet Журнал
A1: PLANT PERFORMANCE · plantperformance.ru
A2: Журнал входного контроля материалов
A3: Одна строка — одна партия. Ввод в жёлтые ячейки, остальное заполнится само. Форма по ГОСТ 24297-2013 «Верификация закупленной продукции».
A5: № | B5: Дата поступления | C5: Код | D5: Материал / изделие | E5: Поставщик | F5: Документ о качестве (№, дата) | G5: № партии | H5: Кол-во | I5: Ед. | J5: Что проверить | K5: Результат проверки (факт) | L5: Решение | M5: Дата решения | N5: Контролёр | O5: Акт / примечание | P5: Дней до решения | Q5: Кат.
A6: =IF(B6="","",ROW()-5) | B6: 46031 | C6: М-06 | D6: =IF(C6="","",IFERROR(INDEX(Справочники!$B$6:$B$45,MATCH(C6,Справочники!$A$6:$A$45,0)),"нет в справочнике")) | E6: ООО «ЭлектроМаш» | F6: С-5039 от 09.01 | G6: П489 | H6: 50 | I6: =IF(C6="","",IFERROR(INDEX(Справочники!$C$6:$C$45,MATCH(C6,Справочники!$A$6:$A$45,0)),"")) | J6: =IF(C6="","",IFERROR(INDEX(Справочники!$E$6:$E$45,MATCH(C6,Справочники!$A$6:$A$45,0)),"")) | K6: Соответствует | L6: Принято | M6: 46031 | N6: Орлова Т. | P6: =IF(B6="","",IF(M6="",IF(L6="Карантин",INT(TODAY())-B6,""),M6-B6)) | Q6: =IF(C6="","",IFERROR(INDEX(Справочники!$D$6:$D$45,MATCH(C6,Справочники!$A$6:$A$45,0)),""))
A7: =IF(B7="","",ROW()-5) | B7: 46032 | C7: М-01 | D7: =IF(C7="","",IFERROR(INDEX(Справочники!$B$6:$B$45,MATCH(C7,Справочники!$A$6:$A$45,0)),"нет в справочнике")) | E7: ООО «Металл-Сервис» | F7: С-8288 от 10.01 | G7: П229 | H7: 18.5 | I7: =IF(C7="","",IFERROR(INDEX(Справочники!$C$6:$C$45,MATCH(C7,Справочники!$A$6:$A$45,0)),"")) | J7: =IF(C7="","",IFERROR(INDEX(Справочники!$E$6:$E$45,MATCH(C7,Справочники!$A$6:$A$45,0)),"")) | K7: Соответствует | L7: Принято | M7: 46032 | N7: Иванова Е. | P7: =IF(B7="","",IF(M7="",IF(L7="Карантин",INT(TODAY())-B7,""),M7-B7)) | Q7: =IF(C7="","",IFERROR(INDEX(Справочники!$D$6:$D$45,MATCH(C7,Справочники!$A$6:$A$45,0)),""))
A8: =IF(B8="","",ROW()-5) | B8: 46034 | C8: М-03 | D8: =IF(C8="","",IFERROR(INDEX(Справочники!$B$6:$B$45,MATCH(C8,Справочники!$A$6:$A$45,0)),"нет в справочнике")) | E8: ООО «СварТехСнаб» | F8: С-7278 от 12.01 | G8: П405 | H8: 1000 | I8: =IF(C8="","",IFERROR(INDEX(Справочники!$C$6:$C$45,MATCH(C8,Справочники!$A$6:$A$45,0)),"")) | J8: =IF(C8="","",IFERROR(INDEX(Справочники!$E$6:$E$45,MATCH(C8,Справочники!$A$6:$A$45,0)),"")) | K8: Соответствует | L8: Принято | M8: 46034 | N8: Иванова Е. | P8: =IF(B8="","",IF(M8="",IF(L8="Карантин",INT(TODAY())-B8,""),M8-B8)) | Q8: =IF(C8="","",IFERROR(INDEX(Справочники!$D$6:$D$45,MATCH(C8,Справочники!$A$6:$A$45,0)),""))
A9: =IF(B9="","",ROW()-5) | B9: 46036 | C9: М-03 | D9: =IF(C9="","",IFERROR(INDEX(Справочники!$B$6:$B$45,MATCH(C9,Справочники!$A$6:$A$45,0)),"нет в справочнике")) | E9: ООО «СварТехСнаб» | F9: С-2081 от 14.01 | G9: П417 | H9: 1000 | I9: =IF(C9="","",IFERROR(INDEX(Справочники!$C$6:$C$45,MATCH(C9,Справочники!$A$6:$A$45,0)),"")) | J9: =IF(C9="","",IFERROR(INDEX(Справочники!$E$6:$E$45,MATCH(C9,Справочники!$A$6:$A$45,0)),"")) | K9: Соответствует | L9: Принято | M9: 46037 | N9: Смирнов К. | P9: =IF(B9="","",IF(M9="",IF(L9="Карантин",INT(TODAY())-B9,""),M9-B9)) | Q9: =IF(C9="","",IFERROR(INDEX(Справочники!$D$6:$D$45,MATCH(C9,Справочники!$A$6:$A$45,0)),""))
A10: =IF(B10="","",ROW()-5) | B10: 46036 | C10: М-05 | D10: =IF(C10="","",IFERROR(INDEX(Справочники!$B$6:$B$45,MATCH(C10,Справочники!$A$6:$A$45,0)),"нет в справочнике")) | E10: ООО «Крепёж-Опт» | F10: С-1374 от 14.01 | G10: П867 | H10: 100 | I10: =IF(C10="","",IFERROR(INDEX(Справочники!$C$6:$C$45,MATCH(C10,Справочники!$A$6:$A$45,0)),"")) | J10: =IF(C10="","",IFERROR(INDEX(Справочники!$E$6:$E$45,MATCH(C10,Справочники!$A$6:$A$45,0)),"")) | K10: Соответствует | L10: Принято | M10: 46036 | N10: Смирнов К. | P10: =IF(B10="","",IF(M10="",IF(L10="Карантин",INT(TODAY())-B10,""),M10-B10)) | Q10: =IF(C10="","",IFERROR(INDEX(Справочники!$D$6:$D$45,MATCH(C10,Справочники!$A$6:$A$45,0)),""))
A11: =IF(B11="","",ROW()-5) | B11: 46041 | C11: М-06 | D11: =IF(C11="","",IFERROR(INDEX(Справочники!$B$6:$B$45,MATCH(C11,Справочники!$A$6:$A$45,0)),"нет в справочнике")) | E11: ООО «ЭлектроМаш» | F11: С-2950 от 19.01 | G11: П873 | H11: 100 | I11: =IF(C11="","",IFERROR(INDEX(Справочники!$C$6:$C$45,MATCH(C11,Справочники!$A$6:$A$45,0)),"")) | J11: =IF(C11="","",IFERROR(INDEX(Справочники!$E$6:$E$45,MATCH(C11,Справочники!$A$6:$A$45,0)),"")) | K11: Соответствует | L11: Принято | M11: 46041 | N11: Иванова Е. | P11: =IF(B11="","",IF(M11="",IF(L11="Карантин",INT(TODAY())-B11,""),M11-B11)) | Q11: =IF(C11="","",IFERROR(INDEX(Справочники!$D$6:$D$45,MATCH(C11,Справочники!$A$6:$A$45,0)),""))
A12: =IF(B12="","",ROW()-5) | B12: 46041 | C12: М-08 | D12: =IF(C12="","",IFERROR(INDEX(Справочники!$B$6:$B$45,MATCH(C12,Справочники!$A$6:$A$45,0)),"нет в справочнике")) | E12: ООО «КабельТорг» | F12: С-5847 от 19.01 | G12: П137 | H12: 2000 | I12: =IF(C12="","",IFERROR(INDEX(Справочники!$C$6:$C$45,MATCH(C12,Справочники!$A$6:$A$45,0)),"")) | J12: =IF(C12="","",IFERROR(INDEX(Справочники!$E$6:$E$45,MATCH(C12,Справочники!$A$6:$A$45,0)),"")) | K12: Соответствует | L12: Принято | M12: 46043 | N12: Смирнов К. | P12: =IF(B12="","",IF(M12="",IF(L12="Карантин",INT(TODAY())-B12,""),M12-B12)) | Q12: =IF(C12="","",IFERROR(INDEX(Справочники!$D$6:$D$45,MATCH(C12,Справочники!$A$6:$A$45,0)),""))
A13: =IF(B13="","",ROW()-5) | B13: 46042 | C13: М-06 | D13: =IF(C13="","",IFERROR(INDEX(Справочники!$B$6:$B$45,MATCH(C13,Справочники!$A$6:$A$45,0)),"нет в справочнике")) | E13: ООО «ЭлектроМаш» | F13: С-6016 от 20.01 | G13: П281 | H13: 50 | I13: =IF(C13="","",IFERROR(INDEX(Справочники!$C$6:$C$45,MATCH(C13,Справочники!$A$6:$A$45,0)),"")) | J13: =IF(C13="","",IFERROR(INDEX(Справочники!$E$6:$E$45,MATCH(C13,Справочники!$A$6:$A$45,0)),"")) | K13: Соответствует | L13: Принято | M13: 46043 | N13: Иванова Е. | P13: =IF(B13="","",IF(M13="",IF(L13="Карантин",INT(TODAY())-B13,""),M13-B13)) | Q13: =IF(C13="","",IFERROR(INDEX(Справочники!$D$6:$D$45,MATCH(C13,Справочники!$A$6:$A$45,0)),""))
A14: =IF(B14="","",ROW()-5) | B14: 46045 | C14: М-05 | D14: =IF(C14="","",IFERROR(INDEX(Справочники!$B$6:$B$45,MATCH(C14,Справочники!$A$6:$A$45,0)),"нет в справочнике")) | E14: ООО «Крепёж-Опт» | F14: С-6633 от 23.01 | G14: П946 | H14: 1000 | I14: =IF(C14="","",IFERROR(INDEX(Справочники!$C$6:$C$45,MATCH(C14,Справочники!$A$6:$A$45,0)),"")) | J14: =IF(C14="","",IFERROR(INDEX(Справочники!$E$6:$E$45,MATCH(C14,Справочники!$A$6:$A$45,0)),"")) | K14: Соответствует | L14: Принято | M14: 46045 | N14: Смирнов К. | P14: =IF(B14="","",IF(M14="",IF(L14="Карантин",INT(TODAY())-B14,""),M14-B14)) | Q14: =IF(C14="","",IFERROR(INDEX(Справочники!$D$6:$D$45,MATCH(C14,Справочники!$A$6:$A$45,0)),""))
A15: =IF(B15="","",ROW()-5) | B15: 46047 | C15: М-03 | D15: =IF(C15="","",IFERROR(INDEX(Справочники!$B$6:$B$45,MATCH(C15,Справочники!$A$6:$A$45,0)),"нет в справочнике")) | E15: ООО «СварТехСнаб» | F15: С-7780 от 25.01 | G15: П209 | H15: 500 | I15: =IF(C15="","",IFERROR(INDEX(Справочники!$C$6:$C$45,MATCH(C15,Справочники!$A$6:$A$45,0)),"")) | J15: =IF(C15="","",IFERROR(INDEX(Справочники!$E$6:$E$45,MATCH(C15,Справочники!$A$6:$A$45,0)),"")) | K15: Соответствует | L15: Принято | M15: 46047 | N15: Иванова Е. | P15: =IF(B15="","",IF(M15="",IF(L15="Карантин",INT(TODAY())-B15,""),M15-B15)) | Q15: =IF(C15="","",IFERROR(INDEX(Справочники!$D$6:$D$45,MATCH(C15,Справочники!$A$6:$A$45,0)),""))
A16: =IF(B16="","",ROW()-5) | B16: 46047 | C16: М-07 | D16: =IF(C16="","",IFERROR(INDEX(Справочники!$B$6:$B$45,MATCH(C16,Справочники!$A$6:$A$45,0)),"нет в справочнике")) | E16: ООО «Подшипник-Центр» | F16: С-8997 от 25.01 | G16: П805 | H16: 100 | I16: =IF(C16="","",IFERROR(INDEX(Справочники!$C$6:$C$45,MATCH(C16,Справочники!$A$6:$A$45,0)),"")) | J16: =IF(C16="","",IFERROR(INDEX(Справочники!$E$6:$E$45,MATCH(C16,Справочники!$A$6:$A$45,0)),"")) | K16: Соответствует | L16: Принято | M16: 46048 | N16: Орлова Т. | P16: =IF(B16="","",IF(M16="",IF(L16="Карантин",INT(TODAY())-B16,""),M16-B16)) | Q16: =IF(C16="","",IFERROR(INDEX(Справочники!$D$6:$D$45,MATCH(C16,Справочники!$A$6:$A$45,0)),""))
A17: =IF(B17="","",ROW()-5) | B17: 46049 | C17: М-05 | D17: =IF(C17="","",IFERROR(INDEX(Справочники!$B$6:$B$45,MATCH(C17,Справочники!$A$6:$A$45,0)),"нет в справочнике")) | E17: ООО «Крепёж-Опт» | F17: С-6545 от 27.01 | G17: П284 | H17: 100 | I17: =IF(C17="","",IFERROR(INDEX(Справочники!$C$6:$C$45,MATCH(C17,Справочники!$A$6:$A$45,0)),"")) | J17: =IF(C17="","",IFERROR(INDEX(Справочники!$E$6:$E$45,MATCH(C17,Справочники!$A$6:$A$45,0)),"")) | K17: Соответствует | L17: Принято | M17: 46049 | N17: Иванова Е. | P17: =IF(B17="","",IF(M17="",IF(L17="Карантин",INT(TODAY())-B17,""),M17-B17)) | Q17: =IF(C17="","",IFERROR(INDEX(Справочники!$D$6:$D$45,MATCH(C17,Справочники!$A$6:$A$45,0)),""))
... A37: =IF(B37="","",ROW()-5) | B37: 46090 | C37: М-05 | D37: =IF(C37="","",IFERROR(INDEX(Справочники!$B$6:$B$45,MATCH(C37,Справочники!$A$6:$A$45,0)),"нет в справочнике")) | E37: ООО «Крепёж-Опт» | F37: С-1713 от 09.03 | G37: П668 | H37: 50 | I37: =IF(C37="","",IFERROR(INDEX(Справочники!$C$6:$C$45,MATCH(C37,Справочники!$A$6:$A$45,0)),"")) | J37: =IF(C37="","",IFERROR(INDEX(Справочники!$E$6:$E$45,MATCH(C37,Справочники!$A$6:$A$45,0)),"")) | K37: Соответствует | L37: Принято | M37: 46092 | N37: Иванова Е. | P37: =IF(B37="","",IF(M37="",IF(L37="Карантин",INT(TODAY())-B37,""),M37-B37)) | Q37: =IF(C37="","",IFERROR(INDEX(Справочники!$D$6:$D$45,MATCH(C37,Справочники!$A$6:$A$45,0)),""))
A38: =IF(B38="","",ROW()-5) | B38: 46093 | C38: М-02 | D38: =IF(C38="","",IFERROR(INDEX(Справочники!$B$6:$B$45,MATCH(C38,Справочники!$A$6:$A$45,0)),"нет в справочнике")) | E38: АО «СтальПром» | F38: С-2498 от 12.03 | G38: П422 | H38: 15.4 | I38: =IF(C38="","",IFERROR(INDEX(Справочники!$C$6:$C$45,MATCH(C38,Справочники!$A$6:$A$45,0)),"")) | J38: =IF(C38="","",IFERROR(INDEX(Справочники!$E$6:$E$45,MATCH(C38,Справочники!$A$6:$A$45,0)),"")) | K38: Коррозия на поверхности | L38: Забраковано | M38: 46097 | N38: Орлова Т. | O38: Акт № 33 | P38: =IF(B38="","",IF(M38="",IF(L38="Карантин",INT(TODAY())-B38,""),M38-B38)) | Q38: =IF(C38="","",IFERROR(INDEX(Справочники!$D$6:$D$45,MATCH(C38,Справочники!$A$6:$A$45,0)),""))
A39: =IF(B39="","",ROW()-5) | B39: 46093 | C39: М-10 | D39: =IF(C39="","",IFERROR(INDEX(Справочники!$B$6:$B$45,MATCH(C39,Справочники!$A$6:$A$45,0)),"нет в справочнике")) | E39: ООО «Подшипник-Центр» | F39: С-4614 от 12.03 | G39: П369 | H39: 500 | I39: =IF(C39="","",IFERROR(INDEX(Справочники!$C$6:$C$45,MATCH(C39,Справочники!$A$6:$A$45,0)),"")) | J39: =IF(C39="","",IFERROR(INDEX(Справочники!$E$6:$E$45,MATCH(C39,Справочники!$A$6:$A$45,0)),"")) | K39: Соответствует | L39: Принято | M39: 46094 | N39: Иванова Е. | P39: =IF(B39="","",IF(M39="",IF(L39="Карантин",INT(TODAY())-B39,""),M39-B39)) | Q39: =IF(C39="","",IFERROR(INDEX(Справочники!$D$6:$D$45,MATCH(C39,Справочники!$A$6:$A$45,0)),""))
A40: =IF(B40="","",ROW()-5) | B40: 46096 | C40: М-05 | D40: =IF(C40="","",IFERROR(INDEX(Справочники!$B$6:$B$45,MATCH(C40,Справочники!$A$6:$A$45,0)),"нет в справочнике")) | E40: ООО «Крепёж-Опт» | F40: С-3937 от 15.03 | G40: П234 | H40: 1000 | I40: =IF(C40="","",IFERROR(INDEX(Справочники!$C$6:$C$45,MATCH(C40,Справочники!$A$6:$A$45,0)),"")) | J40: =IF(C40="","",IFERROR(INDEX(Справочники!$E$6:$E$45,MATCH(C40,Справочники!$A$6:$A$45,0)),"")) | K40: Соответствует | L40: Принято | M40: 46096 | N40: Орлова Т. | P40: =IF(B40="","",IF(M40="",IF(L40="Карантин",INT(TODAY())-B40,""),M40-B40)) | Q40: =IF(C40="","",IFERROR(INDEX(Справочники!$D$6:$D$45,MATCH(C40,Справочники!$A$6:$A$45,0)),""))
A41: =IF(B41="","",ROW()-5) | B41: 46097 | C41: М-02 | D41: =IF(C41="","",IFERROR(INDEX(Справочники!$B$6:$B$45,MATCH(C41,Справочники!$A$6:$A$45,0)),"нет в справочнике")) | E41: ООО «Металл-Сервис» | F41: С-8871 от 16.03 | G41: П431 | H41: 11.1 | I41: =IF(C41="","",IFERROR(INDEX(Справочники!$C$6:$C$45,MATCH(C41,Справочники!$A$6:$A$45,0)),"")) | J41: =IF(C41="","",IFERROR(INDEX(Справочники!$E$6:$E$45,MATCH(C41,Справочники!$A$6:$A$45,0)),"")) | K41: Соответствует | L41: Принято | M41: 46097 | N41: Иванова Е. | P41: =IF(B41="","",IF(M41="",IF(L41="Карантин",INT(TODAY())-B41,""),M41-B41)) | Q41: =IF(C41="","",IFERROR(INDEX(Справочники!$D$6:$D$45,MATCH(C41,Справочники!$A$6:$A$45,0)),""))
A42: =IF(B42="","",ROW()-5) | B42: 46103 | C42: М-01 | D42: =IF(C42="","",IFERROR(INDEX(Справочники!$B$6:$B$45,MATCH(C42,Справочники!$A$6:$A$45,0)),"нет в справочнике")) | E42: ООО «Металл-Сервис» | F42: С-4465 от 22.03 | G42: П243 | H42: 14.3 | I42: =IF(C42="","",IFERROR(INDEX(Справочники!$C$6:$C$45,MATCH(C42,Справочники!$A$6:$A$45,0)),"")) | J42: =IF(C42="","",IFERROR(INDEX(Справочники!$E$6:$E$45,MATCH(C42,Справочники!$A$6:$A$45,0)),"")) | K42: Соответствует | L42: Принято | M42: 46104 | N42: Орлова Т. | P42: =IF(B42="","",IF(M42="",IF(L42="Карантин",INT(TODAY())-B42,""),M42-B42)) | Q42: =IF(C42="","",IFERROR(INDEX(Справочники!$D$6:$D$45,MATCH(C42,Справочники!$A$6:$A$45,0)),""))
A43: =IF(B43="","",ROW()-5) | B43: 46103 | C43: М-10 | D43: =IF(C43="","",IFERROR(INDEX(Справочники!$B$6:$B$45,MATCH(C43,Справочники!$A$6:$A$45,0)),"нет в справочнике")) | E43: ООО «Подшипник-Центр» | F43: С-3235 от 22.03 | G43: П840 | H43: 500 | I43: =IF(C43="","",IFERROR(INDEX(Справочники!$C$6:$C$45,MATCH(C43,Справочники!$A$6:$A$45,0)),"")) | J43: =IF(C43="","",IFERROR(INDEX(Справочники!$E$6:$E$45,MATCH(C43,Справочники!$A$6:$A$45,0)),"")) | K43: Соответствует | L43: Принято | M43: 46103 | N43: Смирнов К. | P43: =IF(B43="","",IF(M43="",IF(L43="Карантин",INT(TODAY())-B43,""),M43-B43)) | Q43: =IF(C43="","",IFERROR(INDEX(Справочники!$D$6:$D$45,MATCH(C43,Справочники!$A$6:$A$45,0)),""))
A44: =IF(B44="","",ROW()-5) | B44: 46106 | C44: М-07 | D44: =IF(C44="","",IFERROR(INDEX(Справочники!$B$6:$B$45,MATCH(C44,Справочники!$A$6:$A$45,0)),"нет в справочнике")) | E44: ООО «Подшипник-Центр» | F44: С-2589 от 25.03 | G44: П137 | H44: 100 | I44: =IF(C44="","",IFERROR(INDEX(Справочники!$C$6:$C$45,MATCH(C44,Справочники!$A$6:$A$45,0)),"")) | J44: =IF(C44="","",IFERROR(INDEX(Справочники!$E$6:$E$45,MATCH(C44,Справочники!$A$6:$A$45,0)),"")) | K44: Соответствует | L44: Принято | M44: 46108 | N44: Иванова Е. | P44: =IF(B44="","",IF(M44="",IF(L44="Карантин",INT(TODAY())-B44,""),M44-B44)) | Q44: =IF(C44="","",IFERROR(INDEX(Справочники!$D$6:$D$45,MATCH(C44,Справочники!$A$6:$A$45,0)),""))
A45: =IF(B45="","",ROW()-5) | B45: 46107 | C45: М-04 | D45: =IF(C45="","",IFERROR(INDEX(Справочники!$B$6:$B$45,MATCH(C45,Справочники!$A$6:$A$45,0)),"нет в справочнике")) | E45: ООО «Колор-Покрытия» | F45: С-5924 от 26.03 | G45: П734 | H45: 500 | I45: =IF(C45="","",IFERROR(INDEX(Справочники!$C$6:$C$45,MATCH(C45,Справочники!$A$6:$A$45,0)),"")) | J45: =IF(C45="","",IFERROR(INDEX(Справочники!$E$6:$E$45,MATCH(C45,Справочники!$A$6:$A$45,0)),"")) | K45: Соответствует | L45: Принято | M45: 46108 | N45: Смирнов К. | P45: =IF(B45="","",IF(M45="",IF(L45="Карантин",INT(TODAY())-B45,""),M45-B45)) | Q45: =IF(C45="","",IFERROR(INDEX(Справочники!$D$6:$D$45,MATCH(C45,Справочники!$A$6:$A$45,0)),""))
A46: =IF(B46="","",ROW()-5) | B46: 46109 | C46: М-08 | D46: =IF(C46="","",IFERROR(INDEX(Справочники!$B$6:$B$45,MATCH(C46,Справочники!$A$6:$A$45,0)),"нет в справочнике")) | E46: ООО «КабельТорг» | F46: С-2806 от 28.03 | G46: П384 | H46: 500 | I46: =IF(C46="","",IFERROR(INDEX(Справочники!$C$6:$C$45,MATCH(C46,Справочники!$A$6:$A$45,0)),"")) | J46: =IF(C46="","",IFERROR(INDEX(Справочники!$E$6:$E$45,MATCH(C46,Справочники!$A$6:$A$45,0)),"")) | K46: Соответствует | L46: Принято | M46: 46109 | N46: Иванова Е. | P46: =IF(B46="","",IF(M46="",IF(L46="Карантин",INT(TODAY())-B46,""),M46-B46)) | Q46: =IF(C46="","",IFERROR(INDEX(Справочники!$D$6:$D$45,MATCH(C46,Справочники!$A$6:$A$45,0)),""))
A47: =IF(B47="","",ROW()-5) | B47: 46109 | C47: М-05 | D47: =IF(C47="","",IFERROR(INDEX(Справочники!$B$6:$B$45,MATCH(C47,Справочники!$A$6:$A$45,0)),"нет в справочнике")) | E47: ООО «Крепёж-Опт» | F47: С-8481 от 28.03 | G47: П583 | H47: 500 | I47: =IF(C47="","",IFERROR(INDEX(Справочники!$C$6:$C$45,MATCH(C47,Справочники!$A$6:$A$45,0)),"")) | J47: =IF(C47="","",IFERROR(INDEX(Справочники!$E$6:$E$45,MATCH(C47,Справочники!$A$6:$A$45,0)),"")) | K47: Соответствует | L47: Принято | M47: 46109 | N47: Иванова Е. | P47: =IF(B47="","",IF(M47="",IF(L47="Карантин",INT(TODAY())-B47,""),M47-B47)) | Q47: =IF(C47="","",IFERROR(INDEX(Справочники!$D$6:$D$45,MATCH(C47,Справочники!$A$6:$A$45,0)),""))
A48: =IF(B48="","",ROW()-5) | B48: 46110 | C48: М-05 | D48: =IF(C48="","",IFERROR(INDEX(Справочники!$B$6:$B$45,MATCH(C48,Справочники!$A$6:$A$45,0)),"нет в справочнике")) | E48: ООО «Крепёж-Опт» | F48: С-2281 от 29.03 | G48: П732 | H48: 50 | I48: =IF(C48="","",IFERROR(INDEX(Справочники!$C$6:$C$45,MATCH(C48,Справочники!$A$6:$A$45,0)),"")) | J48: =IF(C48="","",IFERROR(INDEX(Справочники!$E$6:$E$45,MATCH(C48,Справочники!$A$6:$A$45,0)),"")) | K48: Соответствует | L48: Принято | M48: 46110 | N48: Смирнов К. | P48: =IF(B48="","",IF(M48="",IF(L48="Карантин",INT(TODAY())-B48,""),M48-B48)) | Q48: =IF(C48="","",IFERROR(INDEX(Справочники!$D$6:$D$45,MATCH(C48,Справочники!$A$6:$A$45,0)),""))
A49: =IF(B49="","",ROW()-5) | B49: 46113 | C49: М-05 | D49: =IF(C49="","",IFERROR(INDEX(Справочники!$B$6:$B$45,MATCH(C49,Справочники!$A$6:$A$45,0)),"нет в справочнике")) | E49: ООО «Крепёж-Опт» | F49: С-3877 от 01.04 | G49: П788 | H49: 1000 | I49: =IF(C49="","",IFERROR(INDEX(Справочники!$C$6:$C$45,MATCH(C49,Справочники!$A$6:$A$45,0)),"")) | J49: =IF(C49="","",IFERROR(INDEX(Справочники!$E$6:$E$45,MATCH(C49,Справочники!$A$6:$A$45,0)),"")) | K49: Соответствует | L49: Принято | M49: 46114 | N49: Иванова Е. | P49: =IF(B49="","",IF(M49="",IF(L49="Карантин",INT(TODAY())-B49,""),M49-B49)) | Q49: =IF(C49="","",IFERROR(INDEX(Справочники!$D$6:$D$45,MATCH(C49,Справочники!$A$6:$A$45,0)),""))
A50: =IF(B50="","",ROW()-5) | B50: 46114 | C50: М-05 | D50: =IF(C50="","",IFERROR(INDEX(Справочники!$B$6:$B$45,MATCH(C50,Справочники!$A$6:$A$45,0)),"нет в справочнике")) | E50: ООО «Крепёж-Опт» | F50: С-9985 от 02.04 | G50: П955 | H50: 100 | I50: =IF(C50="","",IFERROR(INDEX(Справочники!$C$6:$C$45,MATCH(C50,Справочники!$A$6:$A$45,0)),"")) | J50: =IF(C50="","",IFERROR(INDEX(Справочники!$E$6:$E$45,MATCH(C50,Справочники!$A$6:$A$45,0)),"")) | K50: Соответствует | L50: Принято | M50: 46115 | N50: Орлова Т. | P50: =IF(B50="","",IF(M50="",IF(L50="Карантин",INT(TODAY())-B50,""),M50-B50)) | Q50: =IF(C50="","",IFERROR(INDEX(Справочники!$D$6:$D$45,MATCH(C50,Справочники!$A$6:$A$45,0)),""))
... A77: =IF(B77="","",ROW()-5) | B77: 46162 | C77: М-07 | D77: =IF(C77="","",IFERROR(INDEX(Справочники!$B$6:$B$45,MATCH(C77,Справочники!$A$6:$A$45,0)),"нет в справочнике")) | E77: ООО «Подшипник-Центр» | F77: С-6613 от 20.05 | G77: П860 | H77: 50 | I77: =IF(C77="","",IFERROR(INDEX(Справочники!$C$6:$C$45,MATCH(C77,Справочники!$A$6:$A$45,0)),"")) | J77: =IF(C77="","",IFERROR(INDEX(Справочники!$E$6:$E$45,MATCH(C77,Справочники!$A$6:$A$45,0)),"")) | K77: Соответствует | L77: Принято | M77: 46164 | N77: Иванова Е. | P77: =IF(B77="","",IF(M77="",IF(L77="Карантин",INT(TODAY())-B77,""),M77-B77)) | Q77: =IF(C77="","",IFERROR(INDEX(Справочники!$D$6:$D$45,MATCH(C77,Справочники!$A$6:$A$45,0)),""))
A78: =IF(B78="","",ROW()-5) | B78: 46162 | C78: М-08 | D78: =IF(C78="","",IFERROR(INDEX(Справочники!$B$6:$B$45,MATCH(C78,Справочники!$A$6:$A$45,0)),"нет в справочнике")) | E78: ООО «КабельТорг» | F78: С-5761 от 20.05 | G78: П610 | H78: 1000 | I78: =IF(C78="","",IFERROR(INDEX(Справочники!$C$6:$C$45,MATCH(C78,Справочники!$A$6:$A$45,0)),"")) | J78: =IF(C78="","",IFERROR(INDEX(Справочники!$E$6:$E$45,MATCH(C78,Справочники!$A$6:$A$45,0)),"")) | K78: Нет сертификата на плавку | L78: Забраковано | M78: 46166 | N78: Орлова Т. | O78: Акт № 73 | P78: =IF(B78="","",IF(M78="",IF(L78="Карантин",INT(TODAY())-B78,""),M78-B78)) | Q78: =IF(C78="","",IFERROR(INDEX(Справочники!$D$6:$D$45,MATCH(C78,Справочники!$A$6:$A$45,0)),""))
A79: =IF(B79="","",ROW()-5) | B79: 46170 | C79: М-06 | D79: =IF(C79="","",IFERROR(INDEX(Справочники!$B$6:$B$45,MATCH(C79,Справочники!$A$6:$A$45,0)),"нет в справочнике")) | E79: ООО «ЭлектроМаш» | F79: С-3389 от 28.05 | G79: П377 | H79: 500 | I79: =IF(C79="","",IFERROR(INDEX(Справочники!$C$6:$C$45,MATCH(C79,Справочники!$A$6:$A$45,0)),"")) | J79: =IF(C79="","",IFERROR(INDEX(Справочники!$E$6:$E$45,MATCH(C79,Справочники!$A$6:$A$45,0)),"")) | K79: Соответствует | L79: Принято | M79: 46170 | N79: Иванова Е. | P79: =IF(B79="","",IF(M79="",IF(L79="Карантин",INT(TODAY())-B79,""),M79-B79)) | Q79: =IF(C79="","",IFERROR(INDEX(Справочники!$D$6:$D$45,MATCH(C79,Справочники!$A$6:$A$45,0)),""))
A80: =IF(B80="","",ROW()-5) | B80: 46170 | C80: М-09 | D80: =IF(C80="","",IFERROR(INDEX(Справочники!$B$6:$B$45,MATCH(C80,Справочники!$A$6:$A$45,0)),"нет в справочнике")) | E80: ООО «Крепёж-Опт» | F80: С-6828 от 28.05 | G80: П232 | H80: 100 | I80: =IF(C80="","",IFERROR(INDEX(Справочники!$C$6:$C$45,MATCH(C80,Справочники!$A$6:$A$45,0)),"")) | J80: =IF(C80="","",IFERROR(INDEX(Справочники!$E$6:$E$45,MATCH(C80,Справочники!$A$6:$A$45,0)),"")) | K80: Соответствует | L80: Принято | M80: 46170 | N80: Иванова Е. | P80: =IF(B80="","",IF(M80="",IF(L80="Карантин",INT(TODAY())-B80,""),M80-B80)) | Q80: =IF(C80="","",IFERROR(INDEX(Справочники!$D$6:$D$45,MATCH(C80,Справочники!$A$6:$A$45,0)),""))
A81: =IF(B81="","",ROW()-5) | B81: 46171 | C81: М-06 | D81: =IF(C81="","",IFERROR(INDEX(Справочники!$B$6:$B$45,MATCH(C81,Справочники!$A$6:$A$45,0)),"нет в справочнике")) | E81: ООО «ЭлектроМаш» | F81: С-4175 от 29.05 | G81: П922 | H81: 50 | I81: =IF(C81="","",IFERROR(INDEX(Справочники!$C$6:$C$45,MATCH(C81,Справочники!$A$6:$A$45,0)),"")) | J81: =IF(C81="","",IFERROR(INDEX(Справочники!$E$6:$E$45,MATCH(C81,Справочники!$A$6:$A$45,0)),"")) | K81: Отклонение в пределах допуска заказчика, согласовано | L81: Принято с отступлением | M81: 46176 | N81: Смирнов К. | P81: =IF(B81="","",IF(M81="",IF(L81="Карантин",INT(TODAY())-B81,""),M81-B81)) | Q81: =IF(C81="","",IFERROR(INDEX(Справочники!$D$6:$D$45,MATCH(C81,Справочники!$A$6:$A$45,0)),""))
A82: =IF(B82="","",ROW()-5) | B82: 46172 | C82: М-09 | D82: =IF(C82="","",IFERROR(INDEX(Справочники!$B$6:$B$45,MATCH(C82,Справочники!$A$6:$A$45,0)),"нет в справочнике")) | E82: ООО «Крепёж-Опт» | F82: С-1868 от 30.05 | G82: П263 | H82: 1000 | I82: =IF(C82="","",IFERROR(INDEX(Справочники!$C$6:$C$45,MATCH(C82,Справочники!$A$6:$A$45,0)),"")) | J82: =IF(C82="","",IFERROR(INDEX(Справочники!$E$6:$E$45,MATCH(C82,Справочники!$A$6:$A$45,0)),"")) | K82: Соответствует | L82: Принято | M82: 46174 | N82: Смирнов К. | P82: =IF(B82="","",IF(M82="",IF(L82="Карантин",INT(TODAY())-B82,""),M82-B82)) | Q82: =IF(C82="","",IFERROR(INDEX(Справочники!$D$6:$D$45,MATCH(C82,Справочники!$A$6:$A$45,0)),""))
A83: =IF(B83="","",ROW()-5) | B83: 46172 | C83: М-09 | D83: =IF(C83="","",IFERROR(INDEX(Справочники!$B$6:$B$45,MATCH(C83,Справочники!$A$6:$A$45,0)),"нет в справочнике")) | E83: ООО «Крепёж-Опт» | F83: С-7770 от 30.05 | G83: П931 | H83: 100 | I83: =IF(C83="","",IFERROR(INDEX(Справочники!$C$6:$C$45,MATCH(C83,Справочники!$A$6:$A$45,0)),"")) | J83: =IF(C83="","",IFERROR(INDEX(Справочники!$E$6:$E$45,MATCH(C83,Справочники!$A$6:$A$45,0)),"")) | K83: Соответствует | L83: Принято | M83: 46174 | N83: Смирнов К. | P83: =IF(B83="","",IF(M83="",IF(L83="Карантин",INT(TODAY())-B83,""),M83-B83)) | Q83: =IF(C83="","",IFERROR(INDEX(Справочники!$D$6:$D$45,MATCH(C83,Справочники!$A$6:$A$45,0)),""))
A84: =IF(B84="","",ROW()-5) | B84: 46175 | C84: М-03 | D84: =IF(C84="","",IFERROR(INDEX(Справочники!$B$6:$B$45,MATCH(C84,Справочники!$A$6:$A$45,0)),"нет в справочнике")) | E84: ООО «СварТехСнаб» | F84: С-7904 от 02.06 | G84: П295 | H84: 200 | I84: =IF(C84="","",IFERROR(INDEX(Справочники!$C$6:$C$45,MATCH(C84,Справочники!$A$6:$A$45,0)),"")) | J84: =IF(C84="","",IFERROR(INDEX(Справочники!$E$6:$E$45,MATCH(C84,Справочники!$A$6:$A$45,0)),"")) | K84: Соответствует | L84: Принято | M84: 46176 | N84: Смирнов К. | P84: =IF(B84="","",IF(M84="",IF(L84="Карантин",INT(TODAY())-B84,""),M84-B84)) | Q84: =IF(C84="","",IFERROR(INDEX(Справочники!$D$6:$D$45,MATCH(C84,Справочники!$A$6:$A$45,0)),""))
A85: =IF(B85="","",ROW()-5) | B85: 46176 | C85: М-06 | D85: =IF(C85="","",IFERROR(INDEX(Справочники!$B$6:$B$45,MATCH(C85,Справочники!$A$6:$A$45,0)),"нет в справочнике")) | E85: ООО «ЭлектроМаш» | F85: С-1588 от 03.06 | G85: П519 | H85: 50 | I85: =IF(C85="","",IFERROR(INDEX(Справочники!$C$6:$C$45,MATCH(C85,Справочники!$A$6:$A$45,0)),"")) | J85: =IF(C85="","",IFERROR(INDEX(Справочники!$E$6:$E$45,MATCH(C85,Справочники!$A$6:$A$45,0)),"")) | K85: Коррозия на поверхности | L85: Забраковано | M85: 46178 | N85: Иванова Е. | O85: Акт № 80 | P85: =IF(B85="","",IF(M85="",IF(L85="Карантин",INT(TODAY())-B85,""),M85-B85)) | Q85: =IF(C85="","",IFERROR(INDEX(Справочники!$D$6:$D$45,MATCH(C85,Справочники!$A$6:$A$45,0)),""))
A86: =IF(B86="","",ROW()-5) | B86: 46176 | C86: М-04 | D86: =IF(C86="","",IFERROR(INDEX(Справочники!$B$6:$B$45,MATCH(C86,Справочники!$A$6:$A$45,0)),"нет в справочнике")) | E86: ООО «Колор-Покрытия» | F86: С-4875 от 03.06 | G86: П179 | H86: 1000 | I86: =IF(C86="","",IFERROR(INDEX(Справочники!$C$6:$C$45,MATCH(C86,Справочники!$A$6:$A$45,0)),"")) | J86: =IF(C86="","",IFERROR(INDEX(Справочники!$E$6:$E$45,MATCH(C86,Справочники!$A$6:$A$45,0)),"")) | K86: Соответствует | L86: Принято | M86: 46177 | N86: Смирнов К. | P86: =IF(B86="","",IF(M86="",IF(L86="Карантин",INT(TODAY())-B86,""),M86-B86)) | Q86: =IF(C86="","",IFERROR(INDEX(Справочники!$D$6:$D$45,MATCH(C86,Справочники!$A$6:$A$45,0)),""))
A87: =IF(B87="","",ROW()-5) | B87: 46180 | C87: М-07 | D87: =IF(C87="","",IFERROR(INDEX(Справочники!$B$6:$B$45,MATCH(C87,Справочники!$A$6:$A$45,0)),"нет в справочнике")) | E87: ООО «Подшипник-Центр» | F87: С-5647 от 07.06 | G87: П213 | H87: 100 | I87: =IF(C87="","",IFERROR(INDEX(Справочники!$C$6:$C$45,MATCH(C87,Справочники!$A$6:$A$45,0)),"")) | J87: =IF(C87="","",IFERROR(INDEX(Справочники!$E$6:$E$45,MATCH(C87,Справочники!$A$6:$A$45,0)),"")) | K87: Соответствует | L87: Принято | M87: 46181 | N87: Иванова Е. | P87: =IF(B87="","",IF(M87="",IF(L87="Карантин",INT(TODAY())-B87,""),M87-B87)) | Q87: =IF(C87="","",IFERROR(INDEX(Справочники!$D$6:$D$45,MATCH(C87,Справочники!$A$6:$A$45,0)),""))
A88: =IF(B88="","",ROW()-5) | B88: 46183 | C88: М-06 | D88: =IF(C88="","",IFERROR(INDEX(Справочники!$B$6:$B$45,MATCH(C88,Справочники!$A$6:$A$45,0)),"нет в справочнике")) | E88: ООО «ЭлектроМаш» | F88: С-5310 от 10.06 | G88: П117 | H88: 100 | I88: =IF(C88="","",IFERROR(INDEX(Справочники!$C$6:$C$45,MATCH(C88,Справочники!$A$6:$A$45,0)),"")) | J88: =IF(C88="","",IFERROR(INDEX(Справочники!$E$6:$E$45,MATCH(C88,Справочники!$A$6:$A$45,0)),"")) | K88: Соответствует | L88: Принято | M88: 46184 | N88: Орлова Т. | P88: =IF(B88="","",IF(M88="",IF(L88="Карантин",INT(TODAY())-B88,""),M88-B88)) | Q88: =IF(C88="","",IFERROR(INDEX(Справочники!$D$6:$D$45,MATCH(C88,Справочники!$A$6:$A$45,0)),""))
A89: =IF(B89="","",ROW()-5) | B89: 46183 | C89: М-01 | D89: =IF(C89="","",IFERROR(INDEX(Справочники!$B$6:$B$45,MATCH(C89,Справочники!$A$6:$A$45,0)),"нет в справочнике")) | E89: АО «СтальПром» | F89: С-4808 от 10.06 | G89: П616 | H89: 14.7 | I89: =IF(C89="","",IFERROR(INDEX(Справочники!$C$6:$C$45,MATCH(C89,Справочники!$A$6:$A$45,0)),"")) | J89: =IF(C89="","",IFERROR(INDEX(Справочники!$E$6:$E$45,MATCH(C89,Справочники!$A$6:$A$45,0)),"")) | K89: Коррозия на поверхности | L89: Забраковано | M89: 46189 | N89: Орлова Т. | O89: Акт № 84 | P89: =IF(B89="","",IF(M89="",IF(L89="Карантин",INT(TODAY())-B89,""),M89-B89)) | Q89: =IF(C89="","",IFERROR(INDEX(Справочники!$D$6:$D$45,MATCH(C89,Справочники!$A$6:$A$45,0)),""))
A90: =IF(B90="","",ROW()-5) | B90: 46186 | C90: М-05 | D90: =IF(C90="","",IFERROR(INDEX(Справочники!$B$6:$B$45,MATCH(C90,Справочники!$A$6:$A$45,0)),"нет в справочнике")) | E90: ООО «Крепёж-Опт» | F90: С-8202 от 13.06 | G90: П560 | H90: 500 | I90: =IF(C90="","",IFERROR(INDEX(Справочники!$C$6:$C$45,MATCH(C90,Справочники!$A$6:$A$45,0)),"")) | J90: =IF(C90="","",IFERROR(INDEX(Справочники!$E$6:$E$45,MATCH(C90,Справочники!$A$6:$A$45,0)),"")) | K90: Соответствует | L90: Принято | M90: 46186 | N90: Иванова Е. | P90: =IF(B90="","",IF(M90="",IF(L90="Карантин",INT(TODAY())-B90,""),M90-B90)) | Q90: =IF(C90="","",IFERROR(INDEX(Справочники!$D$6:$D$45,MATCH(C90,Справочники!$A$6:$A$45,0)),""))
A91: =IF(B91="","",ROW()-5) | B91: 46191 | C91: М-10 | D91: =IF(C91="","",IFERROR(INDEX(Справочники!$B$6:$B$45,MATCH(C91,Справочники!$A$6:$A$45,0)),"нет в справочнике")) | E91: ООО «Подшипник-Центр» | F91: С-1904 от 18.06 | G91: П853 | H91: 50 | I91: =IF(C91="","",IFERROR(INDEX(Справочники!$C$6:$C$45,MATCH(C91,Справочники!$A$6:$A$45,0)),"")) | J91: =IF(C91="","",IFERROR(INDEX(Справочники!$E$6:$E$45,MATCH(C91,Справочники!$A$6:$A$45,0)),"")) | K91: Соответствует | L91: Принято | M91: 46192 | N91: Иванова Е. | P91: =IF(B91="","",IF(M91="",IF(L91="Карантин",INT(TODAY())-B91,""),M91-B91)) | Q91: =IF(C91="","",IFERROR(INDEX(Справочники!$D$6:$D$45,MATCH(C91,Справочники!$A$6:$A$45,0)),""))
A92: =IF(B92="","",ROW()-5) | B92: 46194 | C92: М-02 | D92: =IF(C92="","",IFERROR(INDEX(Справочники!$B$6:$B$45,MATCH(C92,Справочники!$A$6:$A$45,0)),"нет в справочнике")) | E92: АО «СтальПром» | F92: С-9098 от 21.06 | G92: П103 | H92: 16.9 | I92: =IF(C92="","",IFERROR(INDEX(Справочники!$C$6:$C$45,MATCH(C92,Справочники!$A$6:$A$45,0)),"")) | J92: =IF(C92="","",IFERROR(INDEX(Справочники!$E$6:$E$45,MATCH(C92,Справочники!$A$6:$A$45,0)),"")) | K92: Соответствует | L92: Принято | M92: 46195 | N92: Орлова Т. | P92: =IF(B92="","",IF(M92="",IF(L92="Карантин",INT(TODAY())-B92,""),M92-B92)) | Q92: =IF(C92="","",IFERROR(INDEX(Справочники!$D$6:$D$45,MATCH(C92,Справочники!$A$6:$A$45,0)),""))
A93: =IF(B93="","",ROW()-5) | B93: 46194 | C93: М-10 | D93: =IF(C93="","",IFERROR(INDEX(Справочники!$B$6:$B$45,MATCH(C93,Справочники!$A$6:$A$45,0)),"нет в справочнике")) | E93: ООО «Подшипник-Центр» | F93: С-7130 от 21.06 | G93: П448 | H93: 50 | I93: =IF(C93="","",IFERROR(INDEX(Справочники!$C$6:$C$45,MATCH(C93,Справочники!$A$6:$A$45,0)),"")) | J93: =IF(C93="","",IFERROR(INDEX(Справочники!$E$6:$E$45,MATCH(C93,Справочники!$A$6:$A$45,0)),"")) | K93: Соответствует | L93: Принято | M93: 46194 | N93: Смирнов К. | P93: =IF(B93="","",IF(M93="",IF(L93="Карантин",INT(TODAY())-B93,""),M93-B93)) | Q93: =IF(C93="","",IFERROR(INDEX(Справочники!$D$6:$D$45,MATCH(C93,Справочники!$A$6:$A$45,0)),""))
A94: =IF(B94="","",ROW()-5) | B94: 46196 | C94: М-03 | D94: =IF(C94="","",IFERROR(INDEX(Справочники!$B$6:$B$45,MATCH(C94,Справочники!$A$6:$A$45,0)),"нет в справочнике")) | E94: ООО «СварТехСнаб» | F94: С-5315 от 23.06 | G94: П706 | H94: 500 | I94: =IF(C94="","",IFERROR(INDEX(Справочники!$C$6:$C$45,MATCH(C94,Справочники!$A$6:$A$45,0)),"")) | J94: =IF(C94="","",IFERROR(INDEX(Справочники!$E$6:$E$45,MATCH(C94,Справочники!$A$6:$A$45,0)),"")) | K94: Соответствует | L94: Принято | M94: 46196 | N94: Смирнов К. | P94: =IF(B94="","",IF(M94="",IF(L94="Карантин",INT(TODAY())-B94,""),M94-B94)) | Q94: =IF(C94="","",IFERROR(INDEX(Справочники!$D$6:$D$45,MATCH(C94,Справочники!$A$6:$A$45,0)),""))
A95: =IF(B95="","",ROW()-5) | B95: 46196 | C95: М-03 | D95: =IF(C95="","",IFERROR(INDEX(Справочники!$B$6:$B$45,MATCH(C95,Справочники!$A$6:$A$45,0)),"нет в справочнике")) | E95: ООО «СварТехСнаб» | F95: С-1651 от 23.06 | G95: П126 | H95: 200 | I95: =IF(C95="","",IFERROR(INDEX(Справочники!$C$6:$C$45,MATCH(C95,Справочники!$A$6:$A$45,0)),"")) | J95: =IF(C95="","",IFERROR(INDEX(Справочники!$E$6:$E$45,MATCH(C95,Справочники!$A$6:$A$45,0)),"")) | K95: Соответствует | L95: Принято | M95: 46197 | N95: Орлова Т. | P95: =IF(B95="","",IF(M95="",IF(L95="Карантин",INT(TODAY())-B95,""),M95-B95)) | Q95: =IF(C95="","",IFERROR(INDEX(Справочники!$D$6:$D$45,MATCH(C95,Справочники!$A$6:$A$45,0)),""))
A96: =IF(B96="","",ROW()-5) | B96: 46200 | C96: М-10 | D96: =IF(C96="","",IFERROR(INDEX(Справочники!$B$6:$B$45,MATCH(C96,Справочники!$A$6:$A$45,0)),"нет в справочнике")) | E96: ООО «Подшипник-Центр» | F96: С-8541 от 27.06 | G96: П411 | H96: 50 | I96: =IF(C96="","",IFERROR(INDEX(Справочники!$C$6:$C$45,MATCH(C96,Справочники!$A$6:$A$45,0)),"")) | J96: =IF(C96="","",IFERROR(INDEX(Справочники!$E$6:$E$45,MATCH(C96,Справочники!$A$6:$A$45,0)),"")) | K96: Соответствует | L96: Принято | M96: 46200 | N96: Орлова Т. | P96: =IF(B96="","",IF(M96="",IF(L96="Карантин",INT(TODAY())-B96,""),M96-B96)) | Q96: =IF(C96="","",IFERROR(INDEX(Справочники!$D$6:$D$45,MATCH(C96,Справочники!$A$6:$A$45,0)),""))
A97: =IF(B97="","",ROW()-5) | B97: 46200 | C97: М-09 | D97: =IF(C97="","",IFERROR(INDEX(Справочники!$B$6:$B$45,MATCH(C97,Справочники!$A$6:$A$45,0)),"нет в справочнике")) | E97: ООО «Крепёж-Опт» | F97: С-5899 от 27.06 | G97: П101 | H97: 500 | I97: =IF(C97="","",IFERROR(INDEX(Справочники!$C$6:$C$45,MATCH(C97,Справочники!$A$6:$A$45,0)),"")) | J97: =IF(C97="","",IFERROR(INDEX(Справочники!$E$6:$E$45,MATCH(C97,Справочники!$A$6:$A$45,0)),"")) | K97: Соответствует | L97: Принято | M97: 46201 | N97: Смирнов К. | P97: =IF(B97="","",IF(M97="",IF(L97="Карантин",INT(TODAY())-B97,""),M97-B97)) | Q97: =IF(C97="","",IFERROR(INDEX(Справочники!$D$6:$D$45,MATCH(C97,Справочники!$A$6:$A$45,0)),""))
A98: =IF(B98="","",ROW()-5) | B98: 46203 | C98: М-08 | D98: =IF(C98="","",IFERROR(INDEX(Справочники!$B$6:$B$45,MATCH(C98,Справочники!$A$6:$A$45,0)),"нет в справочнике")) | E98: ООО «КабельТорг» | F98: С-3461 от 30.06 | G98: П461 | H98: 1000 | I98: =IF(C98="","",IFERROR(INDEX(Справочники!$C$6:$C$45,MATCH(C98,Справочники!$A$6:$A$45,0)),"")) | J98: =IF(C98="","",IFERROR(INDEX(Справочники!$E$6:$E$45,MATCH(C98,Справочники!$A$6:$A$45,0)),"")) | K98: Соответствует | L98: Принято | M98: 46203 | N98: Иванова Е. | P98: =IF(B98="","",IF(M98="",IF(L98="Карантин",INT(TODAY())-B98,""),M98-B98)) | Q98: =IF(C98="","",IFERROR(INDEX(Справочники!$D$6:$D$45,MATCH(C98,Справочники!$A$6:$A$45,0)),""))
A99: =IF(B99="","",ROW()-5) | B99: 46203 | C99: М-07 | D99: =IF(C99="","",IFERROR(INDEX(Справочники!$B$6:$B$45,MATCH(C99,Справочники!$A$6:$A$45,0)),"нет в справочнике")) | E99: ООО «Подшипник-Центр» | F99: С-6636 от 30.06 | G99: П117 | H99: 1000 | I99: =IF(C99="","",IFERROR(INDEX(Справочники!$C$6:$C$45,MATCH(C99,Справочники!$A$6:$A$45,0)),"")) | J99: =IF(C99="","",IFERROR(INDEX(Справочники!$E$6:$E$45,MATCH(C99,Справочники!$A$6:$A$45,0)),"")) | K99: Соответствует | L99: Принято | M99: 46204 | N99: Иванова Е. | P99: =IF(B99="","",IF(M99="",IF(L99="Карантин",INT(TODAY())-B99,""),M99-B99)) | Q99: =IF(C99="","",IFERROR(INDEX(Справочники!$D$6:$D$45,MATCH(C99,Справочники!$A$6:$A$45,0)),""))
A100: =IF(B100="","",ROW()-5) | B100: 46205 | C100: М-10 | D100: =IF(C100="","",IFERROR(INDEX(Справочники!$B$6:$B$45,MATCH(C100,Справочники!$A$6:$A$45,0)),"нет в справочнике")) | E100: ООО «Подшипник-Центр» | F100: С-6136 от 02.07 | G100: П400 | H100: 100 | I100: =IF(C100="","",IFERROR(INDEX(Справочники!$C$6:$C$45,MATCH(C100,Справочники!$A$6:$A$45,0)),"")) | J100: =IF(C100="","",IFERROR(INDEX(Справочники!$E$6:$E$45,MATCH(C100,Справочники!$A$6:$A$45,0)),"")) | K100: Соответствует | L100: Принято | M100: 46205 | N100: Орлова Т. | P100: =IF(B100="","",IF(M100="",IF(L100="Карантин",INT(TODAY())-B100,""),M100-B100)) | Q100: =IF(C100="","",IFERROR(INDEX(Справочники!$D$6:$D$45,MATCH(C100,Справочники!$A$6:$A$45,0)),""))
A101: =IF(B101="","",ROW()-5) | B101: 46206 | C101: М-05 | D101: =IF(C101="","",IFERROR(INDEX(Справочники!$B$6:$B$45,MATCH(C101,Справочники!$A$6:$A$45,0)),"нет в справочнике")) | E101: ООО «Крепёж-Опт» | F101: С-6511 от 03.07 | G101: П198 | H101: 50 | I101: =IF(C101="","",IFERROR(INDEX(Справочники!$C$6:$C$45,MATCH(C101,Справочники!$A$6:$A$45,0)),"")) | J101: =IF(C101="","",IFERROR(INDEX(Справочники!$E$6:$E$45,MATCH(C101,Справочники!$A$6:$A$45,0)),"")) | K101: Соответствует | L101: Принято | M101: 46208 | N101: Иванова Е. | P101: =IF(B101="","",IF(M101="",IF(L101="Карантин",INT(TODAY())-B101,""),M101-B101)) | Q101: =IF(C101="","",IFERROR(INDEX(Справочники!$D$6:$D$45,MATCH(C101,Справочники!$A$6:$A$45,0)),""))
... A112: =IF(B112="","",ROW()-5) | B112: 46227 | C112: М-06 | D112: =IF(C112="","",IFERROR(INDEX(Справочники!$B$6:$B$45,MATCH(C112,Справочники!$A$6:$A$45,0)),"нет в справочнике")) | E112: ООО «ЭлектроМаш» | F112: С-1019 от 24.07 | G112: П651 | H112: 100 | I112: =IF(C112="","",IFERROR(INDEX(Справочники!$C$6:$C$45,MATCH(C112,Справочники!$A$6:$A$45,0)),"")) | J112: =IF(C112="","",IFERROR(INDEX(Справочники!$E$6:$E$45,MATCH(C112,Справочники!$A$6:$A$45,0)),"")) | K112: Соответствует | L112: Принято | M112: 46229 | N112: Смирнов К. | P112: =IF(B112="","",IF(M112="",IF(L112="Карантин",INT(TODAY())-B112,""),M112-B112)) | Q112: =IF(C112="","",IFERROR(INDEX(Справочники!$D$6:$D$45,MATCH(C112,Справочники!$A$6:$A$45,0)),""))
A113: =IF(B113="","",ROW()-5) | B113: 46227 | C113: М-08 | D113: =IF(C113="","",IFERROR(INDEX(Справочники!$B$6:$B$45,MATCH(C113,Справочники!$A$6:$A$45,0)),"нет в справочнике")) | E113: ООО «КабельТорг» | F113: С-9311 от 24.07 | G113: П343 | H113: 500 | I113: =IF(C113="","",IFERROR(INDEX(Справочники!$C$6:$C$45,MATCH(C113,Справочники!$A$6:$A$45,0)),"")) | J113: =IF(C113="","",IFERROR(INDEX(Справочники!$E$6:$E$45,MATCH(C113,Справочники!$A$6:$A$45,0)),"")) | K113: Нет сертификата на плавку | L113: Забраковано | M113: 46231 | N113: Орлова Т. | O113: Акт № 108 | P113: =IF(B113="","",IF(M113="",IF(L113="Карантин",INT(TODAY())-B113,""),M113-B113)) | Q113: =IF(C113="","",IFERROR(INDEX(Справочники!$D$6:$D$45,MATCH(C113,Справочники!$A$6:$A$45,0)),""))
A114: =IF(B114="","",ROW()-5) | B114: 46231 | C114: М-04 | D114: =IF(C114="","",IFERROR(INDEX(Справочники!$B$6:$B$45,MATCH(C114,Справочники!$A$6:$A$45,0)),"нет в справочнике")) | E114: ООО «Колор-Покрытия» | F114: С-8124 от 28.07 | G114: П696 | H114: 1000 | I114: =IF(C114="","",IFERROR(INDEX(Справочники!$C$6:$C$45,MATCH(C114,Справочники!$A$6:$A$45,0)),"")) | J114: =IF(C114="","",IFERROR(INDEX(Справочники!$E$6:$E$45,MATCH(C114,Справочники!$A$6:$A$45,0)),"")) | K114: Соответствует | L114: Принято | M114: 46231 | N114: Смирнов К. | P114: =IF(B114="","",IF(M114="",IF(L114="Карантин",INT(TODAY())-B114,""),M114-B114)) | Q114: =IF(C114="","",IFERROR(INDEX(Справочники!$D$6:$D$45,MATCH(C114,Справочники!$A$6:$A$45,0)),""))
A115: =IF(B115="","",ROW()-5) | B115: 46231 | C115: М-04 | D115: =IF(C115="","",IFERROR(INDEX(Справочники!$B$6:$B$45,MATCH(C115,Справочники!$A$6:$A$45,0)),"нет в справочнике")) | E115: ООО «Колор-Покрытия» | F115: С-3415 от 28.07 | G115: П535 | H115: 500 | I115: =IF(C115="","",IFERROR(INDEX(Справочники!$C$6:$C$45,MATCH(C115,Справочники!$A$6:$A$45,0)),"")) | J115: =IF(C115="","",IFERROR(INDEX(Справочники!$E$6:$E$45,MATCH(C115,Справочники!$A$6:$A$45,0)),"")) | K115: Соответствует | L115: Принято | M115: 46233 | N115: Иванова Е. | P115: =IF(B115="","",IF(M115="",IF(L115="Карантин",INT(TODAY())-B115,""),M115-B115)) | Q115: =IF(C115="","",IFERROR(INDEX(Справочники!$D$6:$D$45,MATCH(C115,Справочники!$A$6:$A$45,0)),""))
A116: =IF(B116="","",ROW()-5) | B116: 46234 | C116: М-02 | D116: =IF(C116="","",IFERROR(INDEX(Справочники!$B$6:$B$45,MATCH(C116,Справочники!$A$6:$A$45,0)),"нет в справочнике")) | E116: ООО «Металл-Сервис» | F116: С-1406 от 31.07 | G116: П887 | H116: 18.2 | I116: =IF(C116="","",IFERROR(INDEX(Справочники!$C$6:$C$45,MATCH(C116,Справочники!$A$6:$A$45,0)),"")) | J116: =IF(C116="","",IFERROR(INDEX(Справочники!$E$6:$E$45,MATCH(C116,Справочники!$A$6:$A$45,0)),"")) | K116: Соответствует | L116: Принято | M116: 46235 | N116: Орлова Т. | P116: =IF(B116="","",IF(M116="",IF(L116="Карантин",INT(TODAY())-B116,""),M116-B116)) | Q116: =IF(C116="","",IFERROR(INDEX(Справочники!$D$6:$D$45,MATCH(C116,Справочники!$A$6:$A$45,0)),""))
A117: =IF(B117="","",ROW()-5) | B117: 46237 | C117: М-10 | D117: =IF(C117="","",IFERROR(INDEX(Справочники!$B$6:$B$45,MATCH(C117,Справочники!$A$6:$A$45,0)),"нет в справочнике")) | E117: ООО «Подшипник-Центр» | F117: С-9750 от 03.08 | G117: П478 | H117: 500 | I117: =IF(C117="","",IFERROR(INDEX(Справочники!$C$6:$C$45,MATCH(C117,Справочники!$A$6:$A$45,0)),"")) | J117: =IF(C117="","",IFERROR(INDEX(Справочники!$E$6:$E$45,MATCH(C117,Справочники!$A$6:$A$45,0)),"")) | K117: Отклонение в пределах допуска заказчика, согласовано | L117: Принято с отступлением | M117: 46243 | N117: Иванова Е. | P117: =IF(B117="","",IF(M117="",IF(L117="Карантин",INT(TODAY())-B117,""),M117-B117)) | Q117: =IF(C117="","",IFERROR(INDEX(Справочники!$D$6:$D$45,MATCH(C117,Справочники!$A$6:$A$45,0)),""))
A118: =IF(B118="","",ROW()-5) | B118: 46237 | C118: М-03 | D118: =IF(C118="","",IFERROR(INDEX(Справочники!$B$6:$B$45,MATCH(C118,Справочники!$A$6:$A$45,0)),"нет в справочнике")) | E118: ООО «СварТехСнаб» | F118: С-7413 от 03.08 | G118: П270 | H118: 500 | I118: =IF(C118="","",IFERROR(INDEX(Справочники!$C$6:$C$45,MATCH(C118,Справочники!$A$6:$A$45,0)),"")) | J118: =IF(C118="","",IFERROR(INDEX(Справочники!$E$6:$E$45,MATCH(C118,Справочники!$A$6:$A$45,0)),"")) | K118: Соответствует | L118: Принято | M118: 46237 | N118: Иванова Е. | P118: =IF(B118="","",IF(M118="",IF(L118="Карантин",INT(TODAY())-B118,""),M118-B118)) | Q118: =IF(C118="","",IFERROR(INDEX(Справочники!$D$6:$D$45,MATCH(C118,Справочники!$A$6:$A$45,0)),""))
A119: =IF(B119="","",ROW()-5) | B119: 46239 | C119: М-04 | D119: =IF(C119="","",IFERROR(INDEX(Справочники!$B$6:$B$45,MATCH(C119,Справочники!$A$6:$A$45,0)),"нет в справочнике")) | E119: ООО «Колор-Покрытия» | F119: С-5369 от 05.08 | G119: П881 | H119: 200 | I119: =IF(C119="","",IFERROR(INDEX(Справочники!$C$6:$C$45,MATCH(C119,Справочники!$A$6:$A$45,0)),"")) | J119: =IF(C119="","",IFERROR(INDEX(Справочники!$E$6:$E$45,MATCH(C119,Справочники!$A$6:$A$45,0)),"")) | K119: Соответствует | L119: Принято | M119: 46240 | N119: Иванова Е. | P119: =IF(B119="","",IF(M119="",IF(L119="Карантин",INT(TODAY())-B119,""),M119-B119)) | Q119: =IF(C119="","",IFERROR(INDEX(Справочники!$D$6:$D$45,MATCH(C119,Справочники!$A$6:$A$45,0)),""))
A120: =IF(B120="","",ROW()-5) | B120: 46240 | C120: М-07 | D120: =IF(C120="","",IFERROR(INDEX(Справочники!$B$6:$B$45,MATCH(C120,Справочники!$A$6:$A$45,0)),"нет в справочнике")) | E120: ООО «Подшипник-Центр» | F120: С-6990 от 06.08 | G120: П748 | H120: 50 | I120: =IF(C120="","",IFERROR(INDEX(Справочники!$C$6:$C$45,MATCH(C120,Справочники!$A$6:$A$45,0)),"")) | J120: =IF(C120="","",IFERROR(INDEX(Справочники!$E$6:$E$45,MATCH(C120,Справочники!$A$6:$A$45,0)),"")) | K120: Соответствует | L120: Принято | M120: 46240 | N120: Иванова Е. | P120: =IF(B120="","",IF(M120="",IF(L120="Карантин",INT(TODAY())-B120,""),M120-B120)) | Q120: =IF(C120="","",IFERROR(INDEX(Справочники!$D$6:$D$45,MATCH(C120,Справочники!$A$6:$A$45,0)),""))
A121: =IF(B121="","",ROW()-5) | B121: 46240 | C121: М-10 | D121: =IF(C121="","",IFERROR(INDEX(Справочники!$B$6:$B$45,MATCH(C121,Справочники!$A$6:$A$45,0)),"нет в справочнике")) | E121: ООО «Подшипник-Центр» | F121: С-7968 от 06.08 | G121: П207 | H121: 50 | I121: =IF(C121="","",IFERROR(INDEX(Справочники!$C$6:$C$45,MATCH(C121,Справочники!$A$6:$A$45,0)),"")) | J121: =IF(C121="","",IFERROR(INDEX(Справочники!$E$6:$E$45,MATCH(C121,Справочники!$A$6:$A$45,0)),"")) | K121: Соответствует | L121: Принято | M121: 46240 | N121: Орлова Т. | P121: =IF(B121="","",IF(M121="",IF(L121="Карантин",INT(TODAY())-B121,""),M121-B121)) | Q121: =IF(C121="","",IFERROR(INDEX(Справочники!$D$6:$D$45,MATCH(C121,Справочники!$A$6:$A$45,0)),""))
A122: =IF(B122="","",ROW()-5) | B122: 46241 | C122: М-06 | D122: =IF(C122="","",IFERROR(INDEX(Справочники!$B$6:$B$45,MATCH(C122,Справочники!$A$6:$A$45,0)),"нет в справочнике")) | E122: ООО «ЭлектроМаш» | F122: С-8393 от 07.08 | G122: П437 | H122: 500 | I122: =IF(C122="","",IFERROR(INDEX(Справочники!$C$6:$C$45,MATCH(C122,Справочники!$A$6:$A$45,0)),"")) | J122: =IF(C122="","",IFERROR(INDEX(Справочники!$E$6:$E$45,MATCH(C122,Справочники!$A$6:$A$45,0)),"")) | K122: Соответствует | L122: Принято | M122: 46242 | N122: Орлова Т. | P122: =IF(B122="","",IF(M122="",IF(L122="Карантин",INT(TODAY())-B122,""),M122-B122)) | Q122: =IF(C122="","",IFERROR(INDEX(Справочники!$D$6:$D$45,MATCH(C122,Справочники!$A$6:$A$45,0)),""))
A123: =IF(B123="","",ROW()-5) | B123: 46241 | C123: М-09 | D123: =IF(C123="","",IFERROR(INDEX(Справочники!$B$6:$B$45,MATCH(C123,Справочники!$A$6:$A$45,0)),"нет в справочнике")) | E123: ООО «Крепёж-Опт» | F123: С-2789 от 07.08 | G123: П936 | H123: 100 | I123: =IF(C123="","",IFERROR(INDEX(Справочники!$C$6:$C$45,MATCH(C123,Справочники!$A$6:$A$45,0)),"")) | J123: =IF(C123="","",IFERROR(INDEX(Справочники!$E$6:$E$45,MATCH(C123,Справочники!$A$6:$A$45,0)),"")) | K123: Соответствует | L123: Принято | M123: 46242 | N123: Орлова Т. | P123: =IF(B123="","",IF(M123="",IF(L123="Карантин",INT(TODAY())-B123,""),M123-B123)) | Q123: =IF(C123="","",IFERROR(INDEX(Справочники!$D$6:$D$45,MATCH(C123,Справочники!$A$6:$A$45,0)),""))
A124: =IF(B124="","",ROW()-5) | B124: 46242 | C124: М-04 | D124: =IF(C124="","",IFERROR(INDEX(Справочники!$B$6:$B$45,MATCH(C124,Справочники!$A$6:$A$45,0)),"нет в справочнике")) | E124: ООО «Колор-Покрытия» | F124: С-6254 от 08.08 | G124: П458 | H124: 200 | I124: =IF(C124="","",IFERROR(INDEX(Справочники!$C$6:$C$45,MATCH(C124,Справочники!$A$6:$A$45,0)),"")) | J124: =IF(C124="","",IFERROR(INDEX(Справочники!$E$6:$E$45,MATCH(C124,Справочники!$A$6:$A$45,0)),"")) | K124: Соответствует | L124: Принято | M124: 46244 | N124: Иванова Е. | P124: =IF(B124="","",IF(M124="",IF(L124="Карантин",INT(TODAY())-B124,""),M124-B124)) | Q124: =IF(C124="","",IFERROR(INDEX(Справочники!$D$6:$D$45,MATCH(C124,Справочники!$A$6:$A$45,0)),""))
A125: =IF(B125="","",ROW()-5) | B125: 46242 | C125: М-05 | D125: =IF(C125="","",IFERROR(INDEX(Справочники!$B$6:$B$45,MATCH(C125,Справочники!$A$6:$A$45,0)),"нет в справочнике")) | E125: ООО «Крепёж-Опт» | F125: С-9407 от 08.08 | G125: П580 | H125: 50 | I125: =IF(C125="","",IFERROR(INDEX(Справочники!$C$6:$C$45,MATCH(C125,Справочники!$A$6:$A$45,0)),"")) | J125: =IF(C125="","",IFERROR(INDEX(Справочники!$E$6:$E$45,MATCH(C125,Справочники!$A$6:$A$45,0)),"")) | K125: Соответствует | L125: Принято | M125: 46242 | N125: Иванова Е. | P125: =IF(B125="","",IF(M125="",IF(L125="Карантин",INT(TODAY())-B125,""),M125-B125)) | Q125: =IF(C125="","",IFERROR(INDEX(Справочники!$D$6:$D$45,MATCH(C125,Справочники!$A$6:$A$45,0)),""))
... A127: =IF(B127="","",ROW()-5) | B127: 46246 | C127: М-02 | D127: =IF(C127="","",IFERROR(INDEX(Справочники!$B$6:$B$45,MATCH(C127,Справочники!$A$6:$A$45,0)),"нет в справочнике")) | E127: ООО «Металл-Сервис» | F127: С-8563 от 12.08 | G127: П432 | H127: 3.6 | I127: =IF(C127="","",IFERROR(INDEX(Справочники!$C$6:$C$45,MATCH(C127,Справочники!$A$6:$A$45,0)),"")) | J127: =IF(C127="","",IFERROR(INDEX(Справочники!$E$6:$E$45,MATCH(C127,Справочники!$A$6:$A$45,0)),"")) | K127: Соответствует | L127: Принято | M127: 46247 | N127: Иванова Е. | P127: =IF(B127="","",IF(M127="",IF(L127="Карантин",INT(TODAY())-B127,""),M127-B127)) | Q127: =IF(C127="","",IFERROR(INDEX(Справочники!$D$6:$D$45,MATCH(C127,Справочники!$A$6:$A$45,0)),""))
A128: =IF(B128="","",ROW()-5) | B128: 46246 | C128: М-08 | D128: =IF(C128="","",IFERROR(INDEX(Справочники!$B$6:$B$45,MATCH(C128,Справочники!$A$6:$A$45,0)),"нет в справочнике")) | E128: ООО «КабельТорг» | F128: С-5330 от 12.08 | G128: П570 | H128: 1000 | I128: =IF(C128="","",IFERROR(INDEX(Справочники!$C$6:$C$45,MATCH(C128,Справочники!$A$6:$A$45,0)),"")) | J128: =IF(C128="","",IFERROR(INDEX(Справочники!$E$6:$E$45,MATCH(C128,Справочники!$A$6:$A$45,0)),"")) | K128: Сопротивление изоляции ниже нормы | L128: Забраковано | M128: 46252 | N128: Орлова Т. | O128: Акт № 123 | P128: =IF(B128="","",IF(M128="",IF(L128="Карантин",INT(TODAY())-B128,""),M128-B128)) | Q128: =IF(C128="","",IFERROR(INDEX(Справочники!$D$6:$D$45,MATCH(C128,Справочники!$A$6:$A$45,0)),""))
A129: =IF(B129="","",ROW()-5) | B129: 46249 | C129: М-09 | D129: =IF(C129="","",IFERROR(INDEX(Справочники!$B$6:$B$45,MATCH(C129,Справочники!$A$6:$A$45,0)),"нет в справочнике")) | E129: ООО «Крепёж-Опт» | F129: С-7984 от 15.08 | G129: П226 | H129: 100 | I129: =IF(C129="","",IFERROR(INDEX(Справочники!$C$6:$C$45,MATCH(C129,Справочники!$A$6:$A$45,0)),"")) | J129: =IF(C129="","",IFERROR(INDEX(Справочники!$E$6:$E$45,MATCH(C129,Справочники!$A$6:$A$45,0)),"")) | K129: Соответствует | L129: Принято | M129: 46251 | N129: Иванова Е. | P129: =IF(B129="","",IF(M129="",IF(L129="Карантин",INT(TODAY())-B129,""),M129-B129)) | Q129: =IF(C129="","",IFERROR(INDEX(Справочники!$D$6:$D$45,MATCH(C129,Справочники!$A$6:$A$45,0)),""))
A130: =IF(B130="","",ROW()-5) | B130: 46250 | C130: М-06 | D130: =IF(C130="","",IFERROR(INDEX(Справочники!$B$6:$B$45,MATCH(C130,Справочники!$A$6:$A$45,0)),"нет в справочнике")) | E130: ООО «ЭлектроМаш» | F130: С-8305 от 16.08 | G130: П246 | H130: 50 | I130: =IF(C130="","",IFERROR(INDEX(Справочники!$C$6:$C$45,MATCH(C130,Справочники!$A$6:$A$45,0)),"")) | J130: =IF(C130="","",IFERROR(INDEX(Справочники!$E$6:$E$45,MATCH(C130,Справочники!$A$6:$A$45,0)),"")) | K130: Соответствует | L130: Принято | M130: 46251 | N130: Орлова Т. | P130: =IF(B130="","",IF(M130="",IF(L130="Карантин",INT(TODAY())-B130,""),M130-B130)) | Q130: =IF(C130="","",IFERROR(INDEX(Справочники!$D$6:$D$45,MATCH(C130,Справочники!$A$6:$A$45,0)),""))
A131: =IF(B131="","",ROW()-5) | B131: 46250 | C131: М-05 | D131: =IF(C131="","",IFERROR(INDEX(Справочники!$B$6:$B$45,MATCH(C131,Справочники!$A$6:$A$45,0)),"нет в справочнике")) | E131: ООО «Крепёж-Опт» | F131: С-5786 от 16.08 | G131: П391 | H131: 50 | I131: =IF(C131="","",IFERROR(INDEX(Справочники!$C$6:$C$45,MATCH(C131,Справочники!$A$6:$A$45,0)),"")) | J131: =IF(C131="","",IFERROR(INDEX(Справочники!$E$6:$E$45,MATCH(C131,Справочники!$A$6:$A$45,0)),"")) | K131: Соответствует | L131: Принято | M131: 46252 | N131: Смирнов К. | P131: =IF(B131="","",IF(M131="",IF(L131="Карантин",INT(TODAY())-B131,""),M131-B131)) | Q131: =IF(C131="","",IFERROR(INDEX(Справочники!$D$6:$D$45,MATCH(C131,Справочники!$A$6:$A$45,0)),""))
A132: =IF(B132="","",ROW()-5) | B132: 46253 | C132: М-01 | D132: =IF(C132="","",IFERROR(INDEX(Справочники!$B$6:$B$45,MATCH(C132,Справочники!$A$6:$A$45,0)),"нет в справочнике")) | E132: АО «СтальПром» | F132: С-1633 от 19.08 | G132: П281 | H132: 14.5 | I132: =IF(C132="","",IFERROR(INDEX(Справочники!$C$6:$C$45,MATCH(C132,Справочники!$A$6:$A$45,0)),"")) | J132: =IF(C132="","",IFERROR(INDEX(Справочники!$E$6:$E$45,MATCH(C132,Справочники!$A$6:$A$45,0)),"")) | K132: Соответствует | L132: Принято | M132: 46253 | N132: Смирнов К. | P132: =IF(B132="","",IF(M132="",IF(L132="Карантин",INT(TODAY())-B132,""),M132-B132)) | Q132: =IF(C132="","",IFERROR(INDEX(Справочники!$D$6:$D$45,MATCH(C132,Справочники!$A$6:$A$45,0)),""))
A133: =IF(B133="","",ROW()-5) | B133: 46255 | C133: М-10 | D133: =IF(C133="","",IFERROR(INDEX(Справочники!$B$6:$B$45,MATCH(C133,Справочники!$A$6:$A$45,0)),"нет в справочнике")) | E133: ООО «Подшипник-Центр» | F133: С-8362 от 21.08 | G133: П370 | H133: 50 | I133: =IF(C133="","",IFERROR(INDEX(Справочники!$C$6:$C$45,MATCH(C133,Справочники!$A$6:$A$45,0)),"")) | J133: =IF(C133="","",IFERROR(INDEX(Справочники!$E$6:$E$45,MATCH(C133,Справочники!$A$6:$A$45,0)),"")) | K133: Соответствует | L133: Принято | M133: 46256 | N133: Иванова Е. | P133: =IF(B133="","",IF(M133="",IF(L133="Карантин",INT(TODAY())-B133,""),M133-B133)) | Q133: =IF(C133="","",IFERROR(INDEX(Справочники!$D$6:$D$45,MATCH(C133,Справочники!$A$6:$A$45,0)),""))
A134: =IF(B134="","",ROW()-5) | B134: 46256 | C134: М-06 | D134: =IF(C134="","",IFERROR(INDEX(Справочники!$B$6:$B$45,MATCH(C134,Справочники!$A$6:$A$45,0)),"нет в справочнике")) | E134: ООО «ЭлектроМаш» | F134: С-4191 от 22.08 | G134: П734 | H134: 1000 | I134: =IF(C134="","",IFERROR(INDEX(Справочники!$C$6:$C$45,MATCH(C134,Справочники!$A$6:$A$45,0)),"")) | J134: =IF(C134="","",IFERROR(INDEX(Справочники!$E$6:$E$45,MATCH(C134,Справочники!$A$6:$A$45,0)),"")) | K134: Соответствует | L134: Принято | M134: 46257 | N134: Иванова Е. | P134: =IF(B134="","",IF(M134="",IF(L134="Карантин",INT(TODAY())-B134,""),M134-B134)) | Q134: =IF(C134="","",IFERROR(INDEX(Справочники!$D$6:$D$45,MATCH(C134,Справочники!$A$6:$A$45,0)),""))
A135: =IF(B135="","",ROW()-5) | B135: 46256 | C135: М-07 | D135: =IF(C135="","",IFERROR(INDEX(Справочники!$B$6:$B$45,MATCH(C135,Справочники!$A$6:$A$45,0)),"нет в справочнике")) | E135: ООО «Подшипник-Центр» | F135: С-9250 от 22.08 | G135: П126 | H135: 1000 | I135: =IF(C135="","",IFERROR(INDEX(Справочники!$C$6:$C$45,MATCH(C135,Справочники!$A$6:$A$45,0)),"")) | J135: =IF(C135="","",IFERROR(INDEX(Справочники!$E$6:$E$45,MATCH(C135,Справочники!$A$6:$A$45,0)),"")) | K135: Соответствует | L135: Принято | M135: 46257 | N135: Иванова Е. | P135: =IF(B135="","",IF(M135="",IF(L135="Карантин",INT(TODAY())-B135,""),M135-B135)) | Q135: =IF(C135="","",IFERROR(INDEX(Справочники!$D$6:$D$45,MATCH(C135,Справочники!$A$6:$A$45,0)),""))
A136: =IF(B136="","",ROW()-5) | B136: 46259 | C136: М-02 | D136: =IF(C136="","",IFERROR(INDEX(Справочники!$B$6:$B$45,MATCH(C136,Справочники!$A$6:$A$45,0)),"нет в справочнике")) | E136: АО «СтальПром» | F136: С-1541 от 25.08 | G136: П379 | H136: 4.9 | I136: =IF(C136="","",IFERROR(INDEX(Справочники!$C$6:$C$45,MATCH(C136,Справочники!$A$6:$A$45,0)),"")) | J136: =IF(C136="","",IFERROR(INDEX(Справочники!$E$6:$E$45,MATCH(C136,Справочники!$A$6:$A$45,0)),"")) | K136: Соответствует | L136: Принято | M136: 46260 | N136: Смирнов К. | P136: =IF(B136="","",IF(M136="",IF(L136="Карантин",INT(TODAY())-B136,""),M136-B136)) | Q136: =IF(C136="","",IFERROR(INDEX(Справочники!$D$6:$D$45,MATCH(C136,Справочники!$A$6:$A$45,0)),""))
A137: =IF(B137="","",ROW()-5) | B137: 46262 | C137: М-01 | D137: =IF(C137="","",IFERROR(INDEX(Справочники!$B$6:$B$45,MATCH(C137,Справочники!$A$6:$A$45,0)),"нет в справочнике")) | E137: ООО «Металл-Сервис» | F137: С-1532 от 28.08 | G137: П815 | H137: 16.2 | I137: =IF(C137="","",IFERROR(INDEX(Справочники!$C$6:$C$45,MATCH(C137,Справочники!$A$6:$A$45,0)),"")) | J137: =IF(C137="","",IFERROR(INDEX(Справочники!$E$6:$E$45,MATCH(C137,Справочники!$A$6:$A$45,0)),"")) | K137: Соответствует | L137: Принято | M137: 46263 | N137: Иванова Е. | P137: =IF(B137="","",IF(M137="",IF(L137="Карантин",INT(TODAY())-B137,""),M137-B137)) | Q137: =IF(C137="","",IFERROR(INDEX(Справочники!$D$6:$D$45,MATCH(C137,Справочники!$A$6:$A$45,0)),""))
A138: =IF(B138="","",ROW()-5) | B138: 46266 | C138: М-02 | D138: =IF(C138="","",IFERROR(INDEX(Справочники!$B$6:$B$45,MATCH(C138,Справочники!$A$6:$A$45,0)),"нет в справочнике")) | E138: ООО «Металл-Сервис» | F138: С-7730 от 01.09 | G138: П273 | H138: 15.9 | I138: =IF(C138="","",IFERROR(INDEX(Справочники!$C$6:$C$45,MATCH(C138,Справочники!$A$6:$A$45,0)),"")) | J138: =IF(C138="","",IFERROR(INDEX(Справочники!$E$6:$E$45,MATCH(C138,Справочники!$A$6:$A$45,0)),"")) | K138: Соответствует | L138: Принято | M138: 46266 | N138: Смирнов К. | P138: =IF(B138="","",IF(M138="",IF(L138="Карантин",INT(TODAY())-B138,""),M138-B138)) | Q138: =IF(C138="","",IFERROR(INDEX(Справочники!$D$6:$D$45,MATCH(C138,Справочники!$A$6:$A$45,0)),""))
A139: =IF(B139="","",ROW()-5) | B139: 46270 | C139: М-04 | D139: =IF(C139="","",IFERROR(INDEX(Справочники!$B$6:$B$45,MATCH(C139,Справочники!$A$6:$A$45,0)),"нет в справочнике")) | E139: ООО «Колор-Покрытия» | F139: С-7280 от 05.09 | G139: П781 | H139: 200 | I139: =IF(C139="","",IFERROR(INDEX(Справочники!$C$6:$C$45,MATCH(C139,Справочники!$A$6:$A$45,0)),"")) | J139: =IF(C139="","",IFERROR(INDEX(Справочники!$E$6:$E$45,MATCH(C139,Справочники!$A$6:$A$45,0)),"")) | K139: Соответствует | L139: Принято | M139: 46271 | N139: Орлова Т. | P139: =IF(B139="","",IF(M139="",IF(L139="Карантин",INT(TODAY())-B139,""),M139-B139)) | Q139: =IF(C139="","",IFERROR(INDEX(Справочники!$D$6:$D$45,MATCH(C139,Справочники!$A$6:$A$45,0)),""))
A140: =IF(B140="","",ROW()-5) | B140: 46271 | C140: М-08 | D140: =IF(C140="","",IFERROR(INDEX(Справочники!$B$6:$B$45,MATCH(C140,Справочники!$A$6:$A$45,0)),"нет в справочнике")) | E140: ООО «КабельТорг» | F140: С-7031 от 06.09 | G140: П346 | H140: 500 | I140: =IF(C140="","",IFERROR(INDEX(Справочники!$C$6:$C$45,MATCH(C140,Справочники!$A$6:$A$45,0)),"")) | J140: =IF(C140="","",IFERROR(INDEX(Справочники!$E$6:$E$45,MATCH(C140,Справочники!$A$6:$A$45,0)),"")) | K140: Соответствует | L140: Принято | M140: 46271 | N140: Орлова Т. | P140: =IF(B140="","",IF(M140="",IF(L140="Карантин",INT(TODAY())-B140,""),M140-B140)) | Q140: =IF(C140="","",IFERROR(INDEX(Справочники!$D$6:$D$45,MATCH(C140,Справочники!$A$6:$A$45,0)),""))
A141: =IF(B141="","",ROW()-5) | B141: 46279 | C141: М-09 | D141: =IF(C141="","",IFERROR(INDEX(Справочники!$B$6:$B$45,MATCH(C141,Справочники!$A$6:$A$45,0)),"нет в справочнике")) | E141: ООО «Крепёж-Опт» | F141: С-1146 от 14.09 | G141: П706 | H141: 500 | I141: =IF(C141="","",IFERROR(INDEX(Справочники!$C$6:$C$45,MATCH(C141,Справочники!$A$6:$A$45,0)),"")) | J141: =IF(C141="","",IFERROR(INDEX(Справочники!$E$6:$E$45,MATCH(C141,Справочники!$A$6:$A$45,0)),"")) | K141: Соответствует | L141: Принято | M141: 46280 | N141: Орлова Т. | P141: =IF(B141="","",IF(M141="",IF(L141="Карантин",INT(TODAY())-B141,""),M141-B141)) | Q141: =IF(C141="","",IFERROR(INDEX(Справочники!$D$6:$D$45,MATCH(C141,Справочники!$A$6:$A$45,0)),""))
A142: =IF(B142="","",ROW()-5) | B142: 46280 | C142: М-01 | D142: =IF(C142="","",IFERROR(INDEX(Справочники!$B$6:$B$45,MATCH(C142,Справочники!$A$6:$A$45,0)),"нет в справочнике")) | E142: АО «СтальПром» | F142: С-4382 от 15.09 | G142: П877 | H142: 8.9 | I142: =IF(C142="","",IFERROR(INDEX(Справочники!$C$6:$C$45,MATCH(C142,Справочники!$A$6:$A$45,0)),"")) | J142: =IF(C142="","",IFERROR(INDEX(Справочники!$E$6:$E$45,MATCH(C142,Справочники!$A$6:$A$45,0)),"")) | K142: Нет сертификата на плавку | L142: Забраковано | M142: 46282 | N142: Иванова Е. | O142: Акт № 137 | P142: =IF(B142="","",IF(M142="",IF(L142="Карантин",INT(TODAY())-B142,""),M142-B142)) | Q142: =IF(C142="","",IFERROR(INDEX(Справочники!$D$6:$D$45,MATCH(C142,Справочники!$A$6:$A$45,0)),""))
A143: =IF(B143="","",ROW()-5) | B143: 46281 | C143: М-04 | D143: =IF(C143="","",IFERROR(INDEX(Справочники!$B$6:$B$45,MATCH(C143,Справочники!$A$6:$A$45,0)),"нет в справочнике")) | E143: ООО «Колор-Покрытия» | F143: С-6678 от 16.09 | G143: П681 | H143: 200 | I143: =IF(C143="","",IFERROR(INDEX(Справочники!$C$6:$C$45,MATCH(C143,Справочники!$A$6:$A$45,0)),"")) | J143: =IF(C143="","",IFERROR(INDEX(Справочники!$E$6:$E$45,MATCH(C143,Справочники!$A$6:$A$45,0)),"")) | K143: Соответствует | L143: Принято | M143: 46282 | N143: Смирнов К. | P143: =IF(B143="","",IF(M143="",IF(L143="Карантин",INT(TODAY())-B143,""),M143-B143)) | Q143: =IF(C143="","",IFERROR(INDEX(Справочники!$D$6:$D$45,MATCH(C143,Справочники!$A$6:$A$45,0)),""))
A144: =IF(B144="","",ROW()-5) | B144: 46281 | C144: М-09 | D144: =IF(C144="","",IFERROR(INDEX(Справочники!$B$6:$B$45,MATCH(C144,Справочники!$A$6:$A$45,0)),"нет в справочнике")) | E144: ООО «Крепёж-Опт» | F144: С-8707 от 16.09 | G144: П972 | H144: 500 | I144: =IF(C144="","",IFERROR(INDEX(Справочники!$C$6:$C$45,MATCH(C144,Справочники!$A$6:$A$45,0)),"")) | J144: =IF(C144="","",IFERROR(INDEX(Справочники!$E$6:$E$45,MATCH(C144,Справочники!$A$6:$A$45,0)),"")) | K144: Соответствует | L144: Принято | M144: 46283 | N144: Орлова Т. | P144: =IF(B144="","",IF(M144="",IF(L144="Карантин",INT(TODAY())-B144,""),M144-B144)) | Q144: =IF(C144="","",IFERROR(INDEX(Справочники!$D$6:$D$45,MATCH(C144,Справочники!$A$6:$A$45,0)),""))
A145: =IF(B145="","",ROW()-5) | B145: 46284 | C145: М-03 | D145: =IF(C145="","",IFERROR(INDEX(Справочники!$B$6:$B$45,MATCH(C145,Справочники!$A$6:$A$45,0)),"нет в справочнике")) | E145: ООО «СварТехСнаб» | F145: С-9169 от 19.09 | G145: П285 | H145: 1000 | I145: =IF(C145="","",IFERROR(INDEX(Справочники!$C$6:$C$45,MATCH(C145,Справочники!$A$6:$A$45,0)),"")) | J145: =IF(C145="","",IFERROR(INDEX(Справочники!$E$6:$E$45,MATCH(C145,Справочники!$A$6:$A$45,0)),"")) | K145: Соответствует | L145: Принято | M145: 46286 | N145: Смирнов К. | P145: =IF(B145="","",IF(M145="",IF(L145="Карантин",INT(TODAY())-B145,""),M145-B145)) | Q145: =IF(C145="","",IFERROR(INDEX(Справочники!$D$6:$D$45,MATCH(C145,Справочники!$A$6:$A$45,0)),""))
A146: =IF(B146="","",ROW()-5) | B146: 46288 | C146: М-03 | D146: =IF(C146="","",IFERROR(INDEX(Справочники!$B$6:$B$45,MATCH(C146,Справочники!$A$6:$A$45,0)),"нет в справочнике")) | E146: ООО «СварТехСнаб» | F146: С-4984 от 23.09 | G146: П121 | H146: 500 | I146: =IF(C146="","",IFERROR(INDEX(Справочники!$C$6:$C$45,MATCH(C146,Справочники!$A$6:$A$45,0)),"")) | J146: =IF(C146="","",IFERROR(INDEX(Справочники!$E$6:$E$45,MATCH(C146,Справочники!$A$6:$A$45,0)),"")) | K146: Соответствует | L146: Принято | M146: 46289 | N146: Орлова Т. | P146: =IF(B146="","",IF(M146="",IF(L146="Карантин",INT(TODAY())-B146,""),M146-B146)) | Q146: =IF(C146="","",IFERROR(INDEX(Справочники!$D$6:$D$45,MATCH(C146,Справочники!$A$6:$A$45,0)),""))
A147: =IF(B147="","",ROW()-5) | B147: 46289 | C147: М-07 | D147: =IF(C147="","",IFERROR(INDEX(Справочники!$B$6:$B$45,MATCH(C147,Справочники!$A$6:$A$45,0)),"нет в справочнике")) | E147: ООО «Подшипник-Центр» | F147: С-9804 от 24.09 | G147: П163 | H147: 100 | I147: =IF(C147="","",IFERROR(INDEX(Справочники!$C$6:$C$45,MATCH(C147,Справочники!$A$6:$A$45,0)),"")) | J147: =IF(C147="","",IFERROR(INDEX(Справочники!$E$6:$E$45,MATCH(C147,Справочники!$A$6:$A$45,0)),"")) | K147: Соответствует | L147: Принято | M147: 46289 | N147: Смирнов К. | P147: =IF(B147="","",IF(M147="",IF(L147="Карантин",INT(TODAY())-B147,""),M147-B147)) | Q147: =IF(C147="","",IFERROR(INDEX(Справочники!$D$6:$D$45,MATCH(C147,Справочники!$A$6:$A$45,0)),""))
A148: =IF(B148="","",ROW()-5) | B148: 46293 | C148: М-06 | D148: =IF(C148="","",IFERROR(INDEX(Справочники!$B$6:$B$45,MATCH(C148,Справочники!$A$6:$A$45,0)),"нет в справочнике")) | E148: ООО «ЭлектроМаш» | F148: С-1999 от 28.09 | G148: П389 | H148: 100 | I148: =IF(C148="","",IFERROR(INDEX(Справочники!$C$6:$C$45,MATCH(C148,Справочники!$A$6:$A$45,0)),"")) | J148: =IF(C148="","",IFERROR(INDEX(Справочники!$E$6:$E$45,MATCH(C148,Справочники!$A$6:$A$45,0)),"")) | K148: Соответствует | L148: Принято | M148: 46295 | N148: Иванова Е. | P148: =IF(B148="","",IF(M148="",IF(L148="Карантин",INT(TODAY())-B148,""),M148-B148)) | Q148: =IF(C148="","",IFERROR(INDEX(Справочники!$D$6:$D$45,MATCH(C148,Справочники!$A$6:$A$45,0)),""))
A149: =IF(B149="","",ROW()-5) | B149: 46295 | C149: М-08 | D149: =IF(C149="","",IFERROR(INDEX(Справочники!$B$6:$B$45,MATCH(C149,Справочники!$A$6:$A$45,0)),"нет в справочнике")) | E149: ООО «КабельТорг» | F149: С-4872 от 30.09 | G149: П431 | H149: 2000 | I149: =IF(C149="","",IFERROR(INDEX(Справочники!$C$6:$C$45,MATCH(C149,Справочники!$A$6:$A$45,0)),"")) | J149: =IF(C149="","",IFERROR(INDEX(Справочники!$E$6:$E$45,MATCH(C149,Справочники!$A$6:$A$45,0)),"")) | K149: Соответствует | L149: Принято | M149: 46296 | N149: Орлова Т. | P149: =IF(B149="","",IF(M149="",IF(L149="Карантин",INT(TODAY())-B149,""),M149-B149)) | Q149: =IF(C149="","",IFERROR(INDEX(Справочники!$D$6:$D$45,MATCH(C149,Справочники!$A$6:$A$45,0)),""))
A150: =IF(B150="","",ROW()-5) | B150: 46295 | C150: М-04 | D150: =IF(C150="","",IFERROR(INDEX(Справочники!$B$6:$B$45,MATCH(C150,Справочники!$A$6:$A$45,0)),"нет в справочнике")) | E150: ООО «Колор-Покрытия» | F150: С-1224 от 30.09 | G150: П598 | H150: 1000 | I150: =IF(C150="","",IFERROR(INDEX(Справочники!$C$6:$C$45,MATCH(C150,Справочники!$A$6:$A$45,0)),"")) | J150: =IF(C150="","",IFERROR(INDEX(Справочники!$E$6:$E$45,MATCH(C150,Справочники!$A$6:$A$45,0)),"")) | K150: Соответствует | L150: Принято | M150: 46296 | N150: Орлова Т. | P150: =IF(B150="","",IF(M150="",IF(L150="Карантин",INT(TODAY())-B150,""),M150-B150)) | Q150: =IF(C150="","",IFERROR(INDEX(Справочники!$D$6:$D$45,MATCH(C150,Справочники!$A$6:$A$45,0)),""))
A151: =IF(B151="","",ROW()-5) | B151: 46298 | C151: М-02 | D151: =IF(C151="","",IFERROR(INDEX(Справочники!$B$6:$B$45,MATCH(C151,Справочники!$A$6:$A$45,0)),"нет в справочнике")) | E151: ООО «Металл-Сервис» | F151: С-6466 от 03.10 | G151: П907 | H151: 17.2 | I151: =IF(C151="","",IFERROR(INDEX(Справочники!$C$6:$C$45,MATCH(C151,Справочники!$A$6:$A$45,0)),"")) | J151: =IF(C151="","",IFERROR(INDEX(Справочники!$E$6:$E$45,MATCH(C151,Справочники!$A$6:$A$45,0)),"")) | K151: Соответствует | L151: Принято | M151: 46298 | N151: Смирнов К. | P151: =IF(B151="","",IF(M151="",IF(L151="Карантин",INT(TODAY())-B151,""),M151-B151)) | Q151: =IF(C151="","",IFERROR(INDEX(Справочники!$D$6:$D$45,MATCH(C151,Справочники!$A$6:$A$45,0)),""))
A152: =IF(B152="","",ROW()-5) | B152: 46301 | C152: М-04 | D152: =IF(C152="","",IFERROR(INDEX(Справочники!$B$6:$B$45,MATCH(C152,Справочники!$A$6:$A$45,0)),"нет в справочнике")) | E152: ООО «Колор-Покрытия» | F152: С-1146 от 06.10 | G152: П611 | H152: 1000 | I152: =IF(C152="","",IFERROR(INDEX(Справочники!$C$6:$C$45,MATCH(C152,Справочники!$A$6:$A$45,0)),"")) | J152: =IF(C152="","",IFERROR(INDEX(Справочники!$E$6:$E$45,MATCH(C152,Справочники!$A$6:$A$45,0)),"")) | K152: Соответствует | L152: Принято | M152: 46302 | N152: Иванова Е. | P152: =IF(B152="","",IF(M152="",IF(L152="Карантин",INT(TODAY())-B152,""),M152-B152)) | Q152: =IF(C152="","",IFERROR(INDEX(Справочники!$D$6:$D$45,MATCH(C152,Справочники!$A$6:$A$45,0)),""))
A153: =IF(B153="","",ROW()-5) | B153: 46302 | C153: М-09 | D153: =IF(C153="","",IFERROR(INDEX(Справочники!$B$6:$B$45,MATCH(C153,Справочники!$A$6:$A$45,0)),"нет в справочнике")) | E153: ООО «Крепёж-Опт» | F153: С-9130 от 07.10 | G153: П588 | H153: 100 | I153: =IF(C153="","",IFERROR(INDEX(Справочники!$C$6:$C$45,MATCH(C153,Справочники!$A$6:$A$45,0)),"")) | J153: =IF(C153="","",IFERROR(INDEX(Справочники!$E$6:$E$45,MATCH(C153,Справочники!$A$6:$A$45,0)),"")) | K153: Соответствует | L153: Принято | M153: 46303 | N153: Иванова Е. | P153: =IF(B153="","",IF(M153="",IF(L153="Карантин",INT(TODAY())-B153,""),M153-B153)) | Q153: =IF(C153="","",IFERROR(INDEX(Справочники!$D$6:$D$45,MATCH(C153,Справочники!$A$6:$A$45,0)),""))
A154: =IF(B154="","",ROW()-5) | B154: 46304 | C154: М-05 | D154: =IF(C154="","",IFERROR(INDEX(Справочники!$B$6:$B$45,MATCH(C154,Справочники!$A$6:$A$45,0)),"нет в справочнике")) | E154: ООО «Крепёж-Опт» | F154: С-4848 от 09.10 | G154: П462 | H154: 100 | I154: =IF(C154="","",IFERROR(INDEX(Справочники!$C$6:$C$45,MATCH(C154,Справочники!$A$6:$A$45,0)),"")) | J154: =IF(C154="","",IFERROR(INDEX(Справочники!$E$6:$E$45,MATCH(C154,Справочники!$A$6:$A$45,0)),"")) | K154: Соответствует | L154: Принято | M154: 46304 | N154: Иванова Е. | P154: =IF(B154="","",IF(M154="",IF(L154="Карантин",INT(TODAY())-B154,""),M154-B154)) | Q154: =IF(C154="","",IFERROR(INDEX(Справочники!$D$6:$D$45,MATCH(C154,Справочники!$A$6:$A$45,0)),""))
... A160: =IF(B160="","",ROW()-5) | B160: 46312 | C160: М-01 | D160: =IF(C160="","",IFERROR(INDEX(Справочники!$B$6:$B$45,MATCH(C160,Справочники!$A$6:$A$45,0)),"нет в справочнике")) | E160: АО «СтальПром» | F160: С-8995 от 17.10 | G160: П594 | H160: 18.2 | I160: =IF(C160="","",IFERROR(INDEX(Справочники!$C$6:$C$45,MATCH(C160,Справочники!$A$6:$A$45,0)),"")) | J160: =IF(C160="","",IFERROR(INDEX(Справочники!$E$6:$E$45,MATCH(C160,Справочники!$A$6:$A$45,0)),"")) | K160: Соответствует | L160: Принято | M160: 46312 | N160: Смирнов К. | P160: =IF(B160="","",IF(M160="",IF(L160="Карантин",INT(TODAY())-B160,""),M160-B160)) | Q160: =IF(C160="","",IFERROR(INDEX(Справочники!$D$6:$D$45,MATCH(C160,Справочники!$A$6:$A$45,0)),""))
A161: =IF(B161="","",ROW()-5) | B161: 46312 | C161: М-02 | D161: =IF(C161="","",IFERROR(INDEX(Справочники!$B$6:$B$45,MATCH(C161,Справочники!$A$6:$A$45,0)),"нет в справочнике")) | E161: АО «СтальПром» | F161: С-1876 от 17.10 | G161: П780 | H161: 7.2 | I161: =IF(C161="","",IFERROR(INDEX(Справочники!$C$6:$C$45,MATCH(C161,Справочники!$A$6:$A$45,0)),"")) | J161: =IF(C161="","",IFERROR(INDEX(Справочники!$E$6:$E$45,MATCH(C161,Справочники!$A$6:$A$45,0)),"")) | K161: Коррозия на поверхности | L161: Забраковано | M161: 46319 | N161: Иванова Е. | O161: Акт № 156 | P161: =IF(B161="","",IF(M161="",IF(L161="Карантин",INT(TODAY())-B161,""),M161-B161)) | Q161: =IF(C161="","",IFERROR(INDEX(Справочники!$D$6:$D$45,MATCH(C161,Справочники!$A$6:$A$45,0)),""))
A162: =IF(B162="","",ROW()-5) | B162: 46313 | C162: М-07 | D162: =IF(C162="","",IFERROR(INDEX(Справочники!$B$6:$B$45,MATCH(C162,Справочники!$A$6:$A$45,0)),"нет в справочнике")) | E162: ООО «Подшипник-Центр» | F162: С-8299 от 18.10 | G162: П762 | H162: 1000 | I162: =IF(C162="","",IFERROR(INDEX(Справочники!$C$6:$C$45,MATCH(C162,Справочники!$A$6:$A$45,0)),"")) | J162: =IF(C162="","",IFERROR(INDEX(Справочники!$E$6:$E$45,MATCH(C162,Справочники!$A$6:$A$45,0)),"")) | K162: Соответствует | L162: Принято | M162: 46313 | N162: Смирнов К. | P162: =IF(B162="","",IF(M162="",IF(L162="Карантин",INT(TODAY())-B162,""),M162-B162)) | Q162: =IF(C162="","",IFERROR(INDEX(Справочники!$D$6:$D$45,MATCH(C162,Справочники!$A$6:$A$45,0)),""))
...

Sheet Рейтинг поставщиков
A1: PLANT PERFORMANCE · plantperformance.ru
A2: Рейтинг поставщиков по входному контролю
A3: Считается автоматически из журнала. A — надёжный, B — под наблюдением, C — нужна претензия и план улучшений.
A5: Поставщик | B5: Партий | C5: Забраковано | D5: С отступлением | E5: % брака | F5: Средн. дней до решения | G5: Рейтинг | H5: Что делать
A6: =IF(Справочники!G6="","",Справочники!G6) | B6: =IF(A6="","",COUNTIF(Журнал!$E$6:$E$505,A6)) | C6: =IF(A6="","",COUNTIFS(Журнал!$E$6:$E$505,A6,Журнал!$L$6:$L$505,"Забраковано")) | D6: =IF(A6="","",COUNTIFS(Журнал!$E$6:$E$505,A6,Журнал!$L$6:$L$505,"Принято с отступлением")) | E6: =IF(OR(A6="",N(B6)=0),"",C6/B6) | F6: =IF(OR(A6="",N(B6)=0),"",IFERROR(AVERAGEIFS(Журнал!$P$6:$P$505,Журнал!$E$6:$E$505,A6),"")) | G6: =IF(E6="","",IF(E6>=Справочники!$L$8,"C",IF(E6>=Справочники!$L$7,"B","A"))) | H6: =IF(G6="C","Претензия, 8D от поставщика, усиленный контроль каждой партии",IF(G6="B","Разбор с поставщиком, контроль 100 % в течение 3 мес.",IF(G6="A","Сохранять, можно перевести на контроль по документам","")))
A7: =IF(Справочники!G7="","",Справочники!G7) | B7: =IF(A7="","",COUNTIF(Журнал!$E$6:$E$505,A7)) | C7: =IF(A7="","",COUNTIFS(Журнал!$E$6:$E$505,A7,Журнал!$L$6:$L$505,"Забраковано")) | D7: =IF(A7="","",COUNTIFS(Журнал!$E$6:$E$505,A7,Журнал!$L$6:$L$505,"Принято с отступлением")) | E7: =IF(OR(A7="",N(B7)=0),"",C7/B7) | F7: =IF(OR(A7="",N(B7)=0),"",IFERROR(AVERAGEIFS(Журнал!$P$6:$P$505,Журнал!$E$6:$E$505,A7),"")) | G7: =IF(E7="","",IF(E7>=Справочники!$L$8,"C",IF(E7>=Справочники!$L$7,"B","A"))) | H7: =IF(G7="C","Претензия, 8D от поставщика, усиленный контроль каждой партии",IF(G7="B","Разбор с поставщиком, контроль 100 % в течение 3 мес.",IF(G7="A","Сохранять, можно перевести на контроль по документам","")))
A8: =IF(Справочники!G8="","",Справочники!G8) | B8: =IF(A8="","",COUNTIF(Журнал!$E$6:$E$505,A8)) | C8: =IF(A8="","",COUNTIFS(Журнал!$E$6:$E$505,A8,Журнал!$L$6:$L$505,"Забраковано")) | D8: =IF(A8="","",COUNTIFS(Журнал!$E$6:$E$505,A8,Журнал!$L$6:$L$505,"Принято с отступлением")) | E8: =IF(OR(A8="",N(B8)=0),"",C8/B8) | F8: =IF(OR(A8="",N(B8)=0),"",IFERROR(AVERAGEIFS(Журнал!$P$6:$P$505,Журнал!$E$6:$E$505,A8),"")) | G8: =IF(E8="","",IF(E8>=Справочники!$L$8,"C",IF(E8>=Справочники!$L$7,"B","A"))) | H8: =IF(G8="C","Претензия, 8D от поставщика, усиленный контроль каждой партии",IF(G8="B","Разбор с поставщиком, контроль 100 % в течение 3 мес.",IF(G8="A","Сохранять, можно перевести на контроль по документам","")))
A9: =IF(Справочники!G9="","",Справочники!G9) | B9: =IF(A9="","",COUNTIF(Журнал!$E$6:$E$505,A9)) | C9: =IF(A9="","",COUNTIFS(Журнал!$E$6:$E$505,A9,Журнал!$L$6:$L$505,"Забраковано")) | D9: =IF(A9="","",COUNTIFS(Журнал!$E$6:$E$505,A9,Журнал!$L$6:$L$505,"Принято с отступлением")) | E9: =IF(OR(A9="",N(B9)=0),"",C9/B9) | F9: =IF(OR(A9="",N(B9)=0),"",IFERROR(AVERAGEIFS(Журнал!$P$6:$P$505,Журнал!$E$6:$E$505,A9),"")) | G9: =IF(E9="","",IF(E9>=Справочники!$L$8,"C",IF(E9>=Справочники!$L$7,"B","A"))) | H9: =IF(G9="C","Претензия, 8D от поставщика, усиленный контроль каждой партии",IF(G9="B","Разбор с поставщиком, контроль 100 % в течение 3 мес.",IF(G9="A","Сохранять, можно перевести на контроль по документам","")))
A10: =IF(Справочники!G10="","",Справочники!G10) | B10: =IF(A10="","",COUNTIF(Журнал!$E$6:$E$505,A10)) | C10: =IF(A10="","",COUNTIFS(Журнал!$E$6:$E$505,A10,Журнал!$L$6:$L$505,"Забраковано")) | D10: =IF(A10="","",COUNTIFS(Журнал!$E$6:$E$505,A10,Журнал!$L$6:$L$505,"Принято с отступлением")) | E10: =IF(OR(A10="",N(B10)=0),"",C10/B10) | F10: =IF(OR(A10="",N(B10)=0),"",IFERROR(AVERAGEIFS(Журнал!$P$6:$P$505,Журнал!$E$6:$E$505,A10),"")) | G10: =IF(E10="","",IF(E10>=Справочники!$L$8,"C",IF(E10>=Справочники!$L$7,"B","A"))) | H10: =IF(G10="C","Претензия, 8D от поставщика, усиленный контроль каждой партии",IF(G10="B","Разбор с поставщиком, контроль 100 % в течение 3 мес.",IF(G10="A","Сохранять, можно перевести на контроль по документам","")))
A11: =IF(Справочники!G11="","",Справочники!G11) | B11: =IF(A11="","",COUNTIF(Журнал!$E$6:$E$505,A11)) | C11: =IF(A11="","",COUNTIFS(Журнал!$E$6:$E$505,A11,Журнал!$L$6:$L$505,"Забраковано")) | D11: =IF(A11="","",COUNTIFS(Журнал!$E$6:$E$505,A11,Журнал!$L$6:$L$505,"Принято с отступлением")) | E11: =IF(OR(A11="",N(B11)=0),"",C11/B11) | F11: =IF(OR(A11="",N(B11)=0),"",IFERROR(AVERAGEIFS(Журнал!$P$6:$P$505,Журнал!$E$6:$E$505,A11),"")) | G11: =IF(E11="","",IF(E11>=Справочники!$L$8,"C",IF(E11>=Справочники!$L$7,"B","A"))) | H11: =IF(G11="C","Претензия, 8D от поставщика, усиленный контроль каждой партии",IF(G11="B","Разбор с поставщиком, контроль 100 % в течение 3 мес.",IF(G11="A","Сохранять, можно перевести на контроль по документам","")))
A12: =IF(Справочники!G12="","",Справочники!G12) | B12: =IF(A12="","",COUNTIF(Журнал!$E$6:$E$505,A12)) | C12: =IF(A12="","",COUNTIFS(Журнал!$E$6:$E$505,A12,Журнал!$L$6:$L$505,"Забраковано")) | D12: =IF(A12="","",COUNTIFS(Журнал!$E$6:$E$505,A12,Журнал!$L$6:$L$505,"Принято с отступлением")) | E12: =IF(OR(A12="",N(B12)=0),"",C12/B12) | F12: =IF(OR(A12="",N(B12)=0),"",IFERROR(AVERAGEIFS(Журнал!$P$6:$P$505,Журнал!$E$6:$E$505,A12),"")) | G12: =IF(E12="","",IF(E12>=Справочники!$L$8,"C",IF(E12>=Справочники!$L$7,"B","A"))) | H12: =IF(G12="C","Претензия, 8D от поставщика, усиленный контроль каждой партии",IF(G12="B","Разбор с поставщиком, контроль 100 % в течение 3 мес.",IF(G12="A","Сохранять, можно перевести на контроль по документам","")))
A13: =IF(Справочники!G13="","",Справочники!G13) | B13: =IF(A13="","",COUNTIF(Журнал!$E$6:$E$505,A13)) | C13: =IF(A13="","",COUNTIFS(Журнал!$E$6:$E$505,A13,Журнал!$L$6:$L$505,"Забраковано")) | D13: =IF(A13="","",COUNTIFS(Журнал!$E$6:$E$505,A13,Журнал!$L$6:$L$505,"Принято с отступлением")) | E13: =IF(OR(A13="",N(B13)=0),"",C13/B13) | F13: =IF(OR(A13="",N(B13)=0),"",IFERROR(AVERAGEIFS(Журнал!$P$6:$P$505,Журнал!$E$6:$E$505,A13),"")) | G13: =IF(E13="","",IF(E13>=Справочники!$L$8,"C",IF(E13>=Справочники!$L$7,"B","A"))) | H13: =IF(G13="C","Претензия, 8D от поставщика, усиленный контроль каждой партии",IF(G13="B","Разбор с поставщиком, контроль 100 % в течение 3 мес.",IF(G13="A","Сохранять, можно перевести на контроль по документам","")))
A14: =IF(Справочники!G14="","",Справочники!G14) | B14: =IF(A14="","",COUNTIF(Журнал!$E$6:$E$505,A14)) | C14: =IF(A14="","",COUNTIFS(Журнал!$E$6:$E$505,A14,Журнал!$L$6:$L$505,"Забраковано")) | D14: =IF(A14="","",COUNTIFS(Журнал!$E$6:$E$505,A14,Журнал!$L$6:$L$505,"Принято с отступлением")) | E14: =IF(OR(A14="",N(B14)=0),"",C14/B14) | F14: =IF(OR(A14="",N(B14)=0),"",IFERROR(AVERAGEIFS(Журнал!$P$6:$P$505,Журнал!$E$6:$E$505,A14),"")) | G14: =IF(E14="","",IF(E14>=Справочники!$L$8,"C",IF(E14>=Справочники!$L$7,"B","A"))) | H14: =IF(G14="C","Претензия, 8D от поставщика, усиленный контроль каждой партии",IF(G14="B","Разбор с поставщиком, контроль 100 % в течение 3 мес.",IF(G14="A","Сохранять, можно перевести на контроль по документам","")))
A15: =IF(Справочники!G15="","",Справочники!G15) | B15: =IF(A15="","",COUNTIF(Журнал!$E$6:$E$505,A15)) | C15: =IF(A15="","",COUNTIFS(Журнал!$E$6:$E$505,A15,Журнал!$L$6:$L$505,"Забраковано")) | D15: =IF(A15="","",COUNTIFS(Журнал!$E$6:$E$505,A15,Журнал!$L$6:$L$505,"Принято с отступлением")) | E15: =IF(OR(A15="",N(B15)=0),"",C15/B15) | F15: =IF(OR(A15="",N(B15)=0),"",IFERROR(AVERAGEIFS(Журнал!$P$6:$P$505,Журнал!$E$6:$E$505,A15),"")) | G15: =IF(E15="","",IF(E15>=Справочники!$L$8,"C",IF(E15>=Справочники!$L$7,"B","A"))) | H15: =IF(G15="C","Претензия, 8D от поставщика, усиленный контроль каждой партии",IF(G15="B","Разбор с поставщиком, контроль 100 % в течение 3 мес.",IF(G15="A","Сохранять, можно перевести на контроль по документам","")))
A16: =IF(Справочники!G16="","",Справочники!G16) | B16: =IF(A16="","",COUNTIF(Журнал!$E$6:$E$505,A16)) | C16: =IF(A16="","",COUNTIFS(Журнал!$E$6:$E$505,A16,Журнал!$L$6:$L$505,"Забраковано")) | D16: =IF(A16="","",COUNTIFS(Журнал!$E$6:$E$505,A16,Журнал!$L$6:$L$505,"Принято с отступлением")) | E16: =IF(OR(A16="",N(B16)=0),"",C16/B16) | F16: =IF(OR(A16="",N(B16)=0),"",IFERROR(AVERAGEIFS(Журнал!$P$6:$P$505,Журнал!$E$6:$E$505,A16),"")) | G16: =IF(E16="","",IF(E16>=Справочники!$L$8,"C",IF(E16>=Справочники!$L$7,"B","A"))) | H16: =IF(G16="C","Претензия, 8D от поставщика, усиленный контроль каждой партии",IF(G16="B","Разбор с поставщиком, контроль 100 % в течение 3 мес.",IF(G16="A","Сохранять, можно перевести на контроль по документам","")))
A17: =IF(Справочники!G17="","",Справочники!G17) | B17: =IF(A17="","",COUNTIF(Журнал!$E$6:$E$505,A17)) | C17: =IF(A17="","",COUNTIFS(Журнал!$E$6:$E$505,A17,Журнал!$L$6:$L$505,"Забраковано")) | D17: =IF(A17="","",COUNTIFS(Журнал!$E$6:$E$505,A17,Журнал!$L$6:$L$505,"Принято с отступлением")) | E17: =IF(OR(A17="",N(B17)=0),"",C17/B17) | F17: =IF(OR(A17="",N(B17)=0),"",IFERROR(AVERAGEIFS(Журнал!$P$6:$P$505,Журнал!$E$6:$E$505,A17),"")) | G17: =IF(E17="","",IF(E17>=Справочники!$L$8,"C",IF(E17>=Справочники!$L$7,"B","A"))) | H17: =IF(G17="C","Претензия, 8D от поставщика, усиленный контроль каждой партии",IF(G17="B","Разбор с поставщиком, контроль 100 % в течение 3 мес.",IF(G17="A","Сохранять, можно перевести на контроль по документам","")))
... A35: =IF(Справочники!G35="","",Справочники!G35) | B35: =IF(A35="","",COUNTIF(Журнал!$E$6:$E$505,A35)) | C35: =IF(A35="","",COUNTIFS(Журнал!$E$6:$E$505,A35,Журнал!$L$6:$L$505,"Забраковано")) | D35: =IF(A35="","",COUNTIFS(Журнал!$E$6:$E$505,A35,Журнал!$L$6:$L$505,"Принято с отступлением")) | E35: =IF(OR(A35="",N(B35)=0),"",C35/B35) | F35: =IF(OR(A35="",N(B35)=0),"",IFERROR(AVERAGEIFS(Журнал!$P$6:$P$505,Журнал!$E$6:$E$505,A35),"")) | G35: =IF(E35="","",IF(E35>=Справочники!$L$8,"C",IF(E35>=Справочники!$L$7,"B","A"))) | H35: =IF(G35="C","Претензия, 8D от поставщика, усиленный контроль каждой партии",IF(G35="B","Разбор с поставщиком, контроль 100 % в течение 3 мес.",IF(G35="A","Сохранять, можно перевести на контроль по документам","")))

Sheet Справочники
A1: PLANT PERFORMANCE · plantperformance.ru
A2: Справочники: материалы и поставщики
A3: Заполните один раз. Из них работают выпадающие списки журнала и подсказка «что проверять».
A5: Код | B5: Материал / изделие | C5: Ед. | D5: Категория A/B/C | E5: Что проверять на входном контроле | G5: Поставщик | H5: ИНН | I5: Контакт | K5: Настройка | L5: Значение
A6: М-01 | B6: Листовой прокат, сталь 3 мм | C6: т | D6: A | E6: Сертификат на плавку, толщина в 5 точках, марка стали по сертификату, дефекты поверхности | G6: ООО «Металл-Сервис» | K6: Максимум дней на карантине | L6: 3
A7: М-02 | B7: Труба профильная 40×40 | C7: т | D7: B | E7: Сертификат, геометрия, кривизна, коррозия | G7: АО «СтальПром» | K7: Порог % брака: рейтинг B | L7: 0.02
A8: М-03 | B8: Электроды / проволока сварочная | C8: кг | D8: A | E8: Сертификат, марка, диаметр, упаковка без влаги, срок годности | G8: ООО «СварТехСнаб» | K8: Порог % брака: рейтинг C | L8: 0.05
A9: М-04 | B9: Краска порошковая | C9: кг | D9: B | E9: Паспорт партии, срок годности, цвет по эталону, пробное нанесение | G9: ООО «Колор-Покрытия» | K9: Предприятие | L9: ООО «Ваш завод»
A10: М-05 | B10: Крепёж (болты, гайки) | C10: шт. | D10: C | E10: Маркировка класса прочности, размеры выборочно | G10: ООО «Крепёж-Опт»
A11: М-06 | B11: Электродвигатели | C11: шт. | D11: A | E11: Паспорт, декларация ЕАЭС, сопротивление изоляции, отсутствие повреждений | G11: ООО «ЭлектроМаш»
A12: М-07 | B12: Подшипники | C12: шт. | D12: B | E12: Маркировка, упаковка, люфт выборочно | G12: ООО «Подшипник-Центр»
A13: М-08 | B13: Кабель силовой | C13: м | D13: A | E13: Сертификат, сечение, сопротивление изоляции на образце | G13: ООО «КабельТорг»
A14: М-09 | B14: Упаковка (гофрокороб) | C14: шт. | D14: C | E14: Размеры, марка картона, печать
A15: М-10 | B15: Резинотехнические изделия | C15: шт. | D15: B | E15: Паспорт, твёрдость, размеры, срок хранения
A47: Категория: A — влияет на безопасность и ключевые свойства продукции (каждая партия, испытания); B — выборочно; C — по документам поставщика.

Sheet Бланк журнала
A1: ЖУРНАЛ ВХОДНОГО КОНТРОЛЯ
A2: =Справочники!L9&" · Начат: «___» ________ 20__ г. Окончен: «___» ________ 20__ г."
A4: № п/п | B4: Дата поступления | C4: Наименование материала, изделия | D4: Поставщик | E4: Документ о качестве: №, дата | F4: № партии, кол-во | G4: Контролируемые параметры | H4: Результат контроля | I4: Решение: принято / забраковано | J4: Акт, № | K4: Контролёр: ФИО, подпись | L4: Кладовщик: подпись
A5: 1 | B5: 2 | C5: 3 | D5: 4 | E5: 5 | F5: 6 | G5: 7 | H5: 8 | I5: 9 | J5: 10 | K5: 11 | L5: 12
A27: Форма по ГОСТ 24297-2013 «Верификация закупленной продукции». Источник: Plant Performance · plantperformance.ru

Sheet Акт о браке
A1: АКТ № ____ о несоответствии закупленной продукции
A2: «___» ____________ 20__ г.
A4: Покупатель | B4: =Справочники!L9
A5: Поставщик
A6: Договор поставки №, дата
A7: Материал / изделие
A8: Документ о качестве (№, дата)
A9: № партии, количество поставленное
A10: Количество проверенное
A11: Количество несоответствующее
A12: Требование (ГОСТ, ТУ, спецификация, договор)
A13: Фактически обнаружено
A14: Метод контроля, средство измерений
A15: Решение: возврат / замена / доработка / уценка
A16: Срок ответа поставщика
... A24: Источник: Plant Performance · plantperformance.ru

Sheet Полная версия
A1: PLANT PERFORMANCE · plantperformance.ru
A2: Что есть в полной системе качества
A3: Этот файл — часть системы документов завода Plant Performance
A5: Что | B5: Зачем
A6: Процедура контроля продукции и испытаний | B6: Входной, операционный и выходной контроль, действия при несоответствиях
A7: Инструкции входного контроля по материалам | B7: Что и как проверять по каждой категории, объём выборки
A8: Процедура одобрения материалов и поставщиков | B8: Уровни одобрения, пакет документов, пробная партия
A9: Соглашение о качестве с поставщиком | B9: Требования, ответственность, возмещение затрат на брак
A10: Регламент 8D и реестр рекламаций с CAPA | B10: Разбор причин и действия, которые закрываются в срок
A11: План контроля и FMEA | B11: Что контролировать на каждой операции и почему
A12: Ещё ~110 документов завода | B12: Регламенты, бюджет, себестоимость, ТОиР, охрана труда, план ввода
A14: Подробнее: plantperformance.ru · Telegram: t.me/plantperformance · info@plantperformance.ru
