Workbook
Name ОтчДата: 'Настройки'!$B$5
Name Год: 'Настройки'!$B$6
Name Предупр1: 'Настройки'!$B$7
Name Предупр2: 'Настройки'!$B$8
Name Предприятие: 'Настройки'!$B$9
Name Утверждает: 'Настройки'!$B$10

Sheet Дашборд
B1: PLANT PERFORMANCE · plantperformance.ru
B2: Метрология: контроль сроков
B3: ="Данные на "&TEXT(ОтчДата,"DD.MM.YYYY")
B5: Средств измерений | D5: Просрочено | F5: ="Истекает за "&Предупр1&" дн." | H5: ="Истекает за "&Предупр2&" дн." | J5: Затраты на год, ₽ | L5: В норме
B6: =COUNTA('Реестр СИ'!B6:B155)-COUNTIF('Реестр СИ'!G6:G155,"Выведено*") | D6: =COUNTIF('Реестр СИ'!L6:L155,"Просрочено") | F6: =COUNTIF('Реестр СИ'!L6:L155,"≤ "&Предупр1&" дней") | H6: =COUNTIF('Реестр СИ'!L6:L155,"≤ "&Предупр2&" дней") | J6: ='График поверки'!R157 | L6: =IFERROR(COUNTIF('Реестр СИ'!L6:L155,"В норме")/B6,0)
B7: в эксплуатации | D7: использовать нельзя | F7: отправить в поверку | H7: запланировать | J7: по графику поверки | L7: доля СИ
B11: Срочно: просрочено и истекает в ближайшие дни
B12: Инв. № | C12: Наименование | G12: Участок | I12: Срок | K12: Дней | L12: Статус
B13: =IFERROR(INDEX('Реестр СИ'!$A$6:$A$155,MATCH(SMALL('Реестр СИ'!$P$6:$P$155,1),'Реестр СИ'!$P$6:$P$155,0)),"") | C13: =IFERROR(INDEX('Реестр СИ'!$B$6:$B$155,MATCH(SMALL('Реестр СИ'!$P$6:$P$155,1),'Реестр СИ'!$P$6:$P$155,0)),"") | G13: =IFERROR(INDEX('Реестр СИ'!$E$6:$E$155,MATCH(SMALL('Реестр СИ'!$P$6:$P$155,1),'Реестр СИ'!$P$6:$P$155,0)),"") | I13: =IFERROR(INDEX('Реестр СИ'!$J$6:$J$155,MATCH(SMALL('Реестр СИ'!$P$6:$P$155,1),'Реестр СИ'!$P$6:$P$155,0)),"") | K13: =IFERROR(INDEX('Реестр СИ'!$K$6:$K$155,MATCH(SMALL('Реестр СИ'!$P$6:$P$155,1),'Реестр СИ'!$P$6:$P$155,0)),"") | L13: =IFERROR(INDEX('Реестр СИ'!$L$6:$L$155,MATCH(SMALL('Реестр СИ'!$P$6:$P$155,1),'Реестр СИ'!$P$6:$P$155,0)),"")
B14: =IFERROR(INDEX('Реестр СИ'!$A$6:$A$155,MATCH(SMALL('Реестр СИ'!$P$6:$P$155,2),'Реестр СИ'!$P$6:$P$155,0)),"") | C14: =IFERROR(INDEX('Реестр СИ'!$B$6:$B$155,MATCH(SMALL('Реестр СИ'!$P$6:$P$155,2),'Реестр СИ'!$P$6:$P$155,0)),"") | G14: =IFERROR(INDEX('Реестр СИ'!$E$6:$E$155,MATCH(SMALL('Реестр СИ'!$P$6:$P$155,2),'Реестр СИ'!$P$6:$P$155,0)),"") | I14: =IFERROR(INDEX('Реестр СИ'!$J$6:$J$155,MATCH(SMALL('Реестр СИ'!$P$6:$P$155,2),'Реестр СИ'!$P$6:$P$155,0)),"") | K14: =IFERROR(INDEX('Реестр СИ'!$K$6:$K$155,MATCH(SMALL('Реестр СИ'!$P$6:$P$155,2),'Реестр СИ'!$P$6:$P$155,0)),"") | L14: =IFERROR(INDEX('Реестр СИ'!$L$6:$L$155,MATCH(SMALL('Реестр СИ'!$P$6:$P$155,2),'Реестр СИ'!$P$6:$P$155,0)),"")
B15: =IFERROR(INDEX('Реестр СИ'!$A$6:$A$155,MATCH(SMALL('Реестр СИ'!$P$6:$P$155,3),'Реестр СИ'!$P$6:$P$155,0)),"") | C15: =IFERROR(INDEX('Реестр СИ'!$B$6:$B$155,MATCH(SMALL('Реестр СИ'!$P$6:$P$155,3),'Реестр СИ'!$P$6:$P$155,0)),"") | G15: =IFERROR(INDEX('Реестр СИ'!$E$6:$E$155,MATCH(SMALL('Реестр СИ'!$P$6:$P$155,3),'Реестр СИ'!$P$6:$P$155,0)),"") | I15: =IFERROR(INDEX('Реестр СИ'!$J$6:$J$155,MATCH(SMALL('Реестр СИ'!$P$6:$P$155,3),'Реестр СИ'!$P$6:$P$155,0)),"") | K15: =IFERROR(INDEX('Реестр СИ'!$K$6:$K$155,MATCH(SMALL('Реестр СИ'!$P$6:$P$155,3),'Реестр СИ'!$P$6:$P$155,0)),"") | L15: =IFERROR(INDEX('Реестр СИ'!$L$6:$L$155,MATCH(SMALL('Реестр СИ'!$P$6:$P$155,3),'Реестр СИ'!$P$6:$P$155,0)),"")
B16: =IFERROR(INDEX('Реестр СИ'!$A$6:$A$155,MATCH(SMALL('Реестр СИ'!$P$6:$P$155,4),'Реестр СИ'!$P$6:$P$155,0)),"") | C16: =IFERROR(INDEX('Реестр СИ'!$B$6:$B$155,MATCH(SMALL('Реестр СИ'!$P$6:$P$155,4),'Реестр СИ'!$P$6:$P$155,0)),"") | G16: =IFERROR(INDEX('Реестр СИ'!$E$6:$E$155,MATCH(SMALL('Реестр СИ'!$P$6:$P$155,4),'Реестр СИ'!$P$6:$P$155,0)),"") | I16: =IFERROR(INDEX('Реестр СИ'!$J$6:$J$155,MATCH(SMALL('Реестр СИ'!$P$6:$P$155,4),'Реестр СИ'!$P$6:$P$155,0)),"") | K16: =IFERROR(INDEX('Реестр СИ'!$K$6:$K$155,MATCH(SMALL('Реестр СИ'!$P$6:$P$155,4),'Реестр СИ'!$P$6:$P$155,0)),"") | L16: =IFERROR(INDEX('Реестр СИ'!$L$6:$L$155,MATCH(SMALL('Реестр СИ'!$P$6:$P$155,4),'Реестр СИ'!$P$6:$P$155,0)),"")
B17: =IFERROR(INDEX('Реестр СИ'!$A$6:$A$155,MATCH(SMALL('Реестр СИ'!$P$6:$P$155,5),'Реестр СИ'!$P$6:$P$155,0)),"") | C17: =IFERROR(INDEX('Реестр СИ'!$B$6:$B$155,MATCH(SMALL('Реестр СИ'!$P$6:$P$155,5),'Реестр СИ'!$P$6:$P$155,0)),"") | G17: =IFERROR(INDEX('Реестр СИ'!$E$6:$E$155,MATCH(SMALL('Реестр СИ'!$P$6:$P$155,5),'Реестр СИ'!$P$6:$P$155,0)),"") | I17: =IFERROR(INDEX('Реестр СИ'!$J$6:$J$155,MATCH(SMALL('Реестр СИ'!$P$6:$P$155,5),'Реестр СИ'!$P$6:$P$155,0)),"") | K17: =IFERROR(INDEX('Реестр СИ'!$K$6:$K$155,MATCH(SMALL('Реестр СИ'!$P$6:$P$155,5),'Реестр СИ'!$P$6:$P$155,0)),"") | L17: =IFERROR(INDEX('Реестр СИ'!$L$6:$L$155,MATCH(SMALL('Реестр СИ'!$P$6:$P$155,5),'Реестр СИ'!$P$6:$P$155,0)),"")
B18: =IFERROR(INDEX('Реестр СИ'!$A$6:$A$155,MATCH(SMALL('Реестр СИ'!$P$6:$P$155,6),'Реестр СИ'!$P$6:$P$155,0)),"") | C18: =IFERROR(INDEX('Реестр СИ'!$B$6:$B$155,MATCH(SMALL('Реестр СИ'!$P$6:$P$155,6),'Реестр СИ'!$P$6:$P$155,0)),"") | G18: =IFERROR(INDEX('Реестр СИ'!$E$6:$E$155,MATCH(SMALL('Реестр СИ'!$P$6:$P$155,6),'Реестр СИ'!$P$6:$P$155,0)),"") | I18: =IFERROR(INDEX('Реестр СИ'!$J$6:$J$155,MATCH(SMALL('Реестр СИ'!$P$6:$P$155,6),'Реестр СИ'!$P$6:$P$155,0)),"") | K18: =IFERROR(INDEX('Реестр СИ'!$K$6:$K$155,MATCH(SMALL('Реестр СИ'!$P$6:$P$155,6),'Реестр СИ'!$P$6:$P$155,0)),"") | L18: =IFERROR(INDEX('Реестр СИ'!$L$6:$L$155,MATCH(SMALL('Реестр СИ'!$P$6:$P$155,6),'Реестр СИ'!$P$6:$P$155,0)),"")
B19: =IFERROR(INDEX('Реестр СИ'!$A$6:$A$155,MATCH(SMALL('Реестр СИ'!$P$6:$P$155,7),'Реестр СИ'!$P$6:$P$155,0)),"") | C19: =IFERROR(INDEX('Реестр СИ'!$B$6:$B$155,MATCH(SMALL('Реестр СИ'!$P$6:$P$155,7),'Реестр СИ'!$P$6:$P$155,0)),"") | G19: =IFERROR(INDEX('Реестр СИ'!$E$6:$E$155,MATCH(SMALL('Реестр СИ'!$P$6:$P$155,7),'Реестр СИ'!$P$6:$P$155,0)),"") | I19: =IFERROR(INDEX('Реестр СИ'!$J$6:$J$155,MATCH(SMALL('Реестр СИ'!$P$6:$P$155,7),'Реестр СИ'!$P$6:$P$155,0)),"") | K19: =IFERROR(INDEX('Реестр СИ'!$K$6:$K$155,MATCH(SMALL('Реестр СИ'!$P$6:$P$155,7),'Реестр СИ'!$P$6:$P$155,0)),"") | L19: =IFERROR(INDEX('Реестр СИ'!$L$6:$L$155,MATCH(SMALL('Реестр СИ'!$P$6:$P$155,7),'Реестр СИ'!$P$6:$P$155,0)),"")
B20: =IFERROR(INDEX('Реестр СИ'!$A$6:$A$155,MATCH(SMALL('Реестр СИ'!$P$6:$P$155,8),'Реестр СИ'!$P$6:$P$155,0)),"") | C20: =IFERROR(INDEX('Реестр СИ'!$B$6:$B$155,MATCH(SMALL('Реестр СИ'!$P$6:$P$155,8),'Реестр СИ'!$P$6:$P$155,0)),"") | G20: =IFERROR(INDEX('Реестр СИ'!$E$6:$E$155,MATCH(SMALL('Реестр СИ'!$P$6:$P$155,8),'Реестр СИ'!$P$6:$P$155,0)),"") | I20: =IFERROR(INDEX('Реестр СИ'!$J$6:$J$155,MATCH(SMALL('Реестр СИ'!$P$6:$P$155,8),'Реестр СИ'!$P$6:$P$155,0)),"") | K20: =IFERROR(INDEX('Реестр СИ'!$K$6:$K$155,MATCH(SMALL('Реестр СИ'!$P$6:$P$155,8),'Реестр СИ'!$P$6:$P$155,0)),"") | L20: =IFERROR(INDEX('Реестр СИ'!$L$6:$L$155,MATCH(SMALL('Реестр СИ'!$P$6:$P$155,8),'Реестр СИ'!$P$6:$P$155,0)),"")
B21: =IFERROR(INDEX('Реестр СИ'!$A$6:$A$155,MATCH(SMALL('Реестр СИ'!$P$6:$P$155,9),'Реестр СИ'!$P$6:$P$155,0)),"") | C21: =IFERROR(INDEX('Реестр СИ'!$B$6:$B$155,MATCH(SMALL('Реестр СИ'!$P$6:$P$155,9),'Реестр СИ'!$P$6:$P$155,0)),"") | G21: =IFERROR(INDEX('Реестр СИ'!$E$6:$E$155,MATCH(SMALL('Реестр СИ'!$P$6:$P$155,9),'Реестр СИ'!$P$6:$P$155,0)),"") | I21: =IFERROR(INDEX('Реестр СИ'!$J$6:$J$155,MATCH(SMALL('Реестр СИ'!$P$6:$P$155,9),'Реестр СИ'!$P$6:$P$155,0)),"") | K21: =IFERROR(INDEX('Реестр СИ'!$K$6:$K$155,MATCH(SMALL('Реестр СИ'!$P$6:$P$155,9),'Реестр СИ'!$P$6:$P$155,0)),"") | L21: =IFERROR(INDEX('Реестр СИ'!$L$6:$L$155,MATCH(SMALL('Реестр СИ'!$P$6:$P$155,9),'Реестр СИ'!$P$6:$P$155,0)),"")
B22: =IFERROR(INDEX('Реестр СИ'!$A$6:$A$155,MATCH(SMALL('Реестр СИ'!$P$6:$P$155,10),'Реестр СИ'!$P$6:$P$155,0)),"") | C22: =IFERROR(INDEX('Реестр СИ'!$B$6:$B$155,MATCH(SMALL('Реестр СИ'!$P$6:$P$155,10),'Реестр СИ'!$P$6:$P$155,0)),"") | G22: =IFERROR(INDEX('Реестр СИ'!$E$6:$E$155,MATCH(SMALL('Реестр СИ'!$P$6:$P$155,10),'Реестр СИ'!$P$6:$P$155,0)),"") | I22: =IFERROR(INDEX('Реестр СИ'!$J$6:$J$155,MATCH(SMALL('Реестр СИ'!$P$6:$P$155,10),'Реестр СИ'!$P$6:$P$155,0)),"") | K22: =IFERROR(INDEX('Реестр СИ'!$K$6:$K$155,MATCH(SMALL('Реестр СИ'!$P$6:$P$155,10),'Реестр СИ'!$P$6:$P$155,0)),"") | L22: =IFERROR(INDEX('Реестр СИ'!$L$6:$L$155,MATCH(SMALL('Реестр СИ'!$P$6:$P$155,10),'Реестр СИ'!$P$6:$P$155,0)),"")
B34: Полная система метрологии и качества завода: положение о метрологической службе, план контроля, процедуры ОТК — plantperformance.ru
B36: Данные для диаграммы
B37: Месяц | C37: Поверок
B38: Янв | C38: ='График поверки'!F156
B39: Фев | C39: ='График поверки'!G156
B40: Мар | C40: ='График поверки'!H156
B41: Апр | C41: ='График поверки'!I156
B42: Май | C42: ='График поверки'!J156
B43: Июн | C43: ='График поверки'!K156
B44: Июл | C44: ='График поверки'!L156
B45: Авг | C45: ='График поверки'!M156
B46: Сен | C46: ='График поверки'!N156
B47: Окт | C47: ='График поверки'!O156
B48: Ноя | C48: ='График поверки'!P156
B49: Дек | C49: ='График поверки'!Q156

Sheet Реестр СИ
A1: PLANT PERFORMANCE · plantperformance.ru
A2: Реестр средств измерений
A3: Ввод в жёлтые ячейки. Дата следующей поверки, дни и статус считаются сами. Основание: 102-ФЗ «Об обеспечении единства измерений».
A5: Инв. № | B5: Наименование, тип | C5: Зав. № | D5: Рег. № в ФИФ (госреестр) | E5: Участок | F5: Ответственный | G5: Вид: поверка / калибровка | H5: Интервал, мес | I5: Последняя поверка | J5: Следующая | K5: Дней осталось | L5: Статус | M5: Организация-поверитель | N5: Стоимость, ₽ | O5: Запись в ФГИС «Аршин» / свидетельство | P5: ранг
A6: СИ-001 | B6: Штангенциркуль ШЦ-I-150 | C6: 87678 | D6: 81333-17 | E6: ОТК | F6: Смирнов К. | G6: Поверка | H6: 12 | I6: 46182 | J6: =IF(OR(I6="",H6=""),"",EDATE(I6,H6)-1) | K6: =IF(J6="","",J6-ОтчДата) | L6: =IF(B6="","",IF(J6="","нет данных",IF(K6<0,"Просрочено",IF(K6<=Предупр1,"≤ "&Предупр1&" дней",IF(K6<=Предупр2,"≤ "&Предупр2&" дней","В норме"))))) | M6: Аккредитованная лаборатория | N6: 3500 | O6: Запись в ФГИС «Аршин» | P6: =IF(OR(K6="",G6="Выведено из эксплуатации"),"",K6+ROW()/100000)
A7: СИ-002 | B7: Штангенциркуль ШЦ-II-250 | C7: 89377 | D7: 11725-21 | E7: Мехобработка | F7: Смирнов К. | G7: Поверка | H7: 12 | I7: 46270 | J7: =IF(OR(I7="",H7=""),"",EDATE(I7,H7)-1) | K7: =IF(J7="","",J7-ОтчДата) | L7: =IF(B7="","",IF(J7="","нет данных",IF(K7<0,"Просрочено",IF(K7<=Предупр1,"≤ "&Предупр1&" дней",IF(K7<=Предупр2,"≤ "&Предупр2&" дней","В норме"))))) | M7: ФБУ «ЦСМ» | N7: 900 | O7: Запись в ФГИС «Аршин» | P7: =IF(OR(K7="",G7="Выведено из эксплуатации"),"",K7+ROW()/100000)
A8: СИ-003 | B8: Микрометр МК-25 | C8: 80906 | D8: 82041-21 | E8: ОТК | F8: Смирнов К. | G8: Поверка | H8: 12 | I8: 46063 | J8: =IF(OR(I8="",H8=""),"",EDATE(I8,H8)-1) | K8: =IF(J8="","",J8-ОтчДата) | L8: =IF(B8="","",IF(J8="","нет данных",IF(K8<0,"Просрочено",IF(K8<=Предупр1,"≤ "&Предупр1&" дней",IF(K8<=Предупр2,"≤ "&Предупр2&" дней","В норме"))))) | M8: ФБУ «ЦСМ» | N8: 900 | O8: Запись в ФГИС «Аршин» | P8: =IF(OR(K8="",G8="Выведено из эксплуатации"),"",K8+ROW()/100000)
A9: СИ-004 | B9: Микрометр МК-50 | C9: 29873 | D9: 78574-21 | E9: Мехобработка | F9: Петров А. | G9: Поверка | H9: 12 | I9: 45978 | J9: =IF(OR(I9="",H9=""),"",EDATE(I9,H9)-1) | K9: =IF(J9="","",J9-ОтчДата) | L9: =IF(B9="","",IF(J9="","нет данных",IF(K9<0,"Просрочено",IF(K9<=Предупр1,"≤ "&Предупр1&" дней",IF(K9<=Предупр2,"≤ "&Предупр2&" дней","В норме"))))) | M9: ФБУ «ЦСМ» | N9: 600 | O9: Запись в ФГИС «Аршин» | P9: =IF(OR(K9="",G9="Выведено из эксплуатации"),"",K9+ROW()/100000)
A10: СИ-005 | B10: Нутромер индикаторный | C10: 87476 | D10: 15608-19 | E10: Мехобработка | F10: Иванова Е. | G10: Поверка | H10: 12 | I10: 45948 | J10: =IF(OR(I10="",H10=""),"",EDATE(I10,H10)-1) | K10: =IF(J10="","",J10-ОтчДата) | L10: =IF(B10="","",IF(J10="","нет данных",IF(K10<0,"Просрочено",IF(K10<=Предупр1,"≤ "&Предупр1&" дней",IF(K10<=Предупр2,"≤ "&Предупр2&" дней","В норме"))))) | M10: Аккредитованная лаборатория | N10: 1800 | O10: Запись в ФГИС «Аршин» | P10: =IF(OR(K10="",G10="Выведено из эксплуатации"),"",K10+ROW()/100000)
A11: СИ-006 | B11: Индикатор часового типа ИЧ-10 | C11: 60804 | D11: 65959-21 | E11: ОТК | F11: Петров А. | G11: Поверка | H11: 12 | I11: 45999 | J11: =IF(OR(I11="",H11=""),"",EDATE(I11,H11)-1) | K11: =IF(J11="","",J11-ОтчДата) | L11: =IF(B11="","",IF(J11="","нет данных",IF(K11<0,"Просрочено",IF(K11<=Предупр1,"≤ "&Предупр1&" дней",IF(K11<=Предупр2,"≤ "&Предупр2&" дней","В норме"))))) | M11: Аккредитованная лаборатория | N11: 900 | O11: Запись в ФГИС «Аршин» | P11: =IF(OR(K11="",G11="Выведено из эксплуатации"),"",K11+ROW()/100000)
A12: СИ-007 | B12: Рулетка измерительная 5 м | C12: 22773 | D12: 14703-17 | E12: Сборка | F12: Смирнов К. | G12: Калибровка | H12: 12 | I12: 46116 | J12: =IF(OR(I12="",H12=""),"",EDATE(I12,H12)-1) | K12: =IF(J12="","",J12-ОтчДата) | L12: =IF(B12="","",IF(J12="","нет данных",IF(K12<0,"Просрочено",IF(K12<=Предупр1,"≤ "&Предупр1&" дней",IF(K12<=Предупр2,"≤ "&Предупр2&" дней","В норме"))))) | M12: ФБУ «ЦСМ» | N12: 1200 | O12: Запись в ФГИС «Аршин» | P12: =IF(OR(K12="",G12="Выведено из эксплуатации"),"",K12+ROW()/100000)
A13: СИ-008 | B13: Линейка металлическая 1000 мм | C13: 67168 | D13: 49456-21 | E13: Заготовка | F13: Петров А. | G13: Калибровка | H13: 12 | I13: 45959 | J13: =IF(OR(I13="",H13=""),"",EDATE(I13,H13)-1) | K13: =IF(J13="","",J13-ОтчДата) | L13: =IF(B13="","",IF(J13="","нет данных",IF(K13<0,"Просрочено",IF(K13<=Предупр1,"≤ "&Предупр1&" дней",IF(K13<=Предупр2,"≤ "&Предупр2&" дней","В норме"))))) | M13: Аккредитованная лаборатория | N13: 3500 | O13: Запись в ФГИС «Аршин» | P13: =IF(OR(K13="",G13="Выведено из эксплуатации"),"",K13+ROW()/100000)
A14: СИ-009 | B14: Манометр МП-100, 0–1,6 МПа | C14: 80005 | D14: 86686-21 | E14: Энергохозяйство | F14: Петров А. | G14: Поверка | H14: 12 | I14: 46124 | J14: =IF(OR(I14="",H14=""),"",EDATE(I14,H14)-1) | K14: =IF(J14="","",J14-ОтчДата) | L14: =IF(B14="","",IF(J14="","нет данных",IF(K14<0,"Просрочено",IF(K14<=Предупр1,"≤ "&Предупр1&" дней",IF(K14<=Предупр2,"≤ "&Предупр2&" дней","В норме"))))) | M14: ФБУ «ЦСМ» | N14: 1200 | O14: Запись в ФГИС «Аршин» | P14: =IF(OR(K14="",G14="Выведено из эксплуатации"),"",K14+ROW()/100000)
A15: СИ-010 | B15: Манометр МП-100, 0–25 МПа | C15: 13756 | D15: 46658-17 | E15: Заготовка | F15: Петров А. | G15: Поверка | H15: 12 | I15: 45954 | J15: =IF(OR(I15="",H15=""),"",EDATE(I15,H15)-1) | K15: =IF(J15="","",J15-ОтчДата) | L15: =IF(B15="","",IF(J15="","нет данных",IF(K15<0,"Просрочено",IF(K15<=Предупр1,"≤ "&Предупр1&" дней",IF(K15<=Предупр2,"≤ "&Предупр2&" дней","В норме"))))) | M15: Аккредитованная лаборатория | N15: 3500 | O15: Запись в ФГИС «Аршин» | P15: =IF(OR(K15="",G15="Выведено из эксплуатации"),"",K15+ROW()/100000)
A16: СИ-011 | B16: Термометр контактный | C16: 84594 | D16: 23641-17 | E16: Термоучасток | F16: Петров А. | G16: Поверка | H16: 12 | I16: 46011 | J16: =IF(OR(I16="",H16=""),"",EDATE(I16,H16)-1) | K16: =IF(J16="","",J16-ОтчДата) | L16: =IF(B16="","",IF(J16="","нет данных",IF(K16<0,"Просрочено",IF(K16<=Предупр1,"≤ "&Предупр1&" дней",IF(K16<=Предупр2,"≤ "&Предупр2&" дней","В норме"))))) | M16: Аккредитованная лаборатория | N16: 1200 | O16: Запись в ФГИС «Аршин» | P16: =IF(OR(K16="",G16="Выведено из эксплуатации"),"",K16+ROW()/100000)
A17: СИ-012 | B17: Термопара ТХА (печь) | C17: 18317 | D17: 73176-21 | E17: Термоучасток | F17: Иванова Е. | G17: Поверка | H17: 12 | I17: 45951 | J17: =IF(OR(I17="",H17=""),"",EDATE(I17,H17)-1) | K17: =IF(J17="","",J17-ОтчДата) | L17: =IF(B17="","",IF(J17="","нет данных",IF(K17<0,"Просрочено",IF(K17<=Предупр1,"≤ "&Предупр1&" дней",IF(K17<=Предупр2,"≤ "&Предупр2&" дней","В норме"))))) | M17: Аккредитованная лаборатория | N17: 600 | O17: Запись в ФГИС «Аршин» | P17: =IF(OR(K17="",G17="Выведено из эксплуатации"),"",K17+ROW()/100000)
... A30: СИ-025 | B30: Угломер с нониусом | C30: 34280 | D30: 50982-19 | E30: ОТК | F30: Петров А. | G30: Поверка | H30: 12 | I30: 46117 | J30: =IF(OR(I30="",H30=""),"",EDATE(I30,H30)-1) | K30: =IF(J30="","",J30-ОтчДата) | L30: =IF(B30="","",IF(J30="","нет данных",IF(K30<0,"Просрочено",IF(K30<=Предупр1,"≤ "&Предупр1&" дней",IF(K30<=Предупр2,"≤ "&Предупр2&" дней","В норме"))))) | M30: Аккредитованная лаборатория | N30: 1200 | O30: Запись в ФГИС «Аршин» | P30: =IF(OR(K30="",G30="Выведено из эксплуатации"),"",K30+ROW()/100000)
J31: =IF(OR(I31="",H31=""),"",EDATE(I31,H31)-1) | K31: =IF(J31="","",J31-ОтчДата) | L31: =IF(B31="","",IF(J31="","нет данных",IF(K31<0,"Просрочено",IF(K31<=Предупр1,"≤ "&Предупр1&" дней",IF(K31<=Предупр2,"≤ "&Предупр2&" дней","В норме"))))) | P31: =IF(OR(K31="",G31="Выведено из эксплуатации"),"",K31+ROW()/100000)
J32: =IF(OR(I32="",H32=""),"",EDATE(I32,H32)-1) | K32: =IF(J32="","",J32-ОтчДата) | L32: =IF(B32="","",IF(J32="","нет данных",IF(K32<0,"Просрочено",IF(K32<=Предупр1,"≤ "&Предупр1&" дней",IF(K32<=Предупр2,"≤ "&Предупр2&" дней","В норме"))))) | P32: =IF(OR(K32="",G32="Выведено из эксплуатации"),"",K32+ROW()/100000)
J33: =IF(OR(I33="",H33=""),"",EDATE(I33,H33)-1) | K33: =IF(J33="","",J33-ОтчДата) | L33: =IF(B33="","",IF(J33="","нет данных",IF(K33<0,"Просрочено",IF(K33<=Предупр1,"≤ "&Предупр1&" дней",IF(K33<=Предупр2,"≤ "&Предупр2&" дней","В норме"))))) | P33: =IF(OR(K33="",G33="Выведено из эксплуатации"),"",K33+ROW()/100000)
J34: =IF(OR(I34="",H34=""),"",EDATE(I34,H34)-1) | K34: =IF(J34="","",J34-ОтчДата) | L34: =IF(B34="","",IF(J34="","нет данных",IF(K34<0,"Просрочено",IF(K34<=Предупр1,"≤ "&Предупр1&" дней",IF(K34<=Предупр2,"≤ "&Предупр2&" дней","В норме"))))) | P34: =IF(OR(K34="",G34="Выведено из эксплуатации"),"",K34+ROW()/100000)
J35: =IF(OR(I35="",H35=""),"",EDATE(I35,H35)-1) | K35: =IF(J35="","",J35-ОтчДата) | L35: =IF(B35="","",IF(J35="","нет данных",IF(K35<0,"Просрочено",IF(K35<=Предупр1,"≤ "&Предупр1&" дней",IF(K35<=Предупр2,"≤ "&Предупр2&" дней","В норме"))))) | P35: =IF(OR(K35="",G35="Выведено из эксплуатации"),"",K35+ROW()/100000)
J36: =IF(OR(I36="",H36=""),"",EDATE(I36,H36)-1) | K36: =IF(J36="","",J36-ОтчДата) | L36: =IF(B36="","",IF(J36="","нет данных",IF(K36<0,"Просрочено",IF(K36<=Предупр1,"≤ "&Предупр1&" дней",IF(K36<=Предупр2,"≤ "&Предупр2&" дней","В норме"))))) | P36: =IF(OR(K36="",G36="Выведено из эксплуатации"),"",K36+ROW()/100000)
J37: =IF(OR(I37="",H37=""),"",EDATE(I37,H37)-1) | K37: =IF(J37="","",J37-ОтчДата) | L37: =IF(B37="","",IF(J37="","нет данных",IF(K37<0,"Просрочено",IF(K37<=Предупр1,"≤ "&Предупр1&" дней",IF(K37<=Предупр2,"≤ "&Предупр2&" дней","В норме"))))) | P37: =IF(OR(K37="",G37="Выведено из эксплуатации"),"",K37+ROW()/100000)
J38: =IF(OR(I38="",H38=""),"",EDATE(I38,H38)-1) | K38: =IF(J38="","",J38-ОтчДата) | L38: =IF(B38="","",IF(J38="","нет данных",IF(K38<0,"Просрочено",IF(K38<=Предупр1,"≤ "&Предупр1&" дней",IF(K38<=Предупр2,"≤ "&Предупр2&" дней","В норме"))))) | P38: =IF(OR(K38="",G38="Выведено из эксплуатации"),"",K38+ROW()/100000)
J39: =IF(OR(I39="",H39=""),"",EDATE(I39,H39)-1) | K39: =IF(J39="","",J39-ОтчДата) | L39: =IF(B39="","",IF(J39="","нет данных",IF(K39<0,"Просрочено",IF(K39<=Предупр1,"≤ "&Предупр1&" дней",IF(K39<=Предупр2,"≤ "&Предупр2&" дней","В норме"))))) | P39: =IF(OR(K39="",G39="Выведено из эксплуатации"),"",K39+ROW()/100000)
J40: =IF(OR(I40="",H40=""),"",EDATE(I40,H40)-1) | K40: =IF(J40="","",J40-ОтчДата) | L40: =IF(B40="","",IF(J40="","нет данных",IF(K40<0,"Просрочено",IF(K40<=Предупр1,"≤ "&Предупр1&" дней",IF(K40<=Предупр2,"≤ "&Предупр2&" дней","В норме"))))) | P40: =IF(OR(K40="",G40="Выведено из эксплуатации"),"",K40+ROW()/100000)
J41: =IF(OR(I41="",H41=""),"",EDATE(I41,H41)-1) | K41: =IF(J41="","",J41-ОтчДата) | L41: =IF(B41="","",IF(J41="","нет данных",IF(K41<0,"Просрочено",IF(K41<=Предупр1,"≤ "&Предупр1&" дней",IF(K41<=Предупр2,"≤ "&Предупр2&" дней","В норме"))))) | P41: =IF(OR(K41="",G41="Выведено из эксплуатации"),"",K41+ROW()/100000)
J42: =IF(OR(I42="",H42=""),"",EDATE(I42,H42)-1) | K42: =IF(J42="","",J42-ОтчДата) | L42: =IF(B42="","",IF(J42="","нет данных",IF(K42<0,"Просрочено",IF(K42<=Предупр1,"≤ "&Предупр1&" дней",IF(K42<=Предупр2,"≤ "&Предупр2&" дней","В норме"))))) | P42: =IF(OR(K42="",G42="Выведено из эксплуатации"),"",K42+ROW()/100000)
... J155: =IF(OR(I155="",H155=""),"",EDATE(I155,H155)-1) | K155: =IF(J155="","",J155-ОтчДата) | L155: =IF(B155="","",IF(J155="","нет данных",IF(K155<0,"Просрочено",IF(K155<=Предупр1,"≤ "&Предупр1&" дней",IF(K155<=Предупр2,"≤ "&Предупр2&" дней","В норме"))))) | P155: =IF(OR(K155="",G155="Выведено из эксплуатации"),"",K155+ROW()/100000)

Sheet График поверки
A1: PLANT PERFORMANCE · plantperformance.ru
A2: ="График поверки (калибровки) средств измерений на "&Год&" год"
A3: =Предприятие&" · УТВЕРЖДАЮ: "&Утверждает
A5: Инв. № | B5: Наименование | C5: Зав. № | D5: Участок | E5: Интервал | F5: Янв | G5: Фев | H5: Мар | I5: Апр | J5: Май | K5: Июн | L5: Июл | M5: Авг | N5: Сен | O5: Окт | P5: Ноя | Q5: Дек | R5: Стоимость
A6: =IF('Реестр СИ'!B6="","",'Реестр СИ'!A6) | B6: =IF('Реестр СИ'!B6="","",'Реестр СИ'!B6) | C6: =IF('Реестр СИ'!B6="","",'Реестр СИ'!C6) | D6: =IF('Реестр СИ'!B6="","",'Реестр СИ'!E6) | E6: =IF('Реестр СИ'!B6="","",'Реестр СИ'!H6) | F6: =IF(OR('Реестр СИ'!J6="",'Реестр СИ'!G6="Выведено из эксплуатации"),"",IF(AND(((Год*12+1)-(YEAR('Реестр СИ'!J6)*12+MONTH('Реестр СИ'!J6)))>=0,MOD(((Год*12+1)-(YEAR('Реестр СИ'!J6)*12+MONTH('Реестр СИ'!J6))),MAX(1,'Реестр СИ'!H6))=0),DAY('Реестр СИ'!J6),"")) | G6: =IF(OR('Реестр СИ'!J6="",'Реестр СИ'!G6="Выведено из эксплуатации"),"",IF(AND(((Год*12+2)-(YEAR('Реестр СИ'!J6)*12+MONTH('Реестр СИ'!J6)))>=0,MOD(((Год*12+2)-(YEAR('Реестр СИ'!J6)*12+MONTH('Реестр СИ'!J6))),MAX(1,'Реестр СИ'!H6))=0),DAY('Реестр СИ'!J6),"")) | H6: =IF(OR('Реестр СИ'!J6="",'Реестр СИ'!G6="Выведено из эксплуатации"),"",IF(AND(((Год*12+3)-(YEAR('Реестр СИ'!J6)*12+MONTH('Реестр СИ'!J6)))>=0,MOD(((Год*12+3)-(YEAR('Реестр СИ'!J6)*12+MONTH('Реестр СИ'!J6))),MAX(1,'Реестр СИ'!H6))=0),DAY('Реестр СИ'!J6),"")) | I6: =IF(OR('Реестр СИ'!J6="",'Реестр СИ'!G6="Выведено из эксплуатации"),"",IF(AND(((Год*12+4)-(YEAR('Реестр СИ'!J6)*12+MONTH('Реестр СИ'!J6)))>=0,MOD(((Год*12+4)-(YEAR('Реестр СИ'!J6)*12+MONTH('Реестр СИ'!J6))),MAX(1,'Реестр СИ'!H6))=0),DAY('Реестр СИ'!J6),"")) | J6: =IF(OR('Реестр СИ'!J6="",'Реестр СИ'!G6="Выведено из эксплуатации"),"",IF(AND(((Год*12+5)-(YEAR('Реестр СИ'!J6)*12+MONTH('Реестр СИ'!J6)))>=0,MOD(((Год*12+5)-(YEAR('Реестр СИ'!J6)*12+MONTH('Реестр СИ'!J6))),MAX(1,'Реестр СИ'!H6))=0),DAY('Реестр СИ'!J6),"")) | K6: =IF(OR('Реестр СИ'!J6="",'Реестр СИ'!G6="Выведено из эксплуатации"),"",IF(AND(((Год*12+6)-(YEAR('Реестр СИ'!J6)*12+MONTH('Реестр СИ'!J6)))>=0,MOD(((Год*12+6)-(YEAR('Реестр СИ'!J6)*12+MONTH('Реестр СИ'!J6))),MAX(1,'Реестр СИ'!H6))=0),DAY('Реестр СИ'!J6),"")) | L6: =IF(OR('Реестр СИ'!J6="",'Реестр СИ'!G6="Выведено из эксплуатации"),"",IF(AND(((Год*12+7)-(YEAR('Реестр СИ'!J6)*12+MONTH('Реестр СИ'!J6)))>=0,MOD(((Год*12+7)-(YEAR('Реестр СИ'!J6)*12+MONTH('Реестр СИ'!J6))),MAX(1,'Реестр СИ'!H6))=0),DAY('Реестр СИ'!J6),"")) | M6: =IF(OR('Реестр СИ'!J6="",'Реестр СИ'!G6="Выведено из эксплуатации"),"",IF(AND(((Год*12+8)-(YEAR('Реестр СИ'!J6)*12+MONTH('Реестр СИ'!J6)))>=0,MOD(((Год*12+8)-(YEAR('Реестр СИ'!J6)*12+MONTH('Реестр СИ'!J6))),MAX(1,'Реестр СИ'!H6))=0),DAY('Реестр СИ'!J6),"")) | N6: =IF(OR('Реестр СИ'!J6="",'Реестр СИ'!G6="Выведено из эксплуатации"),"",IF(AND(((Год*12+9)-(YEAR('Реестр СИ'!J6)*12+MONTH('Реестр СИ'!J6)))>=0,MOD(((Год*12+9)-(YEAR('Реестр СИ'!J6)*12+MONTH('Реестр СИ'!J6))),MAX(1,'Реестр СИ'!H6))=0),DAY('Реестр СИ'!J6),"")) | O6: =IF(OR('Реестр СИ'!J6="",'Реестр СИ'!G6="Выведено из эксплуатации"),"",IF(AND(((Год*12+10)-(YEAR('Реестр СИ'!J6)*12+MONTH('Реестр СИ'!J6)))>=0,MOD(((Год*12+10)-(YEAR('Реестр СИ'!J6)*12+MONTH('Реестр СИ'!J6))),MAX(1,'Реестр СИ'!H6))=0),DAY('Реестр СИ'!J6),"")) | P6: =IF(OR('Реестр СИ'!J6="",'Реестр СИ'!G6="Выведено из эксплуатации"),"",IF(AND(((Год*12+11)-(YEAR('Реестр СИ'!J6)*12+MONTH('Реестр СИ'!J6)))>=0,MOD(((Год*12+11)-(YEAR('Реестр СИ'!J6)*12+MONTH('Реестр СИ'!J6))),MAX(1,'Реестр СИ'!H6))=0),DAY('Реестр СИ'!J6),"")) | Q6: =IF(OR('Реестр СИ'!J6="",'Реестр СИ'!G6="Выведено из эксплуатации"),"",IF(AND(((Год*12+12)-(YEAR('Реестр СИ'!J6)*12+MONTH('Реестр СИ'!J6)))>=0,MOD(((Год*12+12)-(YEAR('Реестр СИ'!J6)*12+MONTH('Реестр СИ'!J6))),MAX(1,'Реестр СИ'!H6))=0),DAY('Реестр СИ'!J6),"")) | R6: =IF('Реестр СИ'!B6="","",COUNT(F6:Q6)*N('Реестр СИ'!N6))
A7: =IF('Реестр СИ'!B7="","",'Реестр СИ'!A7) | B7: =IF('Реестр СИ'!B7="","",'Реестр СИ'!B7) | C7: =IF('Реестр СИ'!B7="","",'Реестр СИ'!C7) | D7: =IF('Реестр СИ'!B7="","",'Реестр СИ'!E7) | E7: =IF('Реестр СИ'!B7="","",'Реестр СИ'!H7) | F7: =IF(OR('Реестр СИ'!J7="",'Реестр СИ'!G7="Выведено из эксплуатации"),"",IF(AND(((Год*12+1)-(YEAR('Реестр СИ'!J7)*12+MONTH('Реестр СИ'!J7)))>=0,MOD(((Год*12+1)-(YEAR('Реестр СИ'!J7)*12+MONTH('Реестр СИ'!J7))),MAX(1,'Реестр СИ'!H7))=0),DAY('Реестр СИ'!J7),"")) | G7: =IF(OR('Реестр СИ'!J7="",'Реестр СИ'!G7="Выведено из эксплуатации"),"",IF(AND(((Год*12+2)-(YEAR('Реестр СИ'!J7)*12+MONTH('Реестр СИ'!J7)))>=0,MOD(((Год*12+2)-(YEAR('Реестр СИ'!J7)*12+MONTH('Реестр СИ'!J7))),MAX(1,'Реестр СИ'!H7))=0),DAY('Реестр СИ'!J7),"")) | H7: =IF(OR('Реестр СИ'!J7="",'Реестр СИ'!G7="Выведено из эксплуатации"),"",IF(AND(((Год*12+3)-(YEAR('Реестр СИ'!J7)*12+MONTH('Реестр СИ'!J7)))>=0,MOD(((Год*12+3)-(YEAR('Реестр СИ'!J7)*12+MONTH('Реестр СИ'!J7))),MAX(1,'Реестр СИ'!H7))=0),DAY('Реестр СИ'!J7),"")) | I7: =IF(OR('Реестр СИ'!J7="",'Реестр СИ'!G7="Выведено из эксплуатации"),"",IF(AND(((Год*12+4)-(YEAR('Реестр СИ'!J7)*12+MONTH('Реестр СИ'!J7)))>=0,MOD(((Год*12+4)-(YEAR('Реестр СИ'!J7)*12+MONTH('Реестр СИ'!J7))),MAX(1,'Реестр СИ'!H7))=0),DAY('Реестр СИ'!J7),"")) | J7: =IF(OR('Реестр СИ'!J7="",'Реестр СИ'!G7="Выведено из эксплуатации"),"",IF(AND(((Год*12+5)-(YEAR('Реестр СИ'!J7)*12+MONTH('Реестр СИ'!J7)))>=0,MOD(((Год*12+5)-(YEAR('Реестр СИ'!J7)*12+MONTH('Реестр СИ'!J7))),MAX(1,'Реестр СИ'!H7))=0),DAY('Реестр СИ'!J7),"")) | K7: =IF(OR('Реестр СИ'!J7="",'Реестр СИ'!G7="Выведено из эксплуатации"),"",IF(AND(((Год*12+6)-(YEAR('Реестр СИ'!J7)*12+MONTH('Реестр СИ'!J7)))>=0,MOD(((Год*12+6)-(YEAR('Реестр СИ'!J7)*12+MONTH('Реестр СИ'!J7))),MAX(1,'Реестр СИ'!H7))=0),DAY('Реестр СИ'!J7),"")) | L7: =IF(OR('Реестр СИ'!J7="",'Реестр СИ'!G7="Выведено из эксплуатации"),"",IF(AND(((Год*12+7)-(YEAR('Реестр СИ'!J7)*12+MONTH('Реестр СИ'!J7)))>=0,MOD(((Год*12+7)-(YEAR('Реестр СИ'!J7)*12+MONTH('Реестр СИ'!J7))),MAX(1,'Реестр СИ'!H7))=0),DAY('Реестр СИ'!J7),"")) | M7: =IF(OR('Реестр СИ'!J7="",'Реестр СИ'!G7="Выведено из эксплуатации"),"",IF(AND(((Год*12+8)-(YEAR('Реестр СИ'!J7)*12+MONTH('Реестр СИ'!J7)))>=0,MOD(((Год*12+8)-(YEAR('Реестр СИ'!J7)*12+MONTH('Реестр СИ'!J7))),MAX(1,'Реестр СИ'!H7))=0),DAY('Реестр СИ'!J7),"")) | N7: =IF(OR('Реестр СИ'!J7="",'Реестр СИ'!G7="Выведено из эксплуатации"),"",IF(AND(((Год*12+9)-(YEAR('Реестр СИ'!J7)*12+MONTH('Реестр СИ'!J7)))>=0,MOD(((Год*12+9)-(YEAR('Реестр СИ'!J7)*12+MONTH('Реестр СИ'!J7))),MAX(1,'Реестр СИ'!H7))=0),DAY('Реестр СИ'!J7),"")) | O7: =IF(OR('Реестр СИ'!J7="",'Реестр СИ'!G7="Выведено из эксплуатации"),"",IF(AND(((Год*12+10)-(YEAR('Реестр СИ'!J7)*12+MONTH('Реестр СИ'!J7)))>=0,MOD(((Год*12+10)-(YEAR('Реестр СИ'!J7)*12+MONTH('Реестр СИ'!J7))),MAX(1,'Реестр СИ'!H7))=0),DAY('Реестр СИ'!J7),"")) | P7: =IF(OR('Реестр СИ'!J7="",'Реестр СИ'!G7="Выведено из эксплуатации"),"",IF(AND(((Год*12+11)-(YEAR('Реестр СИ'!J7)*12+MONTH('Реестр СИ'!J7)))>=0,MOD(((Год*12+11)-(YEAR('Реестр СИ'!J7)*12+MONTH('Реестр СИ'!J7))),MAX(1,'Реестр СИ'!H7))=0),DAY('Реестр СИ'!J7),"")) | Q7: =IF(OR('Реестр СИ'!J7="",'Реестр СИ'!G7="Выведено из эксплуатации"),"",IF(AND(((Год*12+12)-(YEAR('Реестр СИ'!J7)*12+MONTH('Реестр СИ'!J7)))>=0,MOD(((Год*12+12)-(YEAR('Реестр СИ'!J7)*12+MONTH('Реестр СИ'!J7))),MAX(1,'Реестр СИ'!H7))=0),DAY('Реестр СИ'!J7),"")) | R7: =IF('Реестр СИ'!B7="","",COUNT(F7:Q7)*N('Реестр СИ'!N7))
A8: =IF('Реестр СИ'!B8="","",'Реестр СИ'!A8) | B8: =IF('Реестр СИ'!B8="","",'Реестр СИ'!B8) | C8: =IF('Реестр СИ'!B8="","",'Реестр СИ'!C8) | D8: =IF('Реестр СИ'!B8="","",'Реестр СИ'!E8) | E8: =IF('Реестр СИ'!B8="","",'Реестр СИ'!H8) | F8: =IF(OR('Реестр СИ'!J8="",'Реестр СИ'!G8="Выведено из эксплуатации"),"",IF(AND(((Год*12+1)-(YEAR('Реестр СИ'!J8)*12+MONTH('Реестр СИ'!J8)))>=0,MOD(((Год*12+1)-(YEAR('Реестр СИ'!J8)*12+MONTH('Реестр СИ'!J8))),MAX(1,'Реестр СИ'!H8))=0),DAY('Реестр СИ'!J8),"")) | G8: =IF(OR('Реестр СИ'!J8="",'Реестр СИ'!G8="Выведено из эксплуатации"),"",IF(AND(((Год*12+2)-(YEAR('Реестр СИ'!J8)*12+MONTH('Реестр СИ'!J8)))>=0,MOD(((Год*12+2)-(YEAR('Реестр СИ'!J8)*12+MONTH('Реестр СИ'!J8))),MAX(1,'Реестр СИ'!H8))=0),DAY('Реестр СИ'!J8),"")) | H8: =IF(OR('Реестр СИ'!J8="",'Реестр СИ'!G8="Выведено из эксплуатации"),"",IF(AND(((Год*12+3)-(YEAR('Реестр СИ'!J8)*12+MONTH('Реестр СИ'!J8)))>=0,MOD(((Год*12+3)-(YEAR('Реестр СИ'!J8)*12+MONTH('Реестр СИ'!J8))),MAX(1,'Реестр СИ'!H8))=0),DAY('Реестр СИ'!J8),"")) | I8: =IF(OR('Реестр СИ'!J8="",'Реестр СИ'!G8="Выведено из эксплуатации"),"",IF(AND(((Год*12+4)-(YEAR('Реестр СИ'!J8)*12+MONTH('Реестр СИ'!J8)))>=0,MOD(((Год*12+4)-(YEAR('Реестр СИ'!J8)*12+MONTH('Реестр СИ'!J8))),MAX(1,'Реестр СИ'!H8))=0),DAY('Реестр СИ'!J8),"")) | J8: =IF(OR('Реестр СИ'!J8="",'Реестр СИ'!G8="Выведено из эксплуатации"),"",IF(AND(((Год*12+5)-(YEAR('Реестр СИ'!J8)*12+MONTH('Реестр СИ'!J8)))>=0,MOD(((Год*12+5)-(YEAR('Реестр СИ'!J8)*12+MONTH('Реестр СИ'!J8))),MAX(1,'Реестр СИ'!H8))=0),DAY('Реестр СИ'!J8),"")) | K8: =IF(OR('Реестр СИ'!J8="",'Реестр СИ'!G8="Выведено из эксплуатации"),"",IF(AND(((Год*12+6)-(YEAR('Реестр СИ'!J8)*12+MONTH('Реестр СИ'!J8)))>=0,MOD(((Год*12+6)-(YEAR('Реестр СИ'!J8)*12+MONTH('Реестр СИ'!J8))),MAX(1,'Реестр СИ'!H8))=0),DAY('Реестр СИ'!J8),"")) | L8: =IF(OR('Реестр СИ'!J8="",'Реестр СИ'!G8="Выведено из эксплуатации"),"",IF(AND(((Год*12+7)-(YEAR('Реестр СИ'!J8)*12+MONTH('Реестр СИ'!J8)))>=0,MOD(((Год*12+7)-(YEAR('Реестр СИ'!J8)*12+MONTH('Реестр СИ'!J8))),MAX(1,'Реестр СИ'!H8))=0),DAY('Реестр СИ'!J8),"")) | M8: =IF(OR('Реестр СИ'!J8="",'Реестр СИ'!G8="Выведено из эксплуатации"),"",IF(AND(((Год*12+8)-(YEAR('Реестр СИ'!J8)*12+MONTH('Реестр СИ'!J8)))>=0,MOD(((Год*12+8)-(YEAR('Реестр СИ'!J8)*12+MONTH('Реестр СИ'!J8))),MAX(1,'Реестр СИ'!H8))=0),DAY('Реестр СИ'!J8),"")) | N8: =IF(OR('Реестр СИ'!J8="",'Реестр СИ'!G8="Выведено из эксплуатации"),"",IF(AND(((Год*12+9)-(YEAR('Реестр СИ'!J8)*12+MONTH('Реестр СИ'!J8)))>=0,MOD(((Год*12+9)-(YEAR('Реестр СИ'!J8)*12+MONTH('Реестр СИ'!J8))),MAX(1,'Реестр СИ'!H8))=0),DAY('Реестр СИ'!J8),"")) | O8: =IF(OR('Реестр СИ'!J8="",'Реестр СИ'!G8="Выведено из эксплуатации"),"",IF(AND(((Год*12+10)-(YEAR('Реестр СИ'!J8)*12+MONTH('Реестр СИ'!J8)))>=0,MOD(((Год*12+10)-(YEAR('Реестр СИ'!J8)*12+MONTH('Реестр СИ'!J8))),MAX(1,'Реестр СИ'!H8))=0),DAY('Реестр СИ'!J8),"")) | P8: =IF(OR('Реестр СИ'!J8="",'Реестр СИ'!G8="Выведено из эксплуатации"),"",IF(AND(((Год*12+11)-(YEAR('Реестр СИ'!J8)*12+MONTH('Реестр СИ'!J8)))>=0,MOD(((Год*12+11)-(YEAR('Реестр СИ'!J8)*12+MONTH('Реестр СИ'!J8))),MAX(1,'Реестр СИ'!H8))=0),DAY('Реестр СИ'!J8),"")) | Q8: =IF(OR('Реестр СИ'!J8="",'Реестр СИ'!G8="Выведено из эксплуатации"),"",IF(AND(((Год*12+12)-(YEAR('Реестр СИ'!J8)*12+MONTH('Реестр СИ'!J8)))>=0,MOD(((Год*12+12)-(YEAR('Реестр СИ'!J8)*12+MONTH('Реестр СИ'!J8))),MAX(1,'Реестр СИ'!H8))=0),DAY('Реестр СИ'!J8),"")) | R8: =IF('Реестр СИ'!B8="","",COUNT(F8:Q8)*N('Реестр СИ'!N8))
A9: =IF('Реестр СИ'!B9="","",'Реестр СИ'!A9) | B9: =IF('Реестр СИ'!B9="","",'Реестр СИ'!B9) | C9: =IF('Реестр СИ'!B9="","",'Реестр СИ'!C9) | D9: =IF('Реестр СИ'!B9="","",'Реестр СИ'!E9) | E9: =IF('Реестр СИ'!B9="","",'Реестр СИ'!H9) | F9: =IF(OR('Реестр СИ'!J9="",'Реестр СИ'!G9="Выведено из эксплуатации"),"",IF(AND(((Год*12+1)-(YEAR('Реестр СИ'!J9)*12+MONTH('Реестр СИ'!J9)))>=0,MOD(((Год*12+1)-(YEAR('Реестр СИ'!J9)*12+MONTH('Реестр СИ'!J9))),MAX(1,'Реестр СИ'!H9))=0),DAY('Реестр СИ'!J9),"")) | G9: =IF(OR('Реестр СИ'!J9="",'Реестр СИ'!G9="Выведено из эксплуатации"),"",IF(AND(((Год*12+2)-(YEAR('Реестр СИ'!J9)*12+MONTH('Реестр СИ'!J9)))>=0,MOD(((Год*12+2)-(YEAR('Реестр СИ'!J9)*12+MONTH('Реестр СИ'!J9))),MAX(1,'Реестр СИ'!H9))=0),DAY('Реестр СИ'!J9),"")) | H9: =IF(OR('Реестр СИ'!J9="",'Реестр СИ'!G9="Выведено из эксплуатации"),"",IF(AND(((Год*12+3)-(YEAR('Реестр СИ'!J9)*12+MONTH('Реестр СИ'!J9)))>=0,MOD(((Год*12+3)-(YEAR('Реестр СИ'!J9)*12+MONTH('Реестр СИ'!J9))),MAX(1,'Реестр СИ'!H9))=0),DAY('Реестр СИ'!J9),"")) | I9: =IF(OR('Реестр СИ'!J9="",'Реестр СИ'!G9="Выведено из эксплуатации"),"",IF(AND(((Год*12+4)-(YEAR('Реестр СИ'!J9)*12+MONTH('Реестр СИ'!J9)))>=0,MOD(((Год*12+4)-(YEAR('Реестр СИ'!J9)*12+MONTH('Реестр СИ'!J9))),MAX(1,'Реестр СИ'!H9))=0),DAY('Реестр СИ'!J9),"")) | J9: =IF(OR('Реестр СИ'!J9="",'Реестр СИ'!G9="Выведено из эксплуатации"),"",IF(AND(((Год*12+5)-(YEAR('Реестр СИ'!J9)*12+MONTH('Реестр СИ'!J9)))>=0,MOD(((Год*12+5)-(YEAR('Реестр СИ'!J9)*12+MONTH('Реестр СИ'!J9))),MAX(1,'Реестр СИ'!H9))=0),DAY('Реестр СИ'!J9),"")) | K9: =IF(OR('Реестр СИ'!J9="",'Реестр СИ'!G9="Выведено из эксплуатации"),"",IF(AND(((Год*12+6)-(YEAR('Реестр СИ'!J9)*12+MONTH('Реестр СИ'!J9)))>=0,MOD(((Год*12+6)-(YEAR('Реестр СИ'!J9)*12+MONTH('Реестр СИ'!J9))),MAX(1,'Реестр СИ'!H9))=0),DAY('Реестр СИ'!J9),"")) | L9: =IF(OR('Реестр СИ'!J9="",'Реестр СИ'!G9="Выведено из эксплуатации"),"",IF(AND(((Год*12+7)-(YEAR('Реестр СИ'!J9)*12+MONTH('Реестр СИ'!J9)))>=0,MOD(((Год*12+7)-(YEAR('Реестр СИ'!J9)*12+MONTH('Реестр СИ'!J9))),MAX(1,'Реестр СИ'!H9))=0),DAY('Реестр СИ'!J9),"")) | M9: =IF(OR('Реестр СИ'!J9="",'Реестр СИ'!G9="Выведено из эксплуатации"),"",IF(AND(((Год*12+8)-(YEAR('Реестр СИ'!J9)*12+MONTH('Реестр СИ'!J9)))>=0,MOD(((Год*12+8)-(YEAR('Реестр СИ'!J9)*12+MONTH('Реестр СИ'!J9))),MAX(1,'Реестр СИ'!H9))=0),DAY('Реестр СИ'!J9),"")) | N9: =IF(OR('Реестр СИ'!J9="",'Реестр СИ'!G9="Выведено из эксплуатации"),"",IF(AND(((Год*12+9)-(YEAR('Реестр СИ'!J9)*12+MONTH('Реестр СИ'!J9)))>=0,MOD(((Год*12+9)-(YEAR('Реестр СИ'!J9)*12+MONTH('Реестр СИ'!J9))),MAX(1,'Реестр СИ'!H9))=0),DAY('Реестр СИ'!J9),"")) | O9: =IF(OR('Реестр СИ'!J9="",'Реестр СИ'!G9="Выведено из эксплуатации"),"",IF(AND(((Год*12+10)-(YEAR('Реестр СИ'!J9)*12+MONTH('Реестр СИ'!J9)))>=0,MOD(((Год*12+10)-(YEAR('Реестр СИ'!J9)*12+MONTH('Реестр СИ'!J9))),MAX(1,'Реестр СИ'!H9))=0),DAY('Реестр СИ'!J9),"")) | P9: =IF(OR('Реестр СИ'!J9="",'Реестр СИ'!G9="Выведено из эксплуатации"),"",IF(AND(((Год*12+11)-(YEAR('Реестр СИ'!J9)*12+MONTH('Реестр СИ'!J9)))>=0,MOD(((Год*12+11)-(YEAR('Реестр СИ'!J9)*12+MONTH('Реестр СИ'!J9))),MAX(1,'Реестр СИ'!H9))=0),DAY('Реестр СИ'!J9),"")) | Q9: =IF(OR('Реестр СИ'!J9="",'Реестр СИ'!G9="Выведено из эксплуатации"),"",IF(AND(((Год*12+12)-(YEAR('Реестр СИ'!J9)*12+MONTH('Реестр СИ'!J9)))>=0,MOD(((Год*12+12)-(YEAR('Реестр СИ'!J9)*12+MONTH('Реестр СИ'!J9))),MAX(1,'Реестр СИ'!H9))=0),DAY('Реестр СИ'!J9),"")) | R9: =IF('Реестр СИ'!B9="","",COUNT(F9:Q9)*N('Реестр СИ'!N9))
A10: =IF('Реестр СИ'!B10="","",'Реестр СИ'!A10) | B10: =IF('Реестр СИ'!B10="","",'Реестр СИ'!B10) | C10: =IF('Реестр СИ'!B10="","",'Реестр СИ'!C10) | D10: =IF('Реестр СИ'!B10="","",'Реестр СИ'!E10) | E10: =IF('Реестр СИ'!B10="","",'Реестр СИ'!H10) | F10: =IF(OR('Реестр СИ'!J10="",'Реестр СИ'!G10="Выведено из эксплуатации"),"",IF(AND(((Год*12+1)-(YEAR('Реестр СИ'!J10)*12+MONTH('Реестр СИ'!J10)))>=0,MOD(((Год*12+1)-(YEAR('Реестр СИ'!J10)*12+MONTH('Реестр СИ'!J10))),MAX(1,'Реестр СИ'!H10))=0),DAY('Реестр СИ'!J10),"")) | G10: =IF(OR('Реестр СИ'!J10="",'Реестр СИ'!G10="Выведено из эксплуатации"),"",IF(AND(((Год*12+2)-(YEAR('Реестр СИ'!J10)*12+MONTH('Реестр СИ'!J10)))>=0,MOD(((Год*12+2)-(YEAR('Реестр СИ'!J10)*12+MONTH('Реестр СИ'!J10))),MAX(1,'Реестр СИ'!H10))=0),DAY('Реестр СИ'!J10),"")) | H10: =IF(OR('Реестр СИ'!J10="",'Реестр СИ'!G10="Выведено из эксплуатации"),"",IF(AND(((Год*12+3)-(YEAR('Реестр СИ'!J10)*12+MONTH('Реестр СИ'!J10)))>=0,MOD(((Год*12+3)-(YEAR('Реестр СИ'!J10)*12+MONTH('Реестр СИ'!J10))),MAX(1,'Реестр СИ'!H10))=0),DAY('Реестр СИ'!J10),"")) | I10: =IF(OR('Реестр СИ'!J10="",'Реестр СИ'!G10="Выведено из эксплуатации"),"",IF(AND(((Год*12+4)-(YEAR('Реестр СИ'!J10)*12+MONTH('Реестр СИ'!J10)))>=0,MOD(((Год*12+4)-(YEAR('Реестр СИ'!J10)*12+MONTH('Реестр СИ'!J10))),MAX(1,'Реестр СИ'!H10))=0),DAY('Реестр СИ'!J10),"")) | J10: =IF(OR('Реестр СИ'!J10="",'Реестр СИ'!G10="Выведено из эксплуатации"),"",IF(AND(((Год*12+5)-(YEAR('Реестр СИ'!J10)*12+MONTH('Реестр СИ'!J10)))>=0,MOD(((Год*12+5)-(YEAR('Реестр СИ'!J10)*12+MONTH('Реестр СИ'!J10))),MAX(1,'Реестр СИ'!H10))=0),DAY('Реестр СИ'!J10),"")) | K10: =IF(OR('Реестр СИ'!J10="",'Реестр СИ'!G10="Выведено из эксплуатации"),"",IF(AND(((Год*12+6)-(YEAR('Реестр СИ'!J10)*12+MONTH('Реестр СИ'!J10)))>=0,MOD(((Год*12+6)-(YEAR('Реестр СИ'!J10)*12+MONTH('Реестр СИ'!J10))),MAX(1,'Реестр СИ'!H10))=0),DAY('Реестр СИ'!J10),"")) | L10: =IF(OR('Реестр СИ'!J10="",'Реестр СИ'!G10="Выведено из эксплуатации"),"",IF(AND(((Год*12+7)-(YEAR('Реестр СИ'!J10)*12+MONTH('Реестр СИ'!J10)))>=0,MOD(((Год*12+7)-(YEAR('Реестр СИ'!J10)*12+MONTH('Реестр СИ'!J10))),MAX(1,'Реестр СИ'!H10))=0),DAY('Реестр СИ'!J10),"")) | M10: =IF(OR('Реестр СИ'!J10="",'Реестр СИ'!G10="Выведено из эксплуатации"),"",IF(AND(((Год*12+8)-(YEAR('Реестр СИ'!J10)*12+MONTH('Реестр СИ'!J10)))>=0,MOD(((Год*12+8)-(YEAR('Реестр СИ'!J10)*12+MONTH('Реестр СИ'!J10))),MAX(1,'Реестр СИ'!H10))=0),DAY('Реестр СИ'!J10),"")) | N10: =IF(OR('Реестр СИ'!J10="",'Реестр СИ'!G10="Выведено из эксплуатации"),"",IF(AND(((Год*12+9)-(YEAR('Реестр СИ'!J10)*12+MONTH('Реестр СИ'!J10)))>=0,MOD(((Год*12+9)-(YEAR('Реестр СИ'!J10)*12+MONTH('Реестр СИ'!J10))),MAX(1,'Реестр СИ'!H10))=0),DAY('Реестр СИ'!J10),"")) | O10: =IF(OR('Реестр СИ'!J10="",'Реестр СИ'!G10="Выведено из эксплуатации"),"",IF(AND(((Год*12+10)-(YEAR('Реестр СИ'!J10)*12+MONTH('Реестр СИ'!J10)))>=0,MOD(((Год*12+10)-(YEAR('Реестр СИ'!J10)*12+MONTH('Реестр СИ'!J10))),MAX(1,'Реестр СИ'!H10))=0),DAY('Реестр СИ'!J10),"")) | P10: =IF(OR('Реестр СИ'!J10="",'Реестр СИ'!G10="Выведено из эксплуатации"),"",IF(AND(((Год*12+11)-(YEAR('Реестр СИ'!J10)*12+MONTH('Реестр СИ'!J10)))>=0,MOD(((Год*12+11)-(YEAR('Реестр СИ'!J10)*12+MONTH('Реестр СИ'!J10))),MAX(1,'Реестр СИ'!H10))=0),DAY('Реестр СИ'!J10),"")) | Q10: =IF(OR('Реестр СИ'!J10="",'Реестр СИ'!G10="Выведено из эксплуатации"),"",IF(AND(((Год*12+12)-(YEAR('Реестр СИ'!J10)*12+MONTH('Реестр СИ'!J10)))>=0,MOD(((Год*12+12)-(YEAR('Реестр СИ'!J10)*12+MONTH('Реестр СИ'!J10))),MAX(1,'Реестр СИ'!H10))=0),DAY('Реестр СИ'!J10),"")) | R10: =IF('Реестр СИ'!B10="","",COUNT(F10:Q10)*N('Реестр СИ'!N10))
A11: =IF('Реестр СИ'!B11="","",'Реестр СИ'!A11) | B11: =IF('Реестр СИ'!B11="","",'Реестр СИ'!B11) | C11: =IF('Реестр СИ'!B11="","",'Реестр СИ'!C11) | D11: =IF('Реестр СИ'!B11="","",'Реестр СИ'!E11) | E11: =IF('Реестр СИ'!B11="","",'Реестр СИ'!H11) | F11: =IF(OR('Реестр СИ'!J11="",'Реестр СИ'!G11="Выведено из эксплуатации"),"",IF(AND(((Год*12+1)-(YEAR('Реестр СИ'!J11)*12+MONTH('Реестр СИ'!J11)))>=0,MOD(((Год*12+1)-(YEAR('Реестр СИ'!J11)*12+MONTH('Реестр СИ'!J11))),MAX(1,'Реестр СИ'!H11))=0),DAY('Реестр СИ'!J11),"")) | G11: =IF(OR('Реестр СИ'!J11="",'Реестр СИ'!G11="Выведено из эксплуатации"),"",IF(AND(((Год*12+2)-(YEAR('Реестр СИ'!J11)*12+MONTH('Реестр СИ'!J11)))>=0,MOD(((Год*12+2)-(YEAR('Реестр СИ'!J11)*12+MONTH('Реестр СИ'!J11))),MAX(1,'Реестр СИ'!H11))=0),DAY('Реестр СИ'!J11),"")) | H11: =IF(OR('Реестр СИ'!J11="",'Реестр СИ'!G11="Выведено из эксплуатации"),"",IF(AND(((Год*12+3)-(YEAR('Реестр СИ'!J11)*12+MONTH('Реестр СИ'!J11)))>=0,MOD(((Год*12+3)-(YEAR('Реестр СИ'!J11)*12+MONTH('Реестр СИ'!J11))),MAX(1,'Реестр СИ'!H11))=0),DAY('Реестр СИ'!J11),"")) | I11: =IF(OR('Реестр СИ'!J11="",'Реестр СИ'!G11="Выведено из эксплуатации"),"",IF(AND(((Год*12+4)-(YEAR('Реестр СИ'!J11)*12+MONTH('Реестр СИ'!J11)))>=0,MOD(((Год*12+4)-(YEAR('Реестр СИ'!J11)*12+MONTH('Реестр СИ'!J11))),MAX(1,'Реестр СИ'!H11))=0),DAY('Реестр СИ'!J11),"")) | J11: =IF(OR('Реестр СИ'!J11="",'Реестр СИ'!G11="Выведено из эксплуатации"),"",IF(AND(((Год*12+5)-(YEAR('Реестр СИ'!J11)*12+MONTH('Реестр СИ'!J11)))>=0,MOD(((Год*12+5)-(YEAR('Реестр СИ'!J11)*12+MONTH('Реестр СИ'!J11))),MAX(1,'Реестр СИ'!H11))=0),DAY('Реестр СИ'!J11),"")) | K11: =IF(OR('Реестр СИ'!J11="",'Реестр СИ'!G11="Выведено из эксплуатации"),"",IF(AND(((Год*12+6)-(YEAR('Реестр СИ'!J11)*12+MONTH('Реестр СИ'!J11)))>=0,MOD(((Год*12+6)-(YEAR('Реестр СИ'!J11)*12+MONTH('Реестр СИ'!J11))),MAX(1,'Реестр СИ'!H11))=0),DAY('Реестр СИ'!J11),"")) | L11: =IF(OR('Реестр СИ'!J11="",'Реестр СИ'!G11="Выведено из эксплуатации"),"",IF(AND(((Год*12+7)-(YEAR('Реестр СИ'!J11)*12+MONTH('Реестр СИ'!J11)))>=0,MOD(((Год*12+7)-(YEAR('Реестр СИ'!J11)*12+MONTH('Реестр СИ'!J11))),MAX(1,'Реестр СИ'!H11))=0),DAY('Реестр СИ'!J11),"")) | M11: =IF(OR('Реестр СИ'!J11="",'Реестр СИ'!G11="Выведено из эксплуатации"),"",IF(AND(((Год*12+8)-(YEAR('Реестр СИ'!J11)*12+MONTH('Реестр СИ'!J11)))>=0,MOD(((Год*12+8)-(YEAR('Реестр СИ'!J11)*12+MONTH('Реестр СИ'!J11))),MAX(1,'Реестр СИ'!H11))=0),DAY('Реестр СИ'!J11),"")) | N11: =IF(OR('Реестр СИ'!J11="",'Реестр СИ'!G11="Выведено из эксплуатации"),"",IF(AND(((Год*12+9)-(YEAR('Реестр СИ'!J11)*12+MONTH('Реестр СИ'!J11)))>=0,MOD(((Год*12+9)-(YEAR('Реестр СИ'!J11)*12+MONTH('Реестр СИ'!J11))),MAX(1,'Реестр СИ'!H11))=0),DAY('Реестр СИ'!J11),"")) | O11: =IF(OR('Реестр СИ'!J11="",'Реестр СИ'!G11="Выведено из эксплуатации"),"",IF(AND(((Год*12+10)-(YEAR('Реестр СИ'!J11)*12+MONTH('Реестр СИ'!J11)))>=0,MOD(((Год*12+10)-(YEAR('Реестр СИ'!J11)*12+MONTH('Реестр СИ'!J11))),MAX(1,'Реестр СИ'!H11))=0),DAY('Реестр СИ'!J11),"")) | P11: =IF(OR('Реестр СИ'!J11="",'Реестр СИ'!G11="Выведено из эксплуатации"),"",IF(AND(((Год*12+11)-(YEAR('Реестр СИ'!J11)*12+MONTH('Реестр СИ'!J11)))>=0,MOD(((Год*12+11)-(YEAR('Реестр СИ'!J11)*12+MONTH('Реестр СИ'!J11))),MAX(1,'Реестр СИ'!H11))=0),DAY('Реестр СИ'!J11),"")) | Q11: =IF(OR('Реестр СИ'!J11="",'Реестр СИ'!G11="Выведено из эксплуатации"),"",IF(AND(((Год*12+12)-(YEAR('Реестр СИ'!J11)*12+MONTH('Реестр СИ'!J11)))>=0,MOD(((Год*12+12)-(YEAR('Реестр СИ'!J11)*12+MONTH('Реестр СИ'!J11))),MAX(1,'Реестр СИ'!H11))=0),DAY('Реестр СИ'!J11),"")) | R11: =IF('Реестр СИ'!B11="","",COUNT(F11:Q11)*N('Реестр СИ'!N11))
A12: =IF('Реестр СИ'!B12="","",'Реестр СИ'!A12) | B12: =IF('Реестр СИ'!B12="","",'Реестр СИ'!B12) | C12: =IF('Реестр СИ'!B12="","",'Реестр СИ'!C12) | D12: =IF('Реестр СИ'!B12="","",'Реестр СИ'!E12) | E12: =IF('Реестр СИ'!B12="","",'Реестр СИ'!H12) | F12: =IF(OR('Реестр СИ'!J12="",'Реестр СИ'!G12="Выведено из эксплуатации"),"",IF(AND(((Год*12+1)-(YEAR('Реестр СИ'!J12)*12+MONTH('Реестр СИ'!J12)))>=0,MOD(((Год*12+1)-(YEAR('Реестр СИ'!J12)*12+MONTH('Реестр СИ'!J12))),MAX(1,'Реестр СИ'!H12))=0),DAY('Реестр СИ'!J12),"")) | G12: =IF(OR('Реестр СИ'!J12="",'Реестр СИ'!G12="Выведено из эксплуатации"),"",IF(AND(((Год*12+2)-(YEAR('Реестр СИ'!J12)*12+MONTH('Реестр СИ'!J12)))>=0,MOD(((Год*12+2)-(YEAR('Реестр СИ'!J12)*12+MONTH('Реестр СИ'!J12))),MAX(1,'Реестр СИ'!H12))=0),DAY('Реестр СИ'!J12),"")) | H12: =IF(OR('Реестр СИ'!J12="",'Реестр СИ'!G12="Выведено из эксплуатации"),"",IF(AND(((Год*12+3)-(YEAR('Реестр СИ'!J12)*12+MONTH('Реестр СИ'!J12)))>=0,MOD(((Год*12+3)-(YEAR('Реестр СИ'!J12)*12+MONTH('Реестр СИ'!J12))),MAX(1,'Реестр СИ'!H12))=0),DAY('Реестр СИ'!J12),"")) | I12: =IF(OR('Реестр СИ'!J12="",'Реестр СИ'!G12="Выведено из эксплуатации"),"",IF(AND(((Год*12+4)-(YEAR('Реестр СИ'!J12)*12+MONTH('Реестр СИ'!J12)))>=0,MOD(((Год*12+4)-(YEAR('Реестр СИ'!J12)*12+MONTH('Реестр СИ'!J12))),MAX(1,'Реестр СИ'!H12))=0),DAY('Реестр СИ'!J12),"")) | J12: =IF(OR('Реестр СИ'!J12="",'Реестр СИ'!G12="Выведено из эксплуатации"),"",IF(AND(((Год*12+5)-(YEAR('Реестр СИ'!J12)*12+MONTH('Реестр СИ'!J12)))>=0,MOD(((Год*12+5)-(YEAR('Реестр СИ'!J12)*12+MONTH('Реестр СИ'!J12))),MAX(1,'Реестр СИ'!H12))=0),DAY('Реестр СИ'!J12),"")) | K12: =IF(OR('Реестр СИ'!J12="",'Реестр СИ'!G12="Выведено из эксплуатации"),"",IF(AND(((Год*12+6)-(YEAR('Реестр СИ'!J12)*12+MONTH('Реестр СИ'!J12)))>=0,MOD(((Год*12+6)-(YEAR('Реестр СИ'!J12)*12+MONTH('Реестр СИ'!J12))),MAX(1,'Реестр СИ'!H12))=0),DAY('Реестр СИ'!J12),"")) | L12: =IF(OR('Реестр СИ'!J12="",'Реестр СИ'!G12="Выведено из эксплуатации"),"",IF(AND(((Год*12+7)-(YEAR('Реестр СИ'!J12)*12+MONTH('Реестр СИ'!J12)))>=0,MOD(((Год*12+7)-(YEAR('Реестр СИ'!J12)*12+MONTH('Реестр СИ'!J12))),MAX(1,'Реестр СИ'!H12))=0),DAY('Реестр СИ'!J12),"")) | M12: =IF(OR('Реестр СИ'!J12="",'Реестр СИ'!G12="Выведено из эксплуатации"),"",IF(AND(((Год*12+8)-(YEAR('Реестр СИ'!J12)*12+MONTH('Реестр СИ'!J12)))>=0,MOD(((Год*12+8)-(YEAR('Реестр СИ'!J12)*12+MONTH('Реестр СИ'!J12))),MAX(1,'Реестр СИ'!H12))=0),DAY('Реестр СИ'!J12),"")) | N12: =IF(OR('Реестр СИ'!J12="",'Реестр СИ'!G12="Выведено из эксплуатации"),"",IF(AND(((Год*12+9)-(YEAR('Реестр СИ'!J12)*12+MONTH('Реестр СИ'!J12)))>=0,MOD(((Год*12+9)-(YEAR('Реестр СИ'!J12)*12+MONTH('Реестр СИ'!J12))),MAX(1,'Реестр СИ'!H12))=0),DAY('Реестр СИ'!J12),"")) | O12: =IF(OR('Реестр СИ'!J12="",'Реестр СИ'!G12="Выведено из эксплуатации"),"",IF(AND(((Год*12+10)-(YEAR('Реестр СИ'!J12)*12+MONTH('Реестр СИ'!J12)))>=0,MOD(((Год*12+10)-(YEAR('Реестр СИ'!J12)*12+MONTH('Реестр СИ'!J12))),MAX(1,'Реестр СИ'!H12))=0),DAY('Реестр СИ'!J12),"")) | P12: =IF(OR('Реестр СИ'!J12="",'Реестр СИ'!G12="Выведено из эксплуатации"),"",IF(AND(((Год*12+11)-(YEAR('Реестр СИ'!J12)*12+MONTH('Реестр СИ'!J12)))>=0,MOD(((Год*12+11)-(YEAR('Реестр СИ'!J12)*12+MONTH('Реестр СИ'!J12))),MAX(1,'Реестр СИ'!H12))=0),DAY('Реестр СИ'!J12),"")) | Q12: =IF(OR('Реестр СИ'!J12="",'Реестр СИ'!G12="Выведено из эксплуатации"),"",IF(AND(((Год*12+12)-(YEAR('Реестр СИ'!J12)*12+MONTH('Реестр СИ'!J12)))>=0,MOD(((Год*12+12)-(YEAR('Реестр СИ'!J12)*12+MONTH('Реестр СИ'!J12))),MAX(1,'Реестр СИ'!H12))=0),DAY('Реестр СИ'!J12),"")) | R12: =IF('Реестр СИ'!B12="","",COUNT(F12:Q12)*N('Реестр СИ'!N12))
A13: =IF('Реестр СИ'!B13="","",'Реестр СИ'!A13) | B13: =IF('Реестр СИ'!B13="","",'Реестр СИ'!B13) | C13: =IF('Реестр СИ'!B13="","",'Реестр СИ'!C13) | D13: =IF('Реестр СИ'!B13="","",'Реестр СИ'!E13) | E13: =IF('Реестр СИ'!B13="","",'Реестр СИ'!H13) | F13: =IF(OR('Реестр СИ'!J13="",'Реестр СИ'!G13="Выведено из эксплуатации"),"",IF(AND(((Год*12+1)-(YEAR('Реестр СИ'!J13)*12+MONTH('Реестр СИ'!J13)))>=0,MOD(((Год*12+1)-(YEAR('Реестр СИ'!J13)*12+MONTH('Реестр СИ'!J13))),MAX(1,'Реестр СИ'!H13))=0),DAY('Реестр СИ'!J13),"")) | G13: =IF(OR('Реестр СИ'!J13="",'Реестр СИ'!G13="Выведено из эксплуатации"),"",IF(AND(((Год*12+2)-(YEAR('Реестр СИ'!J13)*12+MONTH('Реестр СИ'!J13)))>=0,MOD(((Год*12+2)-(YEAR('Реестр СИ'!J13)*12+MONTH('Реестр СИ'!J13))),MAX(1,'Реестр СИ'!H13))=0),DAY('Реестр СИ'!J13),"")) | H13: =IF(OR('Реестр СИ'!J13="",'Реестр СИ'!G13="Выведено из эксплуатации"),"",IF(AND(((Год*12+3)-(YEAR('Реестр СИ'!J13)*12+MONTH('Реестр СИ'!J13)))>=0,MOD(((Год*12+3)-(YEAR('Реестр СИ'!J13)*12+MONTH('Реестр СИ'!J13))),MAX(1,'Реестр СИ'!H13))=0),DAY('Реестр СИ'!J13),"")) | I13: =IF(OR('Реестр СИ'!J13="",'Реестр СИ'!G13="Выведено из эксплуатации"),"",IF(AND(((Год*12+4)-(YEAR('Реестр СИ'!J13)*12+MONTH('Реестр СИ'!J13)))>=0,MOD(((Год*12+4)-(YEAR('Реестр СИ'!J13)*12+MONTH('Реестр СИ'!J13))),MAX(1,'Реестр СИ'!H13))=0),DAY('Реестр СИ'!J13),"")) | J13: =IF(OR('Реестр СИ'!J13="",'Реестр СИ'!G13="Выведено из эксплуатации"),"",IF(AND(((Год*12+5)-(YEAR('Реестр СИ'!J13)*12+MONTH('Реестр СИ'!J13)))>=0,MOD(((Год*12+5)-(YEAR('Реестр СИ'!J13)*12+MONTH('Реестр СИ'!J13))),MAX(1,'Реестр СИ'!H13))=0),DAY('Реестр СИ'!J13),"")) | K13: =IF(OR('Реестр СИ'!J13="",'Реестр СИ'!G13="Выведено из эксплуатации"),"",IF(AND(((Год*12+6)-(YEAR('Реестр СИ'!J13)*12+MONTH('Реестр СИ'!J13)))>=0,MOD(((Год*12+6)-(YEAR('Реестр СИ'!J13)*12+MONTH('Реестр СИ'!J13))),MAX(1,'Реестр СИ'!H13))=0),DAY('Реестр СИ'!J13),"")) | L13: =IF(OR('Реестр СИ'!J13="",'Реестр СИ'!G13="Выведено из эксплуатации"),"",IF(AND(((Год*12+7)-(YEAR('Реестр СИ'!J13)*12+MONTH('Реестр СИ'!J13)))>=0,MOD(((Год*12+7)-(YEAR('Реестр СИ'!J13)*12+MONTH('Реестр СИ'!J13))),MAX(1,'Реестр СИ'!H13))=0),DAY('Реестр СИ'!J13),"")) | M13: =IF(OR('Реестр СИ'!J13="",'Реестр СИ'!G13="Выведено из эксплуатации"),"",IF(AND(((Год*12+8)-(YEAR('Реестр СИ'!J13)*12+MONTH('Реестр СИ'!J13)))>=0,MOD(((Год*12+8)-(YEAR('Реестр СИ'!J13)*12+MONTH('Реестр СИ'!J13))),MAX(1,'Реестр СИ'!H13))=0),DAY('Реестр СИ'!J13),"")) | N13: =IF(OR('Реестр СИ'!J13="",'Реестр СИ'!G13="Выведено из эксплуатации"),"",IF(AND(((Год*12+9)-(YEAR('Реестр СИ'!J13)*12+MONTH('Реестр СИ'!J13)))>=0,MOD(((Год*12+9)-(YEAR('Реестр СИ'!J13)*12+MONTH('Реестр СИ'!J13))),MAX(1,'Реестр СИ'!H13))=0),DAY('Реестр СИ'!J13),"")) | O13: =IF(OR('Реестр СИ'!J13="",'Реестр СИ'!G13="Выведено из эксплуатации"),"",IF(AND(((Год*12+10)-(YEAR('Реестр СИ'!J13)*12+MONTH('Реестр СИ'!J13)))>=0,MOD(((Год*12+10)-(YEAR('Реестр СИ'!J13)*12+MONTH('Реестр СИ'!J13))),MAX(1,'Реестр СИ'!H13))=0),DAY('Реестр СИ'!J13),"")) | P13: =IF(OR('Реестр СИ'!J13="",'Реестр СИ'!G13="Выведено из эксплуатации"),"",IF(AND(((Год*12+11)-(YEAR('Реестр СИ'!J13)*12+MONTH('Реестр СИ'!J13)))>=0,MOD(((Год*12+11)-(YEAR('Реестр СИ'!J13)*12+MONTH('Реестр СИ'!J13))),MAX(1,'Реестр СИ'!H13))=0),DAY('Реестр СИ'!J13),"")) | Q13: =IF(OR('Реестр СИ'!J13="",'Реестр СИ'!G13="Выведено из эксплуатации"),"",IF(AND(((Год*12+12)-(YEAR('Реестр СИ'!J13)*12+MONTH('Реестр СИ'!J13)))>=0,MOD(((Год*12+12)-(YEAR('Реестр СИ'!J13)*12+MONTH('Реестр СИ'!J13))),MAX(1,'Реестр СИ'!H13))=0),DAY('Реестр СИ'!J13),"")) | R13: =IF('Реестр СИ'!B13="","",COUNT(F13:Q13)*N('Реестр СИ'!N13))
A14: =IF('Реестр СИ'!B14="","",'Реестр СИ'!A14) | B14: =IF('Реестр СИ'!B14="","",'Реестр СИ'!B14) | C14: =IF('Реестр СИ'!B14="","",'Реестр СИ'!C14) | D14: =IF('Реестр СИ'!B14="","",'Реестр СИ'!E14) | E14: =IF('Реестр СИ'!B14="","",'Реестр СИ'!H14) | F14: =IF(OR('Реестр СИ'!J14="",'Реестр СИ'!G14="Выведено из эксплуатации"),"",IF(AND(((Год*12+1)-(YEAR('Реестр СИ'!J14)*12+MONTH('Реестр СИ'!J14)))>=0,MOD(((Год*12+1)-(YEAR('Реестр СИ'!J14)*12+MONTH('Реестр СИ'!J14))),MAX(1,'Реестр СИ'!H14))=0),DAY('Реестр СИ'!J14),"")) | G14: =IF(OR('Реестр СИ'!J14="",'Реестр СИ'!G14="Выведено из эксплуатации"),"",IF(AND(((Год*12+2)-(YEAR('Реестр СИ'!J14)*12+MONTH('Реестр СИ'!J14)))>=0,MOD(((Год*12+2)-(YEAR('Реестр СИ'!J14)*12+MONTH('Реестр СИ'!J14))),MAX(1,'Реестр СИ'!H14))=0),DAY('Реестр СИ'!J14),"")) | H14: =IF(OR('Реестр СИ'!J14="",'Реестр СИ'!G14="Выведено из эксплуатации"),"",IF(AND(((Год*12+3)-(YEAR('Реестр СИ'!J14)*12+MONTH('Реестр СИ'!J14)))>=0,MOD(((Год*12+3)-(YEAR('Реестр СИ'!J14)*12+MONTH('Реестр СИ'!J14))),MAX(1,'Реестр СИ'!H14))=0),DAY('Реестр СИ'!J14),"")) | I14: =IF(OR('Реестр СИ'!J14="",'Реестр СИ'!G14="Выведено из эксплуатации"),"",IF(AND(((Год*12+4)-(YEAR('Реестр СИ'!J14)*12+MONTH('Реестр СИ'!J14)))>=0,MOD(((Год*12+4)-(YEAR('Реестр СИ'!J14)*12+MONTH('Реестр СИ'!J14))),MAX(1,'Реестр СИ'!H14))=0),DAY('Реестр СИ'!J14),"")) | J14: =IF(OR('Реестр СИ'!J14="",'Реестр СИ'!G14="Выведено из эксплуатации"),"",IF(AND(((Год*12+5)-(YEAR('Реестр СИ'!J14)*12+MONTH('Реестр СИ'!J14)))>=0,MOD(((Год*12+5)-(YEAR('Реестр СИ'!J14)*12+MONTH('Реестр СИ'!J14))),MAX(1,'Реестр СИ'!H14))=0),DAY('Реестр СИ'!J14),"")) | K14: =IF(OR('Реестр СИ'!J14="",'Реестр СИ'!G14="Выведено из эксплуатации"),"",IF(AND(((Год*12+6)-(YEAR('Реестр СИ'!J14)*12+MONTH('Реестр СИ'!J14)))>=0,MOD(((Год*12+6)-(YEAR('Реестр СИ'!J14)*12+MONTH('Реестр СИ'!J14))),MAX(1,'Реестр СИ'!H14))=0),DAY('Реестр СИ'!J14),"")) | L14: =IF(OR('Реестр СИ'!J14="",'Реестр СИ'!G14="Выведено из эксплуатации"),"",IF(AND(((Год*12+7)-(YEAR('Реестр СИ'!J14)*12+MONTH('Реестр СИ'!J14)))>=0,MOD(((Год*12+7)-(YEAR('Реестр СИ'!J14)*12+MONTH('Реестр СИ'!J14))),MAX(1,'Реестр СИ'!H14))=0),DAY('Реестр СИ'!J14),"")) | M14: =IF(OR('Реестр СИ'!J14="",'Реестр СИ'!G14="Выведено из эксплуатации"),"",IF(AND(((Год*12+8)-(YEAR('Реестр СИ'!J14)*12+MONTH('Реестр СИ'!J14)))>=0,MOD(((Год*12+8)-(YEAR('Реестр СИ'!J14)*12+MONTH('Реестр СИ'!J14))),MAX(1,'Реестр СИ'!H14))=0),DAY('Реестр СИ'!J14),"")) | N14: =IF(OR('Реестр СИ'!J14="",'Реестр СИ'!G14="Выведено из эксплуатации"),"",IF(AND(((Год*12+9)-(YEAR('Реестр СИ'!J14)*12+MONTH('Реестр СИ'!J14)))>=0,MOD(((Год*12+9)-(YEAR('Реестр СИ'!J14)*12+MONTH('Реестр СИ'!J14))),MAX(1,'Реестр СИ'!H14))=0),DAY('Реестр СИ'!J14),"")) | O14: =IF(OR('Реестр СИ'!J14="",'Реестр СИ'!G14="Выведено из эксплуатации"),"",IF(AND(((Год*12+10)-(YEAR('Реестр СИ'!J14)*12+MONTH('Реестр СИ'!J14)))>=0,MOD(((Год*12+10)-(YEAR('Реестр СИ'!J14)*12+MONTH('Реестр СИ'!J14))),MAX(1,'Реестр СИ'!H14))=0),DAY('Реестр СИ'!J14),"")) | P14: =IF(OR('Реестр СИ'!J14="",'Реестр СИ'!G14="Выведено из эксплуатации"),"",IF(AND(((Год*12+11)-(YEAR('Реестр СИ'!J14)*12+MONTH('Реестр СИ'!J14)))>=0,MOD(((Год*12+11)-(YEAR('Реестр СИ'!J14)*12+MONTH('Реестр СИ'!J14))),MAX(1,'Реестр СИ'!H14))=0),DAY('Реестр СИ'!J14),"")) | Q14: =IF(OR('Реестр СИ'!J14="",'Реестр СИ'!G14="Выведено из эксплуатации"),"",IF(AND(((Год*12+12)-(YEAR('Реестр СИ'!J14)*12+MONTH('Реестр СИ'!J14)))>=0,MOD(((Год*12+12)-(YEAR('Реестр СИ'!J14)*12+MONTH('Реестр СИ'!J14))),MAX(1,'Реестр СИ'!H14))=0),DAY('Реестр СИ'!J14),"")) | R14: =IF('Реестр СИ'!B14="","",COUNT(F14:Q14)*N('Реестр СИ'!N14))
A15: =IF('Реестр СИ'!B15="","",'Реестр СИ'!A15) | B15: =IF('Реестр СИ'!B15="","",'Реестр СИ'!B15) | C15: =IF('Реестр СИ'!B15="","",'Реестр СИ'!C15) | D15: =IF('Реестр СИ'!B15="","",'Реестр СИ'!E15) | E15: =IF('Реестр СИ'!B15="","",'Реестр СИ'!H15) | F15: =IF(OR('Реестр СИ'!J15="",'Реестр СИ'!G15="Выведено из эксплуатации"),"",IF(AND(((Год*12+1)-(YEAR('Реестр СИ'!J15)*12+MONTH('Реестр СИ'!J15)))>=0,MOD(((Год*12+1)-(YEAR('Реестр СИ'!J15)*12+MONTH('Реестр СИ'!J15))),MAX(1,'Реестр СИ'!H15))=0),DAY('Реестр СИ'!J15),"")) | G15: =IF(OR('Реестр СИ'!J15="",'Реестр СИ'!G15="Выведено из эксплуатации"),"",IF(AND(((Год*12+2)-(YEAR('Реестр СИ'!J15)*12+MONTH('Реестр СИ'!J15)))>=0,MOD(((Год*12+2)-(YEAR('Реестр СИ'!J15)*12+MONTH('Реестр СИ'!J15))),MAX(1,'Реестр СИ'!H15))=0),DAY('Реестр СИ'!J15),"")) | H15: =IF(OR('Реестр СИ'!J15="",'Реестр СИ'!G15="Выведено из эксплуатации"),"",IF(AND(((Год*12+3)-(YEAR('Реестр СИ'!J15)*12+MONTH('Реестр СИ'!J15)))>=0,MOD(((Год*12+3)-(YEAR('Реестр СИ'!J15)*12+MONTH('Реестр СИ'!J15))),MAX(1,'Реестр СИ'!H15))=0),DAY('Реестр СИ'!J15),"")) | I15: =IF(OR('Реестр СИ'!J15="",'Реестр СИ'!G15="Выведено из эксплуатации"),"",IF(AND(((Год*12+4)-(YEAR('Реестр СИ'!J15)*12+MONTH('Реестр СИ'!J15)))>=0,MOD(((Год*12+4)-(YEAR('Реестр СИ'!J15)*12+MONTH('Реестр СИ'!J15))),MAX(1,'Реестр СИ'!H15))=0),DAY('Реестр СИ'!J15),"")) | J15: =IF(OR('Реестр СИ'!J15="",'Реестр СИ'!G15="Выведено из эксплуатации"),"",IF(AND(((Год*12+5)-(YEAR('Реестр СИ'!J15)*12+MONTH('Реестр СИ'!J15)))>=0,MOD(((Год*12+5)-(YEAR('Реестр СИ'!J15)*12+MONTH('Реестр СИ'!J15))),MAX(1,'Реестр СИ'!H15))=0),DAY('Реестр СИ'!J15),"")) | K15: =IF(OR('Реестр СИ'!J15="",'Реестр СИ'!G15="Выведено из эксплуатации"),"",IF(AND(((Год*12+6)-(YEAR('Реестр СИ'!J15)*12+MONTH('Реестр СИ'!J15)))>=0,MOD(((Год*12+6)-(YEAR('Реестр СИ'!J15)*12+MONTH('Реестр СИ'!J15))),MAX(1,'Реестр СИ'!H15))=0),DAY('Реестр СИ'!J15),"")) | L15: =IF(OR('Реестр СИ'!J15="",'Реестр СИ'!G15="Выведено из эксплуатации"),"",IF(AND(((Год*12+7)-(YEAR('Реестр СИ'!J15)*12+MONTH('Реестр СИ'!J15)))>=0,MOD(((Год*12+7)-(YEAR('Реестр СИ'!J15)*12+MONTH('Реестр СИ'!J15))),MAX(1,'Реестр СИ'!H15))=0),DAY('Реестр СИ'!J15),"")) | M15: =IF(OR('Реестр СИ'!J15="",'Реестр СИ'!G15="Выведено из эксплуатации"),"",IF(AND(((Год*12+8)-(YEAR('Реестр СИ'!J15)*12+MONTH('Реестр СИ'!J15)))>=0,MOD(((Год*12+8)-(YEAR('Реестр СИ'!J15)*12+MONTH('Реестр СИ'!J15))),MAX(1,'Реестр СИ'!H15))=0),DAY('Реестр СИ'!J15),"")) | N15: =IF(OR('Реестр СИ'!J15="",'Реестр СИ'!G15="Выведено из эксплуатации"),"",IF(AND(((Год*12+9)-(YEAR('Реестр СИ'!J15)*12+MONTH('Реестр СИ'!J15)))>=0,MOD(((Год*12+9)-(YEAR('Реестр СИ'!J15)*12+MONTH('Реестр СИ'!J15))),MAX(1,'Реестр СИ'!H15))=0),DAY('Реестр СИ'!J15),"")) | O15: =IF(OR('Реестр СИ'!J15="",'Реестр СИ'!G15="Выведено из эксплуатации"),"",IF(AND(((Год*12+10)-(YEAR('Реестр СИ'!J15)*12+MONTH('Реестр СИ'!J15)))>=0,MOD(((Год*12+10)-(YEAR('Реестр СИ'!J15)*12+MONTH('Реестр СИ'!J15))),MAX(1,'Реестр СИ'!H15))=0),DAY('Реестр СИ'!J15),"")) | P15: =IF(OR('Реестр СИ'!J15="",'Реестр СИ'!G15="Выведено из эксплуатации"),"",IF(AND(((Год*12+11)-(YEAR('Реестр СИ'!J15)*12+MONTH('Реестр СИ'!J15)))>=0,MOD(((Год*12+11)-(YEAR('Реестр СИ'!J15)*12+MONTH('Реестр СИ'!J15))),MAX(1,'Реестр СИ'!H15))=0),DAY('Реестр СИ'!J15),"")) | Q15: =IF(OR('Реестр СИ'!J15="",'Реестр СИ'!G15="Выведено из эксплуатации"),"",IF(AND(((Год*12+12)-(YEAR('Реестр СИ'!J15)*12+MONTH('Реестр СИ'!J15)))>=0,MOD(((Год*12+12)-(YEAR('Реестр СИ'!J15)*12+MONTH('Реестр СИ'!J15))),MAX(1,'Реестр СИ'!H15))=0),DAY('Реестр СИ'!J15),"")) | R15: =IF('Реестр СИ'!B15="","",COUNT(F15:Q15)*N('Реестр СИ'!N15))
A16: =IF('Реестр СИ'!B16="","",'Реестр СИ'!A16) | B16: =IF('Реестр СИ'!B16="","",'Реестр СИ'!B16) | C16: =IF('Реестр СИ'!B16="","",'Реестр СИ'!C16) | D16: =IF('Реестр СИ'!B16="","",'Реестр СИ'!E16) | E16: =IF('Реестр СИ'!B16="","",'Реестр СИ'!H16) | F16: =IF(OR('Реестр СИ'!J16="",'Реестр СИ'!G16="Выведено из эксплуатации"),"",IF(AND(((Год*12+1)-(YEAR('Реестр СИ'!J16)*12+MONTH('Реестр СИ'!J16)))>=0,MOD(((Год*12+1)-(YEAR('Реестр СИ'!J16)*12+MONTH('Реестр СИ'!J16))),MAX(1,'Реестр СИ'!H16))=0),DAY('Реестр СИ'!J16),"")) | G16: =IF(OR('Реестр СИ'!J16="",'Реестр СИ'!G16="Выведено из эксплуатации"),"",IF(AND(((Год*12+2)-(YEAR('Реестр СИ'!J16)*12+MONTH('Реестр СИ'!J16)))>=0,MOD(((Год*12+2)-(YEAR('Реестр СИ'!J16)*12+MONTH('Реестр СИ'!J16))),MAX(1,'Реестр СИ'!H16))=0),DAY('Реестр СИ'!J16),"")) | H16: =IF(OR('Реестр СИ'!J16="",'Реестр СИ'!G16="Выведено из эксплуатации"),"",IF(AND(((Год*12+3)-(YEAR('Реестр СИ'!J16)*12+MONTH('Реестр СИ'!J16)))>=0,MOD(((Год*12+3)-(YEAR('Реестр СИ'!J16)*12+MONTH('Реестр СИ'!J16))),MAX(1,'Реестр СИ'!H16))=0),DAY('Реестр СИ'!J16),"")) | I16: =IF(OR('Реестр СИ'!J16="",'Реестр СИ'!G16="Выведено из эксплуатации"),"",IF(AND(((Год*12+4)-(YEAR('Реестр СИ'!J16)*12+MONTH('Реестр СИ'!J16)))>=0,MOD(((Год*12+4)-(YEAR('Реестр СИ'!J16)*12+MONTH('Реестр СИ'!J16))),MAX(1,'Реестр СИ'!H16))=0),DAY('Реестр СИ'!J16),"")) | J16: =IF(OR('Реестр СИ'!J16="",'Реестр СИ'!G16="Выведено из эксплуатации"),"",IF(AND(((Год*12+5)-(YEAR('Реестр СИ'!J16)*12+MONTH('Реестр СИ'!J16)))>=0,MOD(((Год*12+5)-(YEAR('Реестр СИ'!J16)*12+MONTH('Реестр СИ'!J16))),MAX(1,'Реестр СИ'!H16))=0),DAY('Реестр СИ'!J16),"")) | K16: =IF(OR('Реестр СИ'!J16="",'Реестр СИ'!G16="Выведено из эксплуатации"),"",IF(AND(((Год*12+6)-(YEAR('Реестр СИ'!J16)*12+MONTH('Реестр СИ'!J16)))>=0,MOD(((Год*12+6)-(YEAR('Реестр СИ'!J16)*12+MONTH('Реестр СИ'!J16))),MAX(1,'Реестр СИ'!H16))=0),DAY('Реестр СИ'!J16),"")) | L16: =IF(OR('Реестр СИ'!J16="",'Реестр СИ'!G16="Выведено из эксплуатации"),"",IF(AND(((Год*12+7)-(YEAR('Реестр СИ'!J16)*12+MONTH('Реестр СИ'!J16)))>=0,MOD(((Год*12+7)-(YEAR('Реестр СИ'!J16)*12+MONTH('Реестр СИ'!J16))),MAX(1,'Реестр СИ'!H16))=0),DAY('Реестр СИ'!J16),"")) | M16: =IF(OR('Реестр СИ'!J16="",'Реестр СИ'!G16="Выведено из эксплуатации"),"",IF(AND(((Год*12+8)-(YEAR('Реестр СИ'!J16)*12+MONTH('Реестр СИ'!J16)))>=0,MOD(((Год*12+8)-(YEAR('Реестр СИ'!J16)*12+MONTH('Реестр СИ'!J16))),MAX(1,'Реестр СИ'!H16))=0),DAY('Реестр СИ'!J16),"")) | N16: =IF(OR('Реестр СИ'!J16="",'Реестр СИ'!G16="Выведено из эксплуатации"),"",IF(AND(((Год*12+9)-(YEAR('Реестр СИ'!J16)*12+MONTH('Реестр СИ'!J16)))>=0,MOD(((Год*12+9)-(YEAR('Реестр СИ'!J16)*12+MONTH('Реестр СИ'!J16))),MAX(1,'Реестр СИ'!H16))=0),DAY('Реестр СИ'!J16),"")) | O16: =IF(OR('Реестр СИ'!J16="",'Реестр СИ'!G16="Выведено из эксплуатации"),"",IF(AND(((Год*12+10)-(YEAR('Реестр СИ'!J16)*12+MONTH('Реестр СИ'!J16)))>=0,MOD(((Год*12+10)-(YEAR('Реестр СИ'!J16)*12+MONTH('Реестр СИ'!J16))),MAX(1,'Реестр СИ'!H16))=0),DAY('Реестр СИ'!J16),"")) | P16: =IF(OR('Реестр СИ'!J16="",'Реестр СИ'!G16="Выведено из эксплуатации"),"",IF(AND(((Год*12+11)-(YEAR('Реестр СИ'!J16)*12+MONTH('Реестр СИ'!J16)))>=0,MOD(((Год*12+11)-(YEAR('Реестр СИ'!J16)*12+MONTH('Реестр СИ'!J16))),MAX(1,'Реестр СИ'!H16))=0),DAY('Реестр СИ'!J16),"")) | Q16: =IF(OR('Реестр СИ'!J16="",'Реестр СИ'!G16="Выведено из эксплуатации"),"",IF(AND(((Год*12+12)-(YEAR('Реестр СИ'!J16)*12+MONTH('Реестр СИ'!J16)))>=0,MOD(((Год*12+12)-(YEAR('Реестр СИ'!J16)*12+MONTH('Реестр СИ'!J16))),MAX(1,'Реестр СИ'!H16))=0),DAY('Реестр СИ'!J16),"")) | R16: =IF('Реестр СИ'!B16="","",COUNT(F16:Q16)*N('Реестр СИ'!N16))
A17: =IF('Реестр СИ'!B17="","",'Реестр СИ'!A17) | B17: =IF('Реестр СИ'!B17="","",'Реестр СИ'!B17) | C17: =IF('Реестр СИ'!B17="","",'Реестр СИ'!C17) | D17: =IF('Реестр СИ'!B17="","",'Реестр СИ'!E17) | E17: =IF('Реестр СИ'!B17="","",'Реестр СИ'!H17) | F17: =IF(OR('Реестр СИ'!J17="",'Реестр СИ'!G17="Выведено из эксплуатации"),"",IF(AND(((Год*12+1)-(YEAR('Реестр СИ'!J17)*12+MONTH('Реестр СИ'!J17)))>=0,MOD(((Год*12+1)-(YEAR('Реестр СИ'!J17)*12+MONTH('Реестр СИ'!J17))),MAX(1,'Реестр СИ'!H17))=0),DAY('Реестр СИ'!J17),"")) | G17: =IF(OR('Реестр СИ'!J17="",'Реестр СИ'!G17="Выведено из эксплуатации"),"",IF(AND(((Год*12+2)-(YEAR('Реестр СИ'!J17)*12+MONTH('Реестр СИ'!J17)))>=0,MOD(((Год*12+2)-(YEAR('Реестр СИ'!J17)*12+MONTH('Реестр СИ'!J17))),MAX(1,'Реестр СИ'!H17))=0),DAY('Реестр СИ'!J17),"")) | H17: =IF(OR('Реестр СИ'!J17="",'Реестр СИ'!G17="Выведено из эксплуатации"),"",IF(AND(((Год*12+3)-(YEAR('Реестр СИ'!J17)*12+MONTH('Реестр СИ'!J17)))>=0,MOD(((Год*12+3)-(YEAR('Реестр СИ'!J17)*12+MONTH('Реестр СИ'!J17))),MAX(1,'Реестр СИ'!H17))=0),DAY('Реестр СИ'!J17),"")) | I17: =IF(OR('Реестр СИ'!J17="",'Реестр СИ'!G17="Выведено из эксплуатации"),"",IF(AND(((Год*12+4)-(YEAR('Реестр СИ'!J17)*12+MONTH('Реестр СИ'!J17)))>=0,MOD(((Год*12+4)-(YEAR('Реестр СИ'!J17)*12+MONTH('Реестр СИ'!J17))),MAX(1,'Реестр СИ'!H17))=0),DAY('Реестр СИ'!J17),"")) | J17: =IF(OR('Реестр СИ'!J17="",'Реестр СИ'!G17="Выведено из эксплуатации"),"",IF(AND(((Год*12+5)-(YEAR('Реестр СИ'!J17)*12+MONTH('Реестр СИ'!J17)))>=0,MOD(((Год*12+5)-(YEAR('Реестр СИ'!J17)*12+MONTH('Реестр СИ'!J17))),MAX(1,'Реестр СИ'!H17))=0),DAY('Реестр СИ'!J17),"")) | K17: =IF(OR('Реестр СИ'!J17="",'Реестр СИ'!G17="Выведено из эксплуатации"),"",IF(AND(((Год*12+6)-(YEAR('Реестр СИ'!J17)*12+MONTH('Реестр СИ'!J17)))>=0,MOD(((Год*12+6)-(YEAR('Реестр СИ'!J17)*12+MONTH('Реестр СИ'!J17))),MAX(1,'Реестр СИ'!H17))=0),DAY('Реестр СИ'!J17),"")) | L17: =IF(OR('Реестр СИ'!J17="",'Реестр СИ'!G17="Выведено из эксплуатации"),"",IF(AND(((Год*12+7)-(YEAR('Реестр СИ'!J17)*12+MONTH('Реестр СИ'!J17)))>=0,MOD(((Год*12+7)-(YEAR('Реестр СИ'!J17)*12+MONTH('Реестр СИ'!J17))),MAX(1,'Реестр СИ'!H17))=0),DAY('Реестр СИ'!J17),"")) | M17: =IF(OR('Реестр СИ'!J17="",'Реестр СИ'!G17="Выведено из эксплуатации"),"",IF(AND(((Год*12+8)-(YEAR('Реестр СИ'!J17)*12+MONTH('Реестр СИ'!J17)))>=0,MOD(((Год*12+8)-(YEAR('Реестр СИ'!J17)*12+MONTH('Реестр СИ'!J17))),MAX(1,'Реестр СИ'!H17))=0),DAY('Реестр СИ'!J17),"")) | N17: =IF(OR('Реестр СИ'!J17="",'Реестр СИ'!G17="Выведено из эксплуатации"),"",IF(AND(((Год*12+9)-(YEAR('Реестр СИ'!J17)*12+MONTH('Реестр СИ'!J17)))>=0,MOD(((Год*12+9)-(YEAR('Реестр СИ'!J17)*12+MONTH('Реестр СИ'!J17))),MAX(1,'Реестр СИ'!H17))=0),DAY('Реестр СИ'!J17),"")) | O17: =IF(OR('Реестр СИ'!J17="",'Реестр СИ'!G17="Выведено из эксплуатации"),"",IF(AND(((Год*12+10)-(YEAR('Реестр СИ'!J17)*12+MONTH('Реестр СИ'!J17)))>=0,MOD(((Год*12+10)-(YEAR('Реестр СИ'!J17)*12+MONTH('Реестр СИ'!J17))),MAX(1,'Реестр СИ'!H17))=0),DAY('Реестр СИ'!J17),"")) | P17: =IF(OR('Реестр СИ'!J17="",'Реестр СИ'!G17="Выведено из эксплуатации"),"",IF(AND(((Год*12+11)-(YEAR('Реестр СИ'!J17)*12+MONTH('Реестр СИ'!J17)))>=0,MOD(((Год*12+11)-(YEAR('Реестр СИ'!J17)*12+MONTH('Реестр СИ'!J17))),MAX(1,'Реестр СИ'!H17))=0),DAY('Реестр СИ'!J17),"")) | Q17: =IF(OR('Реестр СИ'!J17="",'Реестр СИ'!G17="Выведено из эксплуатации"),"",IF(AND(((Год*12+12)-(YEAR('Реестр СИ'!J17)*12+MONTH('Реестр СИ'!J17)))>=0,MOD(((Год*12+12)-(YEAR('Реестр СИ'!J17)*12+MONTH('Реестр СИ'!J17))),MAX(1,'Реестр СИ'!H17))=0),DAY('Реестр СИ'!J17),"")) | R17: =IF('Реестр СИ'!B17="","",COUNT(F17:Q17)*N('Реестр СИ'!N17))
... A155: =IF('Реестр СИ'!B155="","",'Реестр СИ'!A155) | B155: =IF('Реестр СИ'!B155="","",'Реестр СИ'!B155) | C155: =IF('Реестр СИ'!B155="","",'Реестр СИ'!C155) | D155: =IF('Реестр СИ'!B155="","",'Реестр СИ'!E155) | E155: =IF('Реестр СИ'!B155="","",'Реестр СИ'!H155) | F155: =IF(OR('Реестр СИ'!J155="",'Реестр СИ'!G155="Выведено из эксплуатации"),"",IF(AND(((Год*12+1)-(YEAR('Реестр СИ'!J155)*12+MONTH('Реестр СИ'!J155)))>=0,MOD(((Год*12+1)-(YEAR('Реестр СИ'!J155)*12+MONTH('Реестр СИ'!J155))),MAX(1,'Реестр СИ'!H155))=0),DAY('Реестр СИ'!J155),"")) | G155: =IF(OR('Реестр СИ'!J155="",'Реестр СИ'!G155="Выведено из эксплуатации"),"",IF(AND(((Год*12+2)-(YEAR('Реестр СИ'!J155)*12+MONTH('Реестр СИ'!J155)))>=0,MOD(((Год*12+2)-(YEAR('Реестр СИ'!J155)*12+MONTH('Реестр СИ'!J155))),MAX(1,'Реестр СИ'!H155))=0),DAY('Реестр СИ'!J155),"")) | H155: =IF(OR('Реестр СИ'!J155="",'Реестр СИ'!G155="Выведено из эксплуатации"),"",IF(AND(((Год*12+3)-(YEAR('Реестр СИ'!J155)*12+MONTH('Реестр СИ'!J155)))>=0,MOD(((Год*12+3)-(YEAR('Реестр СИ'!J155)*12+MONTH('Реестр СИ'!J155))),MAX(1,'Реестр СИ'!H155))=0),DAY('Реестр СИ'!J155),"")) | I155: =IF(OR('Реестр СИ'!J155="",'Реестр СИ'!G155="Выведено из эксплуатации"),"",IF(AND(((Год*12+4)-(YEAR('Реестр СИ'!J155)*12+MONTH('Реестр СИ'!J155)))>=0,MOD(((Год*12+4)-(YEAR('Реестр СИ'!J155)*12+MONTH('Реестр СИ'!J155))),MAX(1,'Реестр СИ'!H155))=0),DAY('Реестр СИ'!J155),"")) | J155: =IF(OR('Реестр СИ'!J155="",'Реестр СИ'!G155="Выведено из эксплуатации"),"",IF(AND(((Год*12+5)-(YEAR('Реестр СИ'!J155)*12+MONTH('Реестр СИ'!J155)))>=0,MOD(((Год*12+5)-(YEAR('Реестр СИ'!J155)*12+MONTH('Реестр СИ'!J155))),MAX(1,'Реестр СИ'!H155))=0),DAY('Реестр СИ'!J155),"")) | K155: =IF(OR('Реестр СИ'!J155="",'Реестр СИ'!G155="Выведено из эксплуатации"),"",IF(AND(((Год*12+6)-(YEAR('Реестр СИ'!J155)*12+MONTH('Реестр СИ'!J155)))>=0,MOD(((Год*12+6)-(YEAR('Реестр СИ'!J155)*12+MONTH('Реестр СИ'!J155))),MAX(1,'Реестр СИ'!H155))=0),DAY('Реестр СИ'!J155),"")) | L155: =IF(OR('Реестр СИ'!J155="",'Реестр СИ'!G155="Выведено из эксплуатации"),"",IF(AND(((Год*12+7)-(YEAR('Реестр СИ'!J155)*12+MONTH('Реестр СИ'!J155)))>=0,MOD(((Год*12+7)-(YEAR('Реестр СИ'!J155)*12+MONTH('Реестр СИ'!J155))),MAX(1,'Реестр СИ'!H155))=0),DAY('Реестр СИ'!J155),"")) | M155: =IF(OR('Реестр СИ'!J155="",'Реестр СИ'!G155="Выведено из эксплуатации"),"",IF(AND(((Год*12+8)-(YEAR('Реестр СИ'!J155)*12+MONTH('Реестр СИ'!J155)))>=0,MOD(((Год*12+8)-(YEAR('Реестр СИ'!J155)*12+MONTH('Реестр СИ'!J155))),MAX(1,'Реестр СИ'!H155))=0),DAY('Реестр СИ'!J155),"")) | N155: =IF(OR('Реестр СИ'!J155="",'Реестр СИ'!G155="Выведено из эксплуатации"),"",IF(AND(((Год*12+9)-(YEAR('Реестр СИ'!J155)*12+MONTH('Реестр СИ'!J155)))>=0,MOD(((Год*12+9)-(YEAR('Реестр СИ'!J155)*12+MONTH('Реестр СИ'!J155))),MAX(1,'Реестр СИ'!H155))=0),DAY('Реестр СИ'!J155),"")) | O155: =IF(OR('Реестр СИ'!J155="",'Реестр СИ'!G155="Выведено из эксплуатации"),"",IF(AND(((Год*12+10)-(YEAR('Реестр СИ'!J155)*12+MONTH('Реестр СИ'!J155)))>=0,MOD(((Год*12+10)-(YEAR('Реестр СИ'!J155)*12+MONTH('Реестр СИ'!J155))),MAX(1,'Реестр СИ'!H155))=0),DAY('Реестр СИ'!J155),"")) | P155: =IF(OR('Реестр СИ'!J155="",'Реестр СИ'!G155="Выведено из эксплуатации"),"",IF(AND(((Год*12+11)-(YEAR('Реестр СИ'!J155)*12+MONTH('Реестр СИ'!J155)))>=0,MOD(((Год*12+11)-(YEAR('Реестр СИ'!J155)*12+MONTH('Реестр СИ'!J155))),MAX(1,'Реестр СИ'!H155))=0),DAY('Реестр СИ'!J155),"")) | Q155: =IF(OR('Реестр СИ'!J155="",'Реестр СИ'!G155="Выведено из эксплуатации"),"",IF(AND(((Год*12+12)-(YEAR('Реестр СИ'!J155)*12+MONTH('Реестр СИ'!J155)))>=0,MOD(((Год*12+12)-(YEAR('Реестр СИ'!J155)*12+MONTH('Реестр СИ'!J155))),MAX(1,'Реестр СИ'!H155))=0),DAY('Реестр СИ'!J155),"")) | R155: =IF('Реестр СИ'!B155="","",COUNT(F155:Q155)*N('Реестр СИ'!N155))
A156: Поверок в месяц | F156: =COUNT(F6:F155)+COUNTIF(F6:F155,"!") | G156: =COUNT(G6:G155)+COUNTIF(G6:G155,"!") | H156: =COUNT(H6:H155)+COUNTIF(H6:H155,"!") | I156: =COUNT(I6:I155)+COUNTIF(I6:I155,"!") | J156: =COUNT(J6:J155)+COUNTIF(J6:J155,"!") | K156: =COUNT(K6:K155)+COUNTIF(K6:K155,"!") | L156: =COUNT(L6:L155)+COUNTIF(L6:L155,"!") | M156: =COUNT(M6:M155)+COUNTIF(M6:M155,"!") | ... Q156: =COUNT(Q6:Q155)+COUNTIF(Q6:Q155,"!")
A157: Затраты в месяц, ₽ | F157: =SUMPRODUCT((ISNUMBER(F6:F155)+(F6:F155="!"))*'Реестр СИ'!N6:N155) | G157: =SUMPRODUCT((ISNUMBER(G6:G155)+(G6:G155="!"))*'Реестр СИ'!N6:N155) | H157: =SUMPRODUCT((ISNUMBER(H6:H155)+(H6:H155="!"))*'Реестр СИ'!N6:N155) | I157: =SUMPRODUCT((ISNUMBER(I6:I155)+(I6:I155="!"))*'Реестр СИ'!N6:N155) | J157: =SUMPRODUCT((ISNUMBER(J6:J155)+(J6:J155="!"))*'Реестр СИ'!N6:N155) | K157: =SUMPRODUCT((ISNUMBER(K6:K155)+(K6:K155="!"))*'Реестр СИ'!N6:N155) | L157: =SUMPRODUCT((ISNUMBER(L6:L155)+(L6:L155="!"))*'Реестр СИ'!N6:N155) | M157: =SUMPRODUCT((ISNUMBER(M6:M155)+(M6:M155="!"))*'Реестр СИ'!N6:N155) | N157: =SUMPRODUCT((ISNUMBER(N6:N155)+(N6:N155="!"))*'Реестр СИ'!N6:N155) | O157: =SUMPRODUCT((ISNUMBER(O6:O155)+(O6:O155="!"))*'Реестр СИ'!N6:N155) | P157: =SUMPRODUCT((ISNUMBER(P6:P155)+(P6:P155="!"))*'Реестр СИ'!N6:N155) | Q157: =SUMPRODUCT((ISNUMBER(Q6:Q155)+(Q6:Q155="!"))*'Реестр СИ'!N6:N155) | R157: =SUM(F157:Q157)
A159: Число в ячейке — день месяца, до которого нужно поверить. Просроченные СИ — на листе «Дашборд».

Sheet Настройки
A1: PLANT PERFORMANCE · plantperformance.ru
A2: Настройки
A3: Жёлтые ячейки — ваши значения
A5: Отчётная дата | B5: =TODAY()
A6: Год графика | B6: 2027
A7: Предупреждать за, дней (1) | B7: 30
A8: Предупреждать за, дней (2) | B8: 90
A9: Предприятие | B9: ООО «Ваш завод»
A10: Утверждает | B10: Главный метролог _____________ / И. О. Фамилия /
